Workbook
Name CalYear: Setup!$B$6
Name Channels: Setup!$B$9:$B$23
Name Formats: Setup!$C$9:$C$23
Name MonthNames: Setup!$F$9:$F$20
Name MonthNum: Calendar!$J$2
Name Pillars: Setup!$E$9:$E$23
Name Statuses: Setup!$D$9:$D$23
Name WeekStart: Setup!$C$6

Sheet Calendar
B2: January | E2: =CalYear -> 0 | F2: ▼ click the month name to switch | J2: =IFERROR(MATCH(B2,MonthNames,0),1) -> 0
B3: ="CONTENT CALENDAR · "&COUNTIFS(Posts!$B$6:$B$405,">="&DATE(CalYear,MonthNum,1),Posts!$B$6:$B$405,"<"&DATE(CalYear,MonthNum+1,1))&" POSTS PLANNED · "&COUNTIFS(Posts!$B$6:$B$405,">="&DATE(CalYear,MonthNum,1),Posts!$B$6:$B$405,"<"&DATE(CalYear,MonthNum+1,1),Posts!$H$6:$H$405,"Published")&" PUBLISHED" -> 0
B5: =IF(WeekStart="Monday",CHOOSE(1,"MON","TUE","WED","THU","FRI","SAT","SUN"),CHOOSE(1,"SUN","MON","TUE","WED","THU","FRI","SAT")) -> 0 | C5: =IF(WeekStart="Monday",CHOOSE(2,"MON","TUE","WED","THU","FRI","SAT","SUN"),CHOOSE(2,"SUN","MON","TUE","WED","THU","FRI","SAT")) -> 0 | D5: =IF(WeekStart="Monday",CHOOSE(3,"MON","TUE","WED","THU","FRI","SAT","SUN"),CHOOSE(3,"SUN","MON","TUE","WED","THU","FRI","SAT")) -> 0 | E5: =IF(WeekStart="Monday",CHOOSE(4,"MON","TUE","WED","THU","FRI","SAT","SUN"),CHOOSE(4,"SUN","MON","TUE","WED","THU","FRI","SAT")) -> 0 | F5: =IF(WeekStart="Monday",CHOOSE(5,"MON","TUE","WED","THU","FRI","SAT","SUN"),CHOOSE(5,"SUN","MON","TUE","WED","THU","FRI","SAT")) -> 0 | G5: =IF(WeekStart="Monday",CHOOSE(6,"MON","TUE","WED","THU","FRI","SAT","SUN"),CHOOSE(6,"SUN","MON","TUE","WED","THU","FRI","SAT")) -> 0 | H5: =IF(WeekStart="Monday",CHOOSE(7,"MON","TUE","WED","THU","FRI","SAT","SUN"),CHOOSE(7,"SUN","MON","TUE","WED","THU","FRI","SAT")) -> 0
B6: =DATE(CalYear,MonthNum,1)-WEEKDAY(DATE(CalYear,MonthNum,1),IF(WeekStart="Monday",2,1))+1 -> 0 | C6: =B6+1 -> 0 | D6: =C6+1 -> 0 | E6: =D6+1 -> 0 | F6: =E6+1 -> 0 | G6: =F6+1 -> 0 | H6: =G6+1 -> 0
B7: =IFERROR(INDEX(Posts!$N$6:$N$405,MATCH(B6&"|1",Posts!$M$6:$M$405,0)),"") -> 0 | C7: =IFERROR(INDEX(Posts!$N$6:$N$405,MATCH(C6&"|1",Posts!$M$6:$M$405,0)),"") -> 0 | D7: =IFERROR(INDEX(Posts!$N$6:$N$405,MATCH(D6&"|1",Posts!$M$6:$M$405,0)),"") -> 0 | E7: =IFERROR(INDEX(Posts!$N$6:$N$405,MATCH(E6&"|1",Posts!$M$6:$M$405,0)),"") -> 0 | F7: =IFERROR(INDEX(Posts!$N$6:$N$405,MATCH(F6&"|1",Posts!$M$6:$M$405,0)),"") -> 0 | G7: =IFERROR(INDEX(Posts!$N$6:$N$405,MATCH(G6&"|1",Posts!$M$6:$M$405,0)),"") -> 0 | H7: =IFERROR(INDEX(Posts!$N$6:$N$405,MATCH(H6&"|1",Posts!$M$6:$M$405,0)),"") -> 0
B8: =IFERROR(INDEX(Posts!$N$6:$N$405,MATCH(B6&"|2",Posts!$M$6:$M$405,0)),"") -> 0 | C8: =IFERROR(INDEX(Posts!$N$6:$N$405,MATCH(C6&"|2",Posts!$M$6:$M$405,0)),"") -> 0 | D8: =IFERROR(INDEX(Posts!$N$6:$N$405,MATCH(D6&"|2",Posts!$M$6:$M$405,0)),"") -> 0 | E8: =IFERROR(INDEX(Posts!$N$6:$N$405,MATCH(E6&"|2",Posts!$M$6:$M$405,0)),"") -> 0 | F8: =IFERROR(INDEX(Posts!$N$6:$N$405,MATCH(F6&"|2",Posts!$M$6:$M$405,0)),"") -> 0 | G8: =IFERROR(INDEX(Posts!$N$6:$N$405,MATCH(G6&"|2",Posts!$M$6:$M$405,0)),"") -> 0 | H8: =IFERROR(INDEX(Posts!$N$6:$N$405,MATCH(H6&"|2",Posts!$M$6:$M$405,0)),"") -> 0
B9: =IFERROR(INDEX(Posts!$N$6:$N$405,MATCH(B6&"|3",Posts!$M$6:$M$405,0)),"") -> 0 | C9: =IFERROR(INDEX(Posts!$N$6:$N$405,MATCH(C6&"|3",Posts!$M$6:$M$405,0)),"") -> 0 | D9: =IFERROR(INDEX(Posts!$N$6:$N$405,MATCH(D6&"|3",Posts!$M$6:$M$405,0)),"") -> 0 | E9: =IFERROR(INDEX(Posts!$N$6:$N$405,MATCH(E6&"|3",Posts!$M$6:$M$405,0)),"") -> 0 | F9: =IFERROR(INDEX(Posts!$N$6:$N$405,MATCH(F6&"|3",Posts!$M$6:$M$405,0)),"") -> 0 | G9: =IFERROR(INDEX(Posts!$N$6:$N$405,MATCH(G6&"|3",Posts!$M$6:$M$405,0)),"") -> 0 | H9: =IFERROR(INDEX(Posts!$N$6:$N$405,MATCH(H6&"|3",Posts!$M$6:$M$405,0)),"") -> 0
B10: =IF(COUNTIF(Posts!$B$6:$B$405,B6)>3,"+"&(COUNTIF(Posts!$B$6:$B$405,B6)-3)&" more","") -> 0 | C10: =IF(COUNTIF(Posts!$B$6:$B$405,C6)>3,"+"&(COUNTIF(Posts!$B$6:$B$405,C6)-3)&" more","") -> 0 | D10: =IF(COUNTIF(Posts!$B$6:$B$405,D6)>3,"+"&(COUNTIF(Posts!$B$6:$B$405,D6)-3)&" more","") -> 0 | E10: =IF(COUNTIF(Posts!$B$6:$B$405,E6)>3,"+"&(COUNTIF(Posts!$B$6:$B$405,E6)-3)&" more","") -> 0 | F10: =IF(COUNTIF(Posts!$B$6:$B$405,F6)>3,"+"&(COUNTIF(Posts!$B$6:$B$405,F6)-3)&" more","") -> 0 | G10: =IF(COUNTIF(Posts!$B$6:$B$405,G6)>3,"+"&(COUNTIF(Posts!$B$6:$B$405,G6)-3)&" more","") -> 0 | H10: =IF(COUNTIF(Posts!$B$6:$B$405,H6)>3,"+"&(COUNTIF(Posts!$B$6:$B$405,H6)-3)&" more","") -> 0
B11: =H6+1 -> 0 | C11: =B11+1 -> 0 | D11: =C11+1 -> 0 | E11: =D11+1 -> 0 | F11: =E11+1 -> 0 | G11: =F11+1 -> 0 | H11: =G11+1 -> 0
B12: =IFERROR(INDEX(Posts!$N$6:$N$405,MATCH(B11&"|1",Posts!$M$6:$M$405,0)),"") -> 0 | C12: =IFERROR(INDEX(Posts!$N$6:$N$405,MATCH(C11&"|1",Posts!$M$6:$M$405,0)),"") -> 0 | D12: =IFERROR(INDEX(Posts!$N$6:$N$405,MATCH(D11&"|1",Posts!$M$6:$M$405,0)),"") -> 0 | E12: =IFERROR(INDEX(Posts!$N$6:$N$405,MATCH(E11&"|1",Posts!$M$6:$M$405,0)),"") -> 0 | F12: =IFERROR(INDEX(Posts!$N$6:$N$405,MATCH(F11&"|1",Posts!$M$6:$M$405,0)),"") -> 0 | G12: =IFERROR(INDEX(Posts!$N$6:$N$405,MATCH(G11&"|1",Posts!$M$6:$M$405,0)),"") -> 0 | H12: =IFERROR(INDEX(Posts!$N$6:$N$405,MATCH(H11&"|1",Posts!$M$6:$M$405,0)),"") -> 0
B13: =IFERROR(INDEX(Posts!$N$6:$N$405,MATCH(B11&"|2",Posts!$M$6:$M$405,0)),"") -> 0 | C13: =IFERROR(INDEX(Posts!$N$6:$N$405,MATCH(C11&"|2",Posts!$M$6:$M$405,0)),"") -> 0 | D13: =IFERROR(INDEX(Posts!$N$6:$N$405,MATCH(D11&"|2",Posts!$M$6:$M$405,0)),"") -> 0 | E13: =IFERROR(INDEX(Posts!$N$6:$N$405,MATCH(E11&"|2",Posts!$M$6:$M$405,0)),"") -> 0 | F13: =IFERROR(INDEX(Posts!$N$6:$N$405,MATCH(F11&"|2",Posts!$M$6:$M$405,0)),"") -> 0 | G13: =IFERROR(INDEX(Posts!$N$6:$N$405,MATCH(G11&"|2",Posts!$M$6:$M$405,0)),"") -> 0 | H13: =IFERROR(INDEX(Posts!$N$6:$N$405,MATCH(H11&"|2",Posts!$M$6:$M$405,0)),"") -> 0
B14: =IFERROR(INDEX(Posts!$N$6:$N$405,MATCH(B11&"|3",Posts!$M$6:$M$405,0)),"") -> 0 | C14: =IFERROR(INDEX(Posts!$N$6:$N$405,MATCH(C11&"|3",Posts!$M$6:$M$405,0)),"") -> 0 | D14: =IFERROR(INDEX(Posts!$N$6:$N$405,MATCH(D11&"|3",Posts!$M$6:$M$405,0)),"") -> 0 | E14: =IFERROR(INDEX(Posts!$N$6:$N$405,MATCH(E11&"|3",Posts!$M$6:$M$405,0)),"") -> 0 | F14: =IFERROR(INDEX(Posts!$N$6:$N$405,MATCH(F11&"|3",Posts!$M$6:$M$405,0)),"") -> 0 | G14: =IFERROR(INDEX(Posts!$N$6:$N$405,MATCH(G11&"|3",Posts!$M$6:$M$405,0)),"") -> 0 | H14: =IFERROR(INDEX(Posts!$N$6:$N$405,MATCH(H11&"|3",Posts!$M$6:$M$405,0)),"") -> 0
B15: =IF(COUNTIF(Posts!$B$6:$B$405,B11)>3,"+"&(COUNTIF(Posts!$B$6:$B$405,B11)-3)&" more","") -> 0 | C15: =IF(COUNTIF(Posts!$B$6:$B$405,C11)>3,"+"&(COUNTIF(Posts!$B$6:$B$405,C11)-3)&" more","") -> 0 | D15: =IF(COUNTIF(Posts!$B$6:$B$405,D11)>3,"+"&(COUNTIF(Posts!$B$6:$B$405,D11)-3)&" more","") -> 0 | E15: =IF(COUNTIF(Posts!$B$6:$B$405,E11)>3,"+"&(COUNTIF(Posts!$B$6:$B$405,E11)-3)&" more","") -> 0 | F15: =IF(COUNTIF(Posts!$B$6:$B$405,F11)>3,"+"&(COUNTIF(Posts!$B$6:$B$405,F11)-3)&" more","") -> 0 | G15: =IF(COUNTIF(Posts!$B$6:$B$405,G11)>3,"+"&(COUNTIF(Posts!$B$6:$B$405,G11)-3)&" more","") -> 0 | H15: =IF(COUNTIF(Posts!$B$6:$B$405,H11)>3,"+"&(COUNTIF(Posts!$B$6:$B$405,H11)-3)&" more","") -> 0
B16: =H11+1 -> 0 | C16: =B16+1 -> 0 | D16: =C16+1 -> 0 | E16: =D16+1 -> 0 | F16: =E16+1 -> 0 | G16: =F16+1 -> 0 | H16: =G16+1 -> 0
B17: =IFERROR(INDEX(Posts!$N$6:$N$405,MATCH(B16&"|1",Posts!$M$6:$M$405,0)),"") -> 0 | C17: =IFERROR(INDEX(Posts!$N$6:$N$405,MATCH(C16&"|1",Posts!$M$6:$M$405,0)),"") -> 0 | D17: =IFERROR(INDEX(Posts!$N$6:$N$405,MATCH(D16&"|1",Posts!$M$6:$M$405,0)),"") -> 0 | E17: =IFERROR(INDEX(Posts!$N$6:$N$405,MATCH(E16&"|1",Posts!$M$6:$M$405,0)),"") -> 0 | F17: =IFERROR(INDEX(Posts!$N$6:$N$405,MATCH(F16&"|1",Posts!$M$6:$M$405,0)),"") -> 0 | G17: =IFERROR(INDEX(Posts!$N$6:$N$405,MATCH(G16&"|1",Posts!$M$6:$M$405,0)),"") -> 0 | H17: =IFERROR(INDEX(Posts!$N$6:$N$405,MATCH(H16&"|1",Posts!$M$6:$M$405,0)),"") -> 0
B18: =IFERROR(INDEX(Posts!$N$6:$N$405,MATCH(B16&"|2",Posts!$M$6:$M$405,0)),"") -> 0 | C18: =IFERROR(INDEX(Posts!$N$6:$N$405,MATCH(C16&"|2",Posts!$M$6:$M$405,0)),"") -> 0 | D18: =IFERROR(INDEX(Posts!$N$6:$N$405,MATCH(D16&"|2",Posts!$M$6:$M$405,0)),"") -> 0 | E18: =IFERROR(INDEX(Posts!$N$6:$N$405,MATCH(E16&"|2",Posts!$M$6:$M$405,0)),"") -> 0 | F18: =IFERROR(INDEX(Posts!$N$6:$N$405,MATCH(F16&"|2",Posts!$M$6:$M$405,0)),"") -> 0 | G18: =IFERROR(INDEX(Posts!$N$6:$N$405,MATCH(G16&"|2",Posts!$M$6:$M$405,0)),"") -> 0 | H18: =IFERROR(INDEX(Posts!$N$6:$N$405,MATCH(H16&"|2",Posts!$M$6:$M$405,0)),"") -> 0
B19: =IFERROR(INDEX(Posts!$N$6:$N$405,MATCH(B16&"|3",Posts!$M$6:$M$405,0)),"") -> 0 | C19: =IFERROR(INDEX(Posts!$N$6:$N$405,MATCH(C16&"|3",Posts!$M$6:$M$405,0)),"") -> 0 | D19: =IFERROR(INDEX(Posts!$N$6:$N$405,MATCH(D16&"|3",Posts!$M$6:$M$405,0)),"") -> 0 | E19: =IFERROR(INDEX(Posts!$N$6:$N$405,MATCH(E16&"|3",Posts!$M$6:$M$405,0)),"") -> 0 | F19: =IFERROR(INDEX(Posts!$N$6:$N$405,MATCH(F16&"|3",Posts!$M$6:$M$405,0)),"") -> 0 | G19: =IFERROR(INDEX(Posts!$N$6:$N$405,MATCH(G16&"|3",Posts!$M$6:$M$405,0)),"") -> 0 | H19: =IFERROR(INDEX(Posts!$N$6:$N$405,MATCH(H16&"|3",Posts!$M$6:$M$405,0)),"") -> 0
B20: =IF(COUNTIF(Posts!$B$6:$B$405,B16)>3,"+"&(COUNTIF(Posts!$B$6:$B$405,B16)-3)&" more","") -> 0 | C20: =IF(COUNTIF(Posts!$B$6:$B$405,C16)>3,"+"&(COUNTIF(Posts!$B$6:$B$405,C16)-3)&" more","") -> 0 | D20: =IF(COUNTIF(Posts!$B$6:$B$405,D16)>3,"+"&(COUNTIF(Posts!$B$6:$B$405,D16)-3)&" more","") -> 0 | E20: =IF(COUNTIF(Posts!$B$6:$B$405,E16)>3,"+"&(COUNTIF(Posts!$B$6:$B$405,E16)-3)&" more","") -> 0 | F20: =IF(COUNTIF(Posts!$B$6:$B$405,F16)>3,"+"&(COUNTIF(Posts!$B$6:$B$405,F16)-3)&" more","") -> 0 | G20: =IF(COUNTIF(Posts!$B$6:$B$405,G16)>3,"+"&(COUNTIF(Posts!$B$6:$B$405,G16)-3)&" more","") -> 0 | H20: =IF(COUNTIF(Posts!$B$6:$B$405,H16)>3,"+"&(COUNTIF(Posts!$B$6:$B$405,H16)-3)&" more","") -> 0
B21: =H16+1 -> 0 | C21: =B21+1 -> 0 | D21: =C21+1 -> 0 | E21: =D21+1 -> 0 | F21: =E21+1 -> 0 | G21: =F21+1 -> 0 | H21: =G21+1 -> 0
B22: =IFERROR(INDEX(Posts!$N$6:$N$405,MATCH(B21&"|1",Posts!$M$6:$M$405,0)),"") -> 0 | C22: =IFERROR(INDEX(Posts!$N$6:$N$405,MATCH(C21&"|1",Posts!$M$6:$M$405,0)),"") -> 0 | D22: =IFERROR(INDEX(Posts!$N$6:$N$405,MATCH(D21&"|1",Posts!$M$6:$M$405,0)),"") -> 0 | E22: =IFERROR(INDEX(Posts!$N$6:$N$405,MATCH(E21&"|1",Posts!$M$6:$M$405,0)),"") -> 0 | F22: =IFERROR(INDEX(Posts!$N$6:$N$405,MATCH(F21&"|1",Posts!$M$6:$M$405,0)),"") -> 0 | G22: =IFERROR(INDEX(Posts!$N$6:$N$405,MATCH(G21&"|1",Posts!$M$6:$M$405,0)),"") -> 0 | H22: =IFERROR(INDEX(Posts!$N$6:$N$405,MATCH(H21&"|1",Posts!$M$6:$M$405,0)),"") -> 0
B23: =IFERROR(INDEX(Posts!$N$6:$N$405,MATCH(B21&"|2",Posts!$M$6:$M$405,0)),"") -> 0 | C23: =IFERROR(INDEX(Posts!$N$6:$N$405,MATCH(C21&"|2",Posts!$M$6:$M$405,0)),"") -> 0 | D23: =IFERROR(INDEX(Posts!$N$6:$N$405,MATCH(D21&"|2",Posts!$M$6:$M$405,0)),"") -> 0 | E23: =IFERROR(INDEX(Posts!$N$6:$N$405,MATCH(E21&"|2",Posts!$M$6:$M$405,0)),"") -> 0 | F23: =IFERROR(INDEX(Posts!$N$6:$N$405,MATCH(F21&"|2",Posts!$M$6:$M$405,0)),"") -> 0 | G23: =IFERROR(INDEX(Posts!$N$6:$N$405,MATCH(G21&"|2",Posts!$M$6:$M$405,0)),"") -> 0 | H23: =IFERROR(INDEX(Posts!$N$6:$N$405,MATCH(H21&"|2",Posts!$M$6:$M$405,0)),"") -> 0
B24: =IFERROR(INDEX(Posts!$N$6:$N$405,MATCH(B21&"|3",Posts!$M$6:$M$405,0)),"") -> 0 | C24: =IFERROR(INDEX(Posts!$N$6:$N$405,MATCH(C21&"|3",Posts!$M$6:$M$405,0)),"") -> 0 | D24: =IFERROR(INDEX(Posts!$N$6:$N$405,MATCH(D21&"|3",Posts!$M$6:$M$405,0)),"") -> 0 | E24: =IFERROR(INDEX(Posts!$N$6:$N$405,MATCH(E21&"|3",Posts!$M$6:$M$405,0)),"") -> 0 | F24: =IFERROR(INDEX(Posts!$N$6:$N$405,MATCH(F21&"|3",Posts!$M$6:$M$405,0)),"") -> 0 | G24: =IFERROR(INDEX(Posts!$N$6:$N$405,MATCH(G21&"|3",Posts!$M$6:$M$405,0)),"") -> 0 | H24: =IFERROR(INDEX(Posts!$N$6:$N$405,MATCH(H21&"|3",Posts!$M$6:$M$405,0)),"") -> 0
B25: =IF(COUNTIF(Posts!$B$6:$B$405,B21)>3,"+"&(COUNTIF(Posts!$B$6:$B$405,B21)-3)&" more","") -> 0 | C25: =IF(COUNTIF(Posts!$B$6:$B$405,C21)>3,"+"&(COUNTIF(Posts!$B$6:$B$405,C21)-3)&" more","") -> 0 | D25: =IF(COUNTIF(Posts!$B$6:$B$405,D21)>3,"+"&(COUNTIF(Posts!$B$6:$B$405,D21)-3)&" more","") -> 0 | E25: =IF(COUNTIF(Posts!$B$6:$B$405,E21)>3,"+"&(COUNTIF(Posts!$B$6:$B$405,E21)-3)&" more","") -> 0 | F25: =IF(COUNTIF(Posts!$B$6:$B$405,F21)>3,"+"&(COUNTIF(Posts!$B$6:$B$405,F21)-3)&" more","") -> 0 | G25: =IF(COUNTIF(Posts!$B$6:$B$405,G21)>3,"+"&(COUNTIF(Posts!$B$6:$B$405,G21)-3)&" more","") -> 0 | H25: =IF(COUNTIF(Posts!$B$6:$B$405,H21)>3,"+"&(COUNTIF(Posts!$B$6:$B$405,H21)-3)&" more","") -> 0
B26: =H21+1 -> 0 | C26: =B26+1 -> 0 | D26: =C26+1 -> 0 | E26: =D26+1 -> 0 | F26: =E26+1 -> 0 | G26: =F26+1 -> 0 | H26: =G26+1 -> 0
B27: =IFERROR(INDEX(Posts!$N$6:$N$405,MATCH(B26&"|1",Posts!$M$6:$M$405,0)),"") -> 0 | C27: =IFERROR(INDEX(Posts!$N$6:$N$405,MATCH(C26&"|1",Posts!$M$6:$M$405,0)),"") -> 0 | D27: =IFERROR(INDEX(Posts!$N$6:$N$405,MATCH(D26&"|1",Posts!$M$6:$M$405,0)),"") -> 0 | E27: =IFERROR(INDEX(Posts!$N$6:$N$405,MATCH(E26&"|1",Posts!$M$6:$M$405,0)),"") -> 0 | F27: =IFERROR(INDEX(Posts!$N$6:$N$405,MATCH(F26&"|1",Posts!$M$6:$M$405,0)),"") -> 0 | G27: =IFERROR(INDEX(Posts!$N$6:$N$405,MATCH(G26&"|1",Posts!$M$6:$M$405,0)),"") -> 0 | H27: =IFERROR(INDEX(Posts!$N$6:$N$405,MATCH(H26&"|1",Posts!$M$6:$M$405,0)),"") -> 0
B28: =IFERROR(INDEX(Posts!$N$6:$N$405,MATCH(B26&"|2",Posts!$M$6:$M$405,0)),"") -> 0 | C28: =IFERROR(INDEX(Posts!$N$6:$N$405,MATCH(C26&"|2",Posts!$M$6:$M$405,0)),"") -> 0 | D28: =IFERROR(INDEX(Posts!$N$6:$N$405,MATCH(D26&"|2",Posts!$M$6:$M$405,0)),"") -> 0 | E28: =IFERROR(INDEX(Posts!$N$6:$N$405,MATCH(E26&"|2",Posts!$M$6:$M$405,0)),"") -> 0 | F28: =IFERROR(INDEX(Posts!$N$6:$N$405,MATCH(F26&"|2",Posts!$M$6:$M$405,0)),"") -> 0 | G28: =IFERROR(INDEX(Posts!$N$6:$N$405,MATCH(G26&"|2",Posts!$M$6:$M$405,0)),"") -> 0 | H28: =IFERROR(INDEX(Posts!$N$6:$N$405,MATCH(H26&"|2",Posts!$M$6:$M$405,0)),"") -> 0
B29: =IFERROR(INDEX(Posts!$N$6:$N$405,MATCH(B26&"|3",Posts!$M$6:$M$405,0)),"") -> 0 | C29: =IFERROR(INDEX(Posts!$N$6:$N$405,MATCH(C26&"|3",Posts!$M$6:$M$405,0)),"") -> 0 | D29: =IFERROR(INDEX(Posts!$N$6:$N$405,MATCH(D26&"|3",Posts!$M$6:$M$405,0)),"") -> 0 | E29: =IFERROR(INDEX(Posts!$N$6:$N$405,MATCH(E26&"|3",Posts!$M$6:$M$405,0)),"") -> 0 | F29: =IFERROR(INDEX(Posts!$N$6:$N$405,MATCH(F26&"|3",Posts!$M$6:$M$405,0)),"") -> 0 | G29: =IFERROR(INDEX(Posts!$N$6:$N$405,MATCH(G26&"|3",Posts!$M$6:$M$405,0)),"") -> 0 | H29: =IFERROR(INDEX(Posts!$N$6:$N$405,MATCH(H26&"|3",Posts!$M$6:$M$405,0)),"") -> 0
B30: =IF(COUNTIF(Posts!$B$6:$B$405,B26)>3,"+"&(COUNTIF(Posts!$B$6:$B$405,B26)-3)&" more","") -> 0 | C30: =IF(COUNTIF(Posts!$B$6:$B$405,C26)>3,"+"&(COUNTIF(Posts!$B$6:$B$405,C26)-3)&" more","") -> 0 | D30: =IF(COUNTIF(Posts!$B$6:$B$405,D26)>3,"+"&(COUNTIF(Posts!$B$6:$B$405,D26)-3)&" more","") -> 0 | E30: =IF(COUNTIF(Posts!$B$6:$B$405,E26)>3,"+"&(COUNTIF(Posts!$B$6:$B$405,E26)-3)&" more","") -> 0 | F30: =IF(COUNTIF(Posts!$B$6:$B$405,F26)>3,"+"&(COUNTIF(Posts!$B$6:$B$405,F26)-3)&" more","") -> 0 | G30: =IF(COUNTIF(Posts!$B$6:$B$405,G26)>3,"+"&(COUNTIF(Posts!$B$6:$B$405,G26)-3)&" more","") -> 0 | H30: =IF(COUNTIF(Posts!$B$6:$B$405,H26)>3,"+"&(COUNTIF(Posts!$B$6:$B$405,H26)-3)&" more","") -> 0
B31: =H26+1 -> 0 | C31: =B31+1 -> 0 | D31: =C31+1 -> 0 | E31: =D31+1 -> 0 | F31: =E31+1 -> 0 | G31: =F31+1 -> 0 | H31: =G31+1 -> 0
B32: =IFERROR(INDEX(Posts!$N$6:$N$405,MATCH(B31&"|1",Posts!$M$6:$M$405,0)),"") -> 0 | C32: =IFERROR(INDEX(Posts!$N$6:$N$405,MATCH(C31&"|1",Posts!$M$6:$M$405,0)),"") -> 0 | D32: =IFERROR(INDEX(Posts!$N$6:$N$405,MATCH(D31&"|1",Posts!$M$6:$M$405,0)),"") -> 0 | E32: =IFERROR(INDEX(Posts!$N$6:$N$405,MATCH(E31&"|1",Posts!$M$6:$M$405,0)),"") -> 0 | F32: =IFERROR(INDEX(Posts!$N$6:$N$405,MATCH(F31&"|1",Posts!$M$6:$M$405,0)),"") -> 0 | G32: =IFERROR(INDEX(Posts!$N$6:$N$405,MATCH(G31&"|1",Posts!$M$6:$M$405,0)),"") -> 0 | H32: =IFERROR(INDEX(Posts!$N$6:$N$405,MATCH(H31&"|1",Posts!$M$6:$M$405,0)),"") -> 0
B33: =IFERROR(INDEX(Posts!$N$6:$N$405,MATCH(B31&"|2",Posts!$M$6:$M$405,0)),"") -> 0 | C33: =IFERROR(INDEX(Posts!$N$6:$N$405,MATCH(C31&"|2",Posts!$M$6:$M$405,0)),"") -> 0 | D33: =IFERROR(INDEX(Posts!$N$6:$N$405,MATCH(D31&"|2",Posts!$M$6:$M$405,0)),"") -> 0 | E33: =IFERROR(INDEX(Posts!$N$6:$N$405,MATCH(E31&"|2",Posts!$M$6:$M$405,0)),"") -> 0 | F33: =IFERROR(INDEX(Posts!$N$6:$N$405,MATCH(F31&"|2",Posts!$M$6:$M$405,0)),"") -> 0 | G33: =IFERROR(INDEX(Posts!$N$6:$N$405,MATCH(G31&"|2",Posts!$M$6:$M$405,0)),"") -> 0 | H33: =IFERROR(INDEX(Posts!$N$6:$N$405,MATCH(H31&"|2",Posts!$M$6:$M$405,0)),"") -> 0
B34: =IFERROR(INDEX(Posts!$N$6:$N$405,MATCH(B31&"|3",Posts!$M$6:$M$405,0)),"") -> 0 | C34: =IFERROR(INDEX(Posts!$N$6:$N$405,MATCH(C31&"|3",Posts!$M$6:$M$405,0)),"") -> 0 | D34: =IFERROR(INDEX(Posts!$N$6:$N$405,MATCH(D31&"|3",Posts!$M$6:$M$405,0)),"") -> 0 | E34: =IFERROR(INDEX(Posts!$N$6:$N$405,MATCH(E31&"|3",Posts!$M$6:$M$405,0)),"") -> 0 | F34: =IFERROR(INDEX(Posts!$N$6:$N$405,MATCH(F31&"|3",Posts!$M$6:$M$405,0)),"") -> 0 | G34: =IFERROR(INDEX(Posts!$N$6:$N$405,MATCH(G31&"|3",Posts!$M$6:$M$405,0)),"") -> 0 | H34: =IFERROR(INDEX(Posts!$N$6:$N$405,MATCH(H31&"|3",Posts!$M$6:$M$405,0)),"") -> 0
B35: =IF(COUNTIF(Posts!$B$6:$B$405,B31)>3,"+"&(COUNTIF(Posts!$B$6:$B$405,B31)-3)&" more","") -> 0 | C35: =IF(COUNTIF(Posts!$B$6:$B$405,C31)>3,"+"&(COUNTIF(Posts!$B$6:$B$405,C31)-3)&" more","") -> 0 | D35: =IF(COUNTIF(Posts!$B$6:$B$405,D31)>3,"+"&(COUNTIF(Posts!$B$6:$B$405,D31)-3)&" more","") -> 0 | E35: =IF(COUNTIF(Posts!$B$6:$B$405,E31)>3,"+"&(COUNTIF(Posts!$B$6:$B$405,E31)-3)&" more","") -> 0 | F35: =IF(COUNTIF(Posts!$B$6:$B$405,F31)>3,"+"&(COUNTIF(Posts!$B$6:$B$405,F31)-3)&" more","") -> 0 | G35: =IF(COUNTIF(Posts!$B$6:$B$405,G31)>3,"+"&(COUNTIF(Posts!$B$6:$B$405,G31)-3)&" more","") -> 0 | H35: =IF(COUNTIF(Posts!$B$6:$B$405,H31)>3,"+"&(COUNTIF(Posts!$B$6:$B$405,H31)-3)&" more","") -> 0
B36: ✓ = published · niftyshelf.com

Sheet Posts
B2: Content log
B3: One row per post. Dates, dropdowns and the Calendar tab all stay in sync.
B5: DATE | C5: DAY | D5: CHANNEL | E5: FORMAT | F5: TITLE / HOOK | G5: PILLAR | H5: STATUS | I5: OWNER | J5: LINK | K5: NOTES | M5: KEY (auto) | N5: LABEL (auto)
B6: 46391 | C6: =IF(B6="","",CHOOSE(WEEKDAY(B6),"Sun","Mon","Tue","Wed","Thu","Fri","Sat")) -> 0 | D6: Blog | E6: Tips / list | F6: 10 small habits for a calmer January | G6: Educate | H6: Published | I6: Sam | M6: =IF(B6="","",B6&"|"&COUNTIF($B$6:B6,B6)) -> 0 | N6: =IF(B6="","",IF(H6="Published","✓ ","")&IF(D6="","",D6&" · ")&F6) -> 0
B7: 46391 | C7: =IF(B7="","",CHOOSE(WEEKDAY(B7),"Sun","Mon","Tue","Wed","Thu","Fri","Sat")) -> 0 | D7: Short video | E7: Repurpose | F7: Cut-down: 3 habits in 30 seconds | G7: Educate | H7: Published | I7: Ari | M7: =IF(B7="","",B7&"|"&COUNTIF($B$6:B7,B7)) -> 0 | N7: =IF(B7="","",IF(H7="Published","✓ ","")&IF(D7="","",D7&" · ")&F7) -> 0
B8: 46393 | C8: =IF(B8="","",CHOOSE(WEEKDAY(B8),"Sun","Mon","Tue","Wed","Thu","Fri","Sat")) -> 0 | D8: Newsletter | E8: Story | F8: What we learned in 2026 | G8: Community | H8: Published | I8: Sam | M8: =IF(B8="","",B8&"|"&COUNTIF($B$6:B8,B8)) -> 0 | N8: =IF(B8="","",IF(H8="Published","✓ ","")&IF(D8="","",D8&" · ")&F8) -> 0
B9: 46395 | C9: =IF(B9="","",CHOOSE(WEEKDAY(B9),"Sun","Mon","Tue","Wed","Thu","Fri","Sat")) -> 0 | D9: Photo post | E9: Behind the scenes | F9: Studio desk setup tour | G9: Inspire | H9: Scheduled | I9: Ari | M9: =IF(B9="","",B9&"|"&COUNTIF($B$6:B9,B9)) -> 0 | N9: =IF(B9="","",IF(H9="Published","✓ ","")&IF(D9="","",D9&" · ")&F9) -> 0
B10: 46399 | C10: =IF(B10="","",CHOOSE(WEEKDAY(B10),"Sun","Mon","Tue","Wed","Thu","Fri","Sat")) -> 0 | D10: Video | E10: Tutorial | F10: Plan your year in one afternoon | G10: Educate | H10: Scheduled | I10: Sam | M10: =IF(B10="","",B10&"|"&COUNTIF($B$6:B10,B10)) -> 0 | N10: =IF(B10="","",IF(H10="Published","✓ ","")&IF(D10="","",D10&" · ")&F10) -> 0
B11: 46399 | C11: =IF(B11="","",CHOOSE(WEEKDAY(B11),"Sun","Mon","Tue","Wed","Thu","Fri","Sat")) -> 0 | D11: Stories | E11: Q&A | F11: Ask me anything: planning edition | G11: Community | H11: Ready | I11: Ari | M11: =IF(B11="","",B11&"|"&COUNTIF($B$6:B11,B11)) -> 0 | N11: =IF(B11="","",IF(H11="Published","✓ ","")&IF(D11="","",D11&" · ")&F11) -> 0
B12: 46402 | C12: =IF(B12="","",CHOOSE(WEEKDAY(B12),"Sun","Mon","Tue","Wed","Thu","Fri","Sat")) -> 0 | D12: Blog | E12: Review | F12: Notebook vs. app: an honest comparison | G12: Educate | H12: Drafting | I12: Sam | M12: =IF(B12="","",B12&"|"&COUNTIF($B$6:B12,B12)) -> 0 | N12: =IF(B12="","",IF(H12="Published","✓ ","")&IF(D12="","",D12&" · ")&F12) -> 0
B13: 46406 | C13: =IF(B13="","",CHOOSE(WEEKDAY(B13),"Sun","Mon","Tue","Wed","Thu","Fri","Sat")) -> 0 | D13: Short video | E13: Tips / list | F13: 3 desk tweaks for focus | G13: Inspire | H13: Drafting | I13: Ari | M13: =IF(B13="","",B13&"|"&COUNTIF($B$6:B13,B13)) -> 0 | N13: =IF(B13="","",IF(H13="Published","✓ ","")&IF(D13="","",D13&" · ")&F13) -> 0
B14: 46408 | C14: =IF(B14="","",CHOOSE(WEEKDAY(B14),"Sun","Mon","Tue","Wed","Thu","Fri","Sat")) -> 0 | D14: Podcast | E14: Collab | F14: Guest chat: building routines | G14: Community | H14: Idea | I14: Sam | M14: =IF(B14="","",B14&"|"&COUNTIF($B$6:B14,B14)) -> 0 | N14: =IF(B14="","",IF(H14="Published","✓ ","")&IF(D14="","",D14&" · ")&F14) -> 0
B15: 46412 | C15: =IF(B15="","",CHOOSE(WEEKDAY(B15),"Sun","Mon","Tue","Wed","Thu","Fri","Sat")) -> 0 | D15: Photo post | E15: Promo | F15: New printable launch teaser | G15: Promote | H15: Idea | I15: Ari | M15: =IF(B15="","",B15&"|"&COUNTIF($B$6:B15,B15)) -> 0 | N15: =IF(B15="","",IF(H15="Published","✓ ","")&IF(D15="","",D15&" · ")&F15) -> 0
B16: 46414 | C16: =IF(B16="","",CHOOSE(WEEKDAY(B16),"Sun","Mon","Tue","Wed","Thu","Fri","Sat")) -> 0 | D16: Newsletter | E16: Announcement | F16: February preview + freebie | G16: Promote | H16: Idea | I16: Sam | M16: =IF(B16="","",B16&"|"&COUNTIF($B$6:B16,B16)) -> 0 | N16: =IF(B16="","",IF(H16="Published","✓ ","")&IF(D16="","",D16&" · ")&F16) -> 0
B17: 46416 | C17: =IF(B17="","",CHOOSE(WEEKDAY(B17),"Sun","Mon","Tue","Wed","Thu","Fri","Sat")) -> 0 | D17: Live | E17: Q&A | F17: Monthly reset live session | G17: Community | H17: Idea | I17: Ari | M17: =IF(B17="","",B17&"|"&COUNTIF($B$6:B17,B17)) -> 0 | N17: =IF(B17="","",IF(H17="Published","✓ ","")&IF(D17="","",D17&" · ")&F17) -> 0
C18: =IF(B18="","",CHOOSE(WEEKDAY(B18),"Sun","Mon","Tue","Wed","Thu","Fri","Sat")) -> 0 | M18: =IF(B18="","",B18&"|"&COUNTIF($B$6:B18,B18)) -> 0 | N18: =IF(B18="","",IF(H18="Published","✓ ","")&IF(D18="","",D18&" · ")&F18) -> 0
C19: =IF(B19="","",CHOOSE(WEEKDAY(B19),"Sun","Mon","Tue","Wed","Thu","Fri","Sat")) -> 0 | M19: =IF(B19="","",B19&"|"&COUNTIF($B$6:B19,B19)) -> 0 | N19: =IF(B19="","",IF(H19="Published","✓ ","")&IF(D19="","",D19&" · ")&F19) -> 0
C20: =IF(B20="","",CHOOSE(WEEKDAY(B20),"Sun","Mon","Tue","Wed","Thu","Fri","Sat")) -> 0 | M20: =IF(B20="","",B20&"|"&COUNTIF($B$6:B20,B20)) -> 0 | N20: =IF(B20="","",IF(H20="Published","✓ ","")&IF(D20="","",D20&" · ")&F20) -> 0
C21: =IF(B21="","",CHOOSE(WEEKDAY(B21),"Sun","Mon","Tue","Wed","Thu","Fri","Sat")) -> 0 | M21: =IF(B21="","",B21&"|"&COUNTIF($B$6:B21,B21)) -> 0 | N21: =IF(B21="","",IF(H21="Published","✓ ","")&IF(D21="","",D21&" · ")&F21) -> 0
C22: =IF(B22="","",CHOOSE(WEEKDAY(B22),"Sun","Mon","Tue","Wed","Thu","Fri","Sat")) -> 0 | M22: =IF(B22="","",B22&"|"&COUNTIF($B$6:B22,B22)) -> 0 | N22: =IF(B22="","",IF(H22="Published","✓ ","")&IF(D22="","",D22&" · ")&F22) -> 0
C23: =IF(B23="","",CHOOSE(WEEKDAY(B23),"Sun","Mon","Tue","Wed","Thu","Fri","Sat")) -> 0 | M23: =IF(B23="","",B23&"|"&COUNTIF($B$6:B23,B23)) -> 0 | N23: =IF(B23="","",IF(H23="Published","✓ ","")&IF(D23="","",D23&" · ")&F23) -> 0
C24: =IF(B24="","",CHOOSE(WEEKDAY(B24),"Sun","Mon","Tue","Wed","Thu","Fri","Sat")) -> 0 | M24: =IF(B24="","",B24&"|"&COUNTIF($B$6:B24,B24)) -> 0 | N24: =IF(B24="","",IF(H24="Published","✓ ","")&IF(D24="","",D24&" · ")&F24) -> 0
C25: =IF(B25="","",CHOOSE(WEEKDAY(B25),"Sun","Mon","Tue","Wed","Thu","Fri","Sat")) -> 0 | M25: =IF(B25="","",B25&"|"&COUNTIF($B$6:B25,B25)) -> 0 | N25: =IF(B25="","",IF(H25="Published","✓ ","")&IF(D25="","",D25&" · ")&F25) -> 0
C26: =IF(B26="","",CHOOSE(WEEKDAY(B26),"Sun","Mon","Tue","Wed","Thu","Fri","Sat")) -> 0 | M26: =IF(B26="","",B26&"|"&COUNTIF($B$6:B26,B26)) -> 0 | N26: =IF(B26="","",IF(H26="Published","✓ ","")&IF(D26="","",D26&" · ")&F26) -> 0
C27: =IF(B27="","",CHOOSE(WEEKDAY(B27),"Sun","Mon","Tue","Wed","Thu","Fri","Sat")) -> 0 | M27: =IF(B27="","",B27&"|"&COUNTIF($B$6:B27,B27)) -> 0 | N27: =IF(B27="","",IF(H27="Published","✓ ","")&IF(D27="","",D27&" · ")&F27) -> 0
C28: =IF(B28="","",CHOOSE(WEEKDAY(B28),"Sun","Mon","Tue","Wed","Thu","Fri","Sat")) -> 0 | M28: =IF(B28="","",B28&"|"&COUNTIF($B$6:B28,B28)) -> 0 | N28: =IF(B28="","",IF(H28="Published","✓ ","")&IF(D28="","",D28&" · ")&F28) -> 0
C29: =IF(B29="","",CHOOSE(WEEKDAY(B29),"Sun","Mon","Tue","Wed","Thu","Fri","Sat")) -> 0 | M29: =IF(B29="","",B29&"|"&COUNTIF($B$6:B29,B29)) -> 0 | N29: =IF(B29="","",IF(H29="Published","✓ ","")&IF(D29="","",D29&" · ")&F29) -> 0
... C405: =IF(B405="","",CHOOSE(WEEKDAY(B405),"Sun","Mon","Tue","Wed","Thu","Fri","Sat")) -> 0 | M405: =IF(B405="","",B405&"|"&COUNTIF($B$6:B405,B405)) -> 0 | N405: =IF(B405="","",IF(H405="Published","✓ ","")&IF(D405="","",D405&" · ")&F405) -> 0

Sheet Dashboard
B2: ="Content dashboard "&CalYear -> 0
B3: Counts update from the Posts tab.
B5: POSTS PLANNED | D5: PUBLISHED | F5: % PUBLISHED | H5: OVERDUE
B6: =COUNTIFS(Posts!$B$6:$B$405,">="&DATE(CalYear,1,1),Posts!$B$6:$B$405,"<"&DATE(CalYear+1,1,1)) -> 0 | D6: =COUNTIFS(Posts!$B$6:$B$405,">="&DATE(CalYear,1,1),Posts!$B$6:$B$405,"<"&DATE(CalYear+1,1,1),Posts!$H$6:$H$405,"Published") -> 0 | F6: =IFERROR(D6/B6,0) -> 0 | H6: =COUNTIFS(Posts!$B$6:$B$405,"<"&TODAY(),Posts!$H$6:$H$405,"<>Published") -> 0
B9: MONTH | C9: IDEA | D9: DRAFTING | E9: READY | F9: SCHEDULED | G9: PUBLISHED | H9: PAUSED | I9: TOTAL | K9: CHANNEL | L9: POSTS
B10: January | C10: =COUNTIFS(Posts!$B$6:$B$405,">="&DATE(CalYear,1,1),Posts!$B$6:$B$405,"<"&DATE(CalYear,2,1),Posts!$H$6:$H$405,"Idea") -> 0 | D10: =COUNTIFS(Posts!$B$6:$B$405,">="&DATE(CalYear,1,1),Posts!$B$6:$B$405,"<"&DATE(CalYear,2,1),Posts!$H$6:$H$405,"Drafting") -> 0 | E10: =COUNTIFS(Posts!$B$6:$B$405,">="&DATE(CalYear,1,1),Posts!$B$6:$B$405,"<"&DATE(CalYear,2,1),Posts!$H$6:$H$405,"Ready") -> 0 | F10: =COUNTIFS(Posts!$B$6:$B$405,">="&DATE(CalYear,1,1),Posts!$B$6:$B$405,"<"&DATE(CalYear,2,1),Posts!$H$6:$H$405,"Scheduled") -> 0 | G10: =COUNTIFS(Posts!$B$6:$B$405,">="&DATE(CalYear,1,1),Posts!$B$6:$B$405,"<"&DATE(CalYear,2,1),Posts!$H$6:$H$405,"Published") -> 0 | H10: =COUNTIFS(Posts!$B$6:$B$405,">="&DATE(CalYear,1,1),Posts!$B$6:$B$405,"<"&DATE(CalYear,2,1),Posts!$H$6:$H$405,"Paused") -> 0 | I10: =COUNTIFS(Posts!$B$6:$B$405,">="&DATE(CalYear,1,1),Posts!$B$6:$B$405,"<"&DATE(CalYear,2,1)) -> 0 | K10: =IF(INDEX(Channels,1)="","",INDEX(Channels,1)) -> 0 | L10: =IF(K10="","",COUNTIFS(Posts!$B$6:$B$405,">="&DATE(CalYear,1,1),Posts!$B$6:$B$405,"<"&DATE(CalYear+1,1,1),Posts!$D$6:$D$405,K10)) -> 0
B11: February | C11: =COUNTIFS(Posts!$B$6:$B$405,">="&DATE(CalYear,2,1),Posts!$B$6:$B$405,"<"&DATE(CalYear,3,1),Posts!$H$6:$H$405,"Idea") -> 0 | D11: =COUNTIFS(Posts!$B$6:$B$405,">="&DATE(CalYear,2,1),Posts!$B$6:$B$405,"<"&DATE(CalYear,3,1),Posts!$H$6:$H$405,"Drafting") -> 0 | E11: =COUNTIFS(Posts!$B$6:$B$405,">="&DATE(CalYear,2,1),Posts!$B$6:$B$405,"<"&DATE(CalYear,3,1),Posts!$H$6:$H$405,"Ready") -> 0 | F11: =COUNTIFS(Posts!$B$6:$B$405,">="&DATE(CalYear,2,1),Posts!$B$6:$B$405,"<"&DATE(CalYear,3,1),Posts!$H$6:$H$405,"Scheduled") -> 0 | G11: =COUNTIFS(Posts!$B$6:$B$405,">="&DATE(CalYear,2,1),Posts!$B$6:$B$405,"<"&DATE(CalYear,3,1),Posts!$H$6:$H$405,"Published") -> 0 | H11: =COUNTIFS(Posts!$B$6:$B$405,">="&DATE(CalYear,2,1),Posts!$B$6:$B$405,"<"&DATE(CalYear,3,1),Posts!$H$6:$H$405,"Paused") -> 0 | I11: =COUNTIFS(Posts!$B$6:$B$405,">="&DATE(CalYear,2,1),Posts!$B$6:$B$405,"<"&DATE(CalYear,3,1)) -> 0 | K11: =IF(INDEX(Channels,2)="","",INDEX(Channels,2)) -> 0 | L11: =IF(K11="","",COUNTIFS(Posts!$B$6:$B$405,">="&DATE(CalYear,1,1),Posts!$B$6:$B$405,"<"&DATE(CalYear+1,1,1),Posts!$D$6:$D$405,K11)) -> 0
B12: March | C12: =COUNTIFS(Posts!$B$6:$B$405,">="&DATE(CalYear,3,1),Posts!$B$6:$B$405,"<"&DATE(CalYear,4,1),Posts!$H$6:$H$405,"Idea") -> 0 | D12: =COUNTIFS(Posts!$B$6:$B$405,">="&DATE(CalYear,3,1),Posts!$B$6:$B$405,"<"&DATE(CalYear,4,1),Posts!$H$6:$H$405,"Drafting") -> 0 | E12: =COUNTIFS(Posts!$B$6:$B$405,">="&DATE(CalYear,3,1),Posts!$B$6:$B$405,"<"&DATE(CalYear,4,1),Posts!$H$6:$H$405,"Ready") -> 0 | F12: =COUNTIFS(Posts!$B$6:$B$405,">="&DATE(CalYear,3,1),Posts!$B$6:$B$405,"<"&DATE(CalYear,4,1),Posts!$H$6:$H$405,"Scheduled") -> 0 | G12: =COUNTIFS(Posts!$B$6:$B$405,">="&DATE(CalYear,3,1),Posts!$B$6:$B$405,"<"&DATE(CalYear,4,1),Posts!$H$6:$H$405,"Published") -> 0 | H12: =COUNTIFS(Posts!$B$6:$B$405,">="&DATE(CalYear,3,1),Posts!$B$6:$B$405,"<"&DATE(CalYear,4,1),Posts!$H$6:$H$405,"Paused") -> 0 | I12: =COUNTIFS(Posts!$B$6:$B$405,">="&DATE(CalYear,3,1),Posts!$B$6:$B$405,"<"&DATE(CalYear,4,1)) -> 0 | K12: =IF(INDEX(Channels,3)="","",INDEX(Channels,3)) -> 0 | L12: =IF(K12="","",COUNTIFS(Posts!$B$6:$B$405,">="&DATE(CalYear,1,1),Posts!$B$6:$B$405,"<"&DATE(CalYear+1,1,1),Posts!$D$6:$D$405,K12)) -> 0
B13: April | C13: =COUNTIFS(Posts!$B$6:$B$405,">="&DATE(CalYear,4,1),Posts!$B$6:$B$405,"<"&DATE(CalYear,5,1),Posts!$H$6:$H$405,"Idea") -> 0 | D13: =COUNTIFS(Posts!$B$6:$B$405,">="&DATE(CalYear,4,1),Posts!$B$6:$B$405,"<"&DATE(CalYear,5,1),Posts!$H$6:$H$405,"Drafting") -> 0 | E13: =COUNTIFS(Posts!$B$6:$B$405,">="&DATE(CalYear,4,1),Posts!$B$6:$B$405,"<"&DATE(CalYear,5,1),Posts!$H$6:$H$405,"Ready") -> 0 | F13: =COUNTIFS(Posts!$B$6:$B$405,">="&DATE(CalYear,4,1),Posts!$B$6:$B$405,"<"&DATE(CalYear,5,1),Posts!$H$6:$H$405,"Scheduled") -> 0 | G13: =COUNTIFS(Posts!$B$6:$B$405,">="&DATE(CalYear,4,1),Posts!$B$6:$B$405,"<"&DATE(CalYear,5,1),Posts!$H$6:$H$405,"Published") -> 0 | H13: =COUNTIFS(Posts!$B$6:$B$405,">="&DATE(CalYear,4,1),Posts!$B$6:$B$405,"<"&DATE(CalYear,5,1),Posts!$H$6:$H$405,"Paused") -> 0 | I13: =COUNTIFS(Posts!$B$6:$B$405,">="&DATE(CalYear,4,1),Posts!$B$6:$B$405,"<"&DATE(CalYear,5,1)) -> 0 | K13: =IF(INDEX(Channels,4)="","",INDEX(Channels,4)) -> 0 | L13: =IF(K13="","",COUNTIFS(Posts!$B$6:$B$405,">="&DATE(CalYear,1,1),Posts!$B$6:$B$405,"<"&DATE(CalYear+1,1,1),Posts!$D$6:$D$405,K13)) -> 0
B14: May | C14: =COUNTIFS(Posts!$B$6:$B$405,">="&DATE(CalYear,5,1),Posts!$B$6:$B$405,"<"&DATE(CalYear,6,1),Posts!$H$6:$H$405,"Idea") -> 0 | D14: =COUNTIFS(Posts!$B$6:$B$405,">="&DATE(CalYear,5,1),Posts!$B$6:$B$405,"<"&DATE(CalYear,6,1),Posts!$H$6:$H$405,"Drafting") -> 0 | E14: =COUNTIFS(Posts!$B$6:$B$405,">="&DATE(CalYear,5,1),Posts!$B$6:$B$405,"<"&DATE(CalYear,6,1),Posts!$H$6:$H$405,"Ready") -> 0 | F14: =COUNTIFS(Posts!$B$6:$B$405,">="&DATE(CalYear,5,1),Posts!$B$6:$B$405,"<"&DATE(CalYear,6,1),Posts!$H$6:$H$405,"Scheduled") -> 0 | G14: =COUNTIFS(Posts!$B$6:$B$405,">="&DATE(CalYear,5,1),Posts!$B$6:$B$405,"<"&DATE(CalYear,6,1),Posts!$H$6:$H$405,"Published") -> 0 | H14: =COUNTIFS(Posts!$B$6:$B$405,">="&DATE(CalYear,5,1),Posts!$B$6:$B$405,"<"&DATE(CalYear,6,1),Posts!$H$6:$H$405,"Paused") -> 0 | I14: =COUNTIFS(Posts!$B$6:$B$405,">="&DATE(CalYear,5,1),Posts!$B$6:$B$405,"<"&DATE(CalYear,6,1)) -> 0 | K14: =IF(INDEX(Channels,5)="","",INDEX(Channels,5)) -> 0 | L14: =IF(K14="","",COUNTIFS(Posts!$B$6:$B$405,">="&DATE(CalYear,1,1),Posts!$B$6:$B$405,"<"&DATE(CalYear+1,1,1),Posts!$D$6:$D$405,K14)) -> 0
B15: June | C15: =COUNTIFS(Posts!$B$6:$B$405,">="&DATE(CalYear,6,1),Posts!$B$6:$B$405,"<"&DATE(CalYear,7,1),Posts!$H$6:$H$405,"Idea") -> 0 | D15: =COUNTIFS(Posts!$B$6:$B$405,">="&DATE(CalYear,6,1),Posts!$B$6:$B$405,"<"&DATE(CalYear,7,1),Posts!$H$6:$H$405,"Drafting") -> 0 | E15: =COUNTIFS(Posts!$B$6:$B$405,">="&DATE(CalYear,6,1),Posts!$B$6:$B$405,"<"&DATE(CalYear,7,1),Posts!$H$6:$H$405,"Ready") -> 0 | F15: =COUNTIFS(Posts!$B$6:$B$405,">="&DATE(CalYear,6,1),Posts!$B$6:$B$405,"<"&DATE(CalYear,7,1),Posts!$H$6:$H$405,"Scheduled") -> 0 | G15: =COUNTIFS(Posts!$B$6:$B$405,">="&DATE(CalYear,6,1),Posts!$B$6:$B$405,"<"&DATE(CalYear,7,1),Posts!$H$6:$H$405,"Published") -> 0 | H15: =COUNTIFS(Posts!$B$6:$B$405,">="&DATE(CalYear,6,1),Posts!$B$6:$B$405,"<"&DATE(CalYear,7,1),Posts!$H$6:$H$405,"Paused") -> 0 | I15: =COUNTIFS(Posts!$B$6:$B$405,">="&DATE(CalYear,6,1),Posts!$B$6:$B$405,"<"&DATE(CalYear,7,1)) -> 0 | K15: =IF(INDEX(Channels,6)="","",INDEX(Channels,6)) -> 0 | L15: =IF(K15="","",COUNTIFS(Posts!$B$6:$B$405,">="&DATE(CalYear,1,1),Posts!$B$6:$B$405,"<"&DATE(CalYear+1,1,1),Posts!$D$6:$D$405,K15)) -> 0
B16: July | C16: =COUNTIFS(Posts!$B$6:$B$405,">="&DATE(CalYear,7,1),Posts!$B$6:$B$405,"<"&DATE(CalYear,8,1),Posts!$H$6:$H$405,"Idea") -> 0 | D16: =COUNTIFS(Posts!$B$6:$B$405,">="&DATE(CalYear,7,1),Posts!$B$6:$B$405,"<"&DATE(CalYear,8,1),Posts!$H$6:$H$405,"Drafting") -> 0 | E16: =COUNTIFS(Posts!$B$6:$B$405,">="&DATE(CalYear,7,1),Posts!$B$6:$B$405,"<"&DATE(CalYear,8,1),Posts!$H$6:$H$405,"Ready") -> 0 | F16: =COUNTIFS(Posts!$B$6:$B$405,">="&DATE(CalYear,7,1),Posts!$B$6:$B$405,"<"&DATE(CalYear,8,1),Posts!$H$6:$H$405,"Scheduled") -> 0 | G16: =COUNTIFS(Posts!$B$6:$B$405,">="&DATE(CalYear,7,1),Posts!$B$6:$B$405,"<"&DATE(CalYear,8,1),Posts!$H$6:$H$405,"Published") -> 0 | H16: =COUNTIFS(Posts!$B$6:$B$405,">="&DATE(CalYear,7,1),Posts!$B$6:$B$405,"<"&DATE(CalYear,8,1),Posts!$H$6:$H$405,"Paused") -> 0 | I16: =COUNTIFS(Posts!$B$6:$B$405,">="&DATE(CalYear,7,1),Posts!$B$6:$B$405,"<"&DATE(CalYear,8,1)) -> 0 | K16: =IF(INDEX(Channels,7)="","",INDEX(Channels,7)) -> 0 | L16: =IF(K16="","",COUNTIFS(Posts!$B$6:$B$405,">="&DATE(CalYear,1,1),Posts!$B$6:$B$405,"<"&DATE(CalYear+1,1,1),Posts!$D$6:$D$405,K16)) -> 0
B17: August | C17: =COUNTIFS(Posts!$B$6:$B$405,">="&DATE(CalYear,8,1),Posts!$B$6:$B$405,"<"&DATE(CalYear,9,1),Posts!$H$6:$H$405,"Idea") -> 0 | D17: =COUNTIFS(Posts!$B$6:$B$405,">="&DATE(CalYear,8,1),Posts!$B$6:$B$405,"<"&DATE(CalYear,9,1),Posts!$H$6:$H$405,"Drafting") -> 0 | E17: =COUNTIFS(Posts!$B$6:$B$405,">="&DATE(CalYear,8,1),Posts!$B$6:$B$405,"<"&DATE(CalYear,9,1),Posts!$H$6:$H$405,"Ready") -> 0 | F17: =COUNTIFS(Posts!$B$6:$B$405,">="&DATE(CalYear,8,1),Posts!$B$6:$B$405,"<"&DATE(CalYear,9,1),Posts!$H$6:$H$405,"Scheduled") -> 0 | G17: =COUNTIFS(Posts!$B$6:$B$405,">="&DATE(CalYear,8,1),Posts!$B$6:$B$405,"<"&DATE(CalYear,9,1),Posts!$H$6:$H$405,"Published") -> 0 | H17: =COUNTIFS(Posts!$B$6:$B$405,">="&DATE(CalYear,8,1),Posts!$B$6:$B$405,"<"&DATE(CalYear,9,1),Posts!$H$6:$H$405,"Paused") -> 0 | I17: =COUNTIFS(Posts!$B$6:$B$405,">="&DATE(CalYear,8,1),Posts!$B$6:$B$405,"<"&DATE(CalYear,9,1)) -> 0 | K17: =IF(INDEX(Channels,8)="","",INDEX(Channels,8)) -> 0 | L17: =IF(K17="","",COUNTIFS(Posts!$B$6:$B$405,">="&DATE(CalYear,1,1),Posts!$B$6:$B$405,"<"&DATE(CalYear+1,1,1),Posts!$D$6:$D$405,K17)) -> 0
B18: September | C18: =COUNTIFS(Posts!$B$6:$B$405,">="&DATE(CalYear,9,1),Posts!$B$6:$B$405,"<"&DATE(CalYear,10,1),Posts!$H$6:$H$405,"Idea") -> 0 | D18: =COUNTIFS(Posts!$B$6:$B$405,">="&DATE(CalYear,9,1),Posts!$B$6:$B$405,"<"&DATE(CalYear,10,1),Posts!$H$6:$H$405,"Drafting") -> 0 | E18: =COUNTIFS(Posts!$B$6:$B$405,">="&DATE(CalYear,9,1),Posts!$B$6:$B$405,"<"&DATE(CalYear,10,1),Posts!$H$6:$H$405,"Ready") -> 0 | F18: =COUNTIFS(Posts!$B$6:$B$405,">="&DATE(CalYear,9,1),Posts!$B$6:$B$405,"<"&DATE(CalYear,10,1),Posts!$H$6:$H$405,"Scheduled") -> 0 | G18: =COUNTIFS(Posts!$B$6:$B$405,">="&DATE(CalYear,9,1),Posts!$B$6:$B$405,"<"&DATE(CalYear,10,1),Posts!$H$6:$H$405,"Published") -> 0 | H18: =COUNTIFS(Posts!$B$6:$B$405,">="&DATE(CalYear,9,1),Posts!$B$6:$B$405,"<"&DATE(CalYear,10,1),Posts!$H$6:$H$405,"Paused") -> 0 | I18: =COUNTIFS(Posts!$B$6:$B$405,">="&DATE(CalYear,9,1),Posts!$B$6:$B$405,"<"&DATE(CalYear,10,1)) -> 0 | K18: =IF(INDEX(Channels,9)="","",INDEX(Channels,9)) -> 0 | L18: =IF(K18="","",COUNTIFS(Posts!$B$6:$B$405,">="&DATE(CalYear,1,1),Posts!$B$6:$B$405,"<"&DATE(CalYear+1,1,1),Posts!$D$6:$D$405,K18)) -> 0
B19: October | C19: =COUNTIFS(Posts!$B$6:$B$405,">="&DATE(CalYear,10,1),Posts!$B$6:$B$405,"<"&DATE(CalYear,11,1),Posts!$H$6:$H$405,"Idea") -> 0 | D19: =COUNTIFS(Posts!$B$6:$B$405,">="&DATE(CalYear,10,1),Posts!$B$6:$B$405,"<"&DATE(CalYear,11,1),Posts!$H$6:$H$405,"Drafting") -> 0 | E19: =COUNTIFS(Posts!$B$6:$B$405,">="&DATE(CalYear,10,1),Posts!$B$6:$B$405,"<"&DATE(CalYear,11,1),Posts!$H$6:$H$405,"Ready") -> 0 | F19: =COUNTIFS(Posts!$B$6:$B$405,">="&DATE(CalYear,10,1),Posts!$B$6:$B$405,"<"&DATE(CalYear,11,1),Posts!$H$6:$H$405,"Scheduled") -> 0 | G19: =COUNTIFS(Posts!$B$6:$B$405,">="&DATE(CalYear,10,1),Posts!$B$6:$B$405,"<"&DATE(CalYear,11,1),Posts!$H$6:$H$405,"Published") -> 0 | H19: =COUNTIFS(Posts!$B$6:$B$405,">="&DATE(CalYear,10,1),Posts!$B$6:$B$405,"<"&DATE(CalYear,11,1),Posts!$H$6:$H$405,"Paused") -> 0 | I19: =COUNTIFS(Posts!$B$6:$B$405,">="&DATE(CalYear,10,1),Posts!$B$6:$B$405,"<"&DATE(CalYear,11,1)) -> 0 | K19: =IF(INDEX(Channels,10)="","",INDEX(Channels,10)) -> 0 | L19: =IF(K19="","",COUNTIFS(Posts!$B$6:$B$405,">="&DATE(CalYear,1,1),Posts!$B$6:$B$405,"<"&DATE(CalYear+1,1,1),Posts!$D$6:$D$405,K19)) -> 0
B20: November | C20: =COUNTIFS(Posts!$B$6:$B$405,">="&DATE(CalYear,11,1),Posts!$B$6:$B$405,"<"&DATE(CalYear,12,1),Posts!$H$6:$H$405,"Idea") -> 0 | D20: =COUNTIFS(Posts!$B$6:$B$405,">="&DATE(CalYear,11,1),Posts!$B$6:$B$405,"<"&DATE(CalYear,12,1),Posts!$H$6:$H$405,"Drafting") -> 0 | E20: =COUNTIFS(Posts!$B$6:$B$405,">="&DATE(CalYear,11,1),Posts!$B$6:$B$405,"<"&DATE(CalYear,12,1),Posts!$H$6:$H$405,"Ready") -> 0 | F20: =COUNTIFS(Posts!$B$6:$B$405,">="&DATE(CalYear,11,1),Posts!$B$6:$B$405,"<"&DATE(CalYear,12,1),Posts!$H$6:$H$405,"Scheduled") -> 0 | G20: =COUNTIFS(Posts!$B$6:$B$405,">="&DATE(CalYear,11,1),Posts!$B$6:$B$405,"<"&DATE(CalYear,12,1),Posts!$H$6:$H$405,"Published") -> 0 | H20: =COUNTIFS(Posts!$B$6:$B$405,">="&DATE(CalYear,11,1),Posts!$B$6:$B$405,"<"&DATE(CalYear,12,1),Posts!$H$6:$H$405,"Paused") -> 0 | I20: =COUNTIFS(Posts!$B$6:$B$405,">="&DATE(CalYear,11,1),Posts!$B$6:$B$405,"<"&DATE(CalYear,12,1)) -> 0 | K20: =IF(INDEX(Channels,11)="","",INDEX(Channels,11)) -> 0 | L20: =IF(K20="","",COUNTIFS(Posts!$B$6:$B$405,">="&DATE(CalYear,1,1),Posts!$B$6:$B$405,"<"&DATE(CalYear+1,1,1),Posts!$D$6:$D$405,K20)) -> 0
B21: December | C21: =COUNTIFS(Posts!$B$6:$B$405,">="&DATE(CalYear,12,1),Posts!$B$6:$B$405,"<"&DATE(CalYear,13,1),Posts!$H$6:$H$405,"Idea") -> 0 | D21: =COUNTIFS(Posts!$B$6:$B$405,">="&DATE(CalYear,12,1),Posts!$B$6:$B$405,"<"&DATE(CalYear,13,1),Posts!$H$6:$H$405,"Drafting") -> 0 | E21: =COUNTIFS(Posts!$B$6:$B$405,">="&DATE(CalYear,12,1),Posts!$B$6:$B$405,"<"&DATE(CalYear,13,1),Posts!$H$6:$H$405,"Ready") -> 0 | F21: =COUNTIFS(Posts!$B$6:$B$405,">="&DATE(CalYear,12,1),Posts!$B$6:$B$405,"<"&DATE(CalYear,13,1),Posts!$H$6:$H$405,"Scheduled") -> 0 | G21: =COUNTIFS(Posts!$B$6:$B$405,">="&DATE(CalYear,12,1),Posts!$B$6:$B$405,"<"&DATE(CalYear,13,1),Posts!$H$6:$H$405,"Published") -> 0 | H21: =COUNTIFS(Posts!$B$6:$B$405,">="&DATE(CalYear,12,1),Posts!$B$6:$B$405,"<"&DATE(CalYear,13,1),Posts!$H$6:$H$405,"Paused") -> 0 | I21: =COUNTIFS(Posts!$B$6:$B$405,">="&DATE(CalYear,12,1),Posts!$B$6:$B$405,"<"&DATE(CalYear,13,1)) -> 0 | K21: =IF(INDEX(Channels,12)="","",INDEX(Channels,12)) -> 0 | L21: =IF(K21="","",COUNTIFS(Posts!$B$6:$B$405,">="&DATE(CalYear,1,1),Posts!$B$6:$B$405,"<"&DATE(CalYear+1,1,1),Posts!$D$6:$D$405,K21)) -> 0
B22: Total | C22: =SUM(C10:C21) -> 0 | D22: =SUM(D10:D21) -> 0 | E22: =SUM(E10:E21) -> 0 | F22: =SUM(F10:F21) -> 0 | G22: =SUM(G10:G21) -> 0 | H22: =SUM(H10:H21) -> 0 | I22: =SUM(I10:I21) -> 0

Sheet Setup
B2: Setup
B3: Rename or add items – every dropdown updates. Keep one item per cell.
B5: YEAR | C5: WEEK STARTS
B6: 2027 | C6: Sunday
B8: CHANNELS | C8: FORMATS | D8: STATUS | E8: PILLARS | F8: MONTHS (keep)
B9: Blog | C9: Tutorial | D9: Idea | E9: Educate | F9: January
B10: Newsletter | C10: Tips / list | D10: Drafting | E10: Inspire | F10: February
B11: Video | C11: Behind the scenes | D11: Ready | E11: Community | F11: March
B12: Short video | C12: Story | D12: Scheduled | E12: Promote | F12: April
B13: Photo post | C13: Announcement | D13: Published | F13: May
B14: Stories | C14: Promo | D14: Paused | F14: June
B15: Podcast | C15: Q&A | F15: July
B16: Live | C16: Review | F16: August
B17: Pin | C17: Collab | F17: September
C18: Repurpose | F18: October
F19: November
F20: December
