Workbook
Name CalYear: Planner!$B$2

Sheet Planner
B2: 2027 | G2: Yearly planner | S2: ■ Holiday ■ Other dates ■ Weekend
B3: Holiday names fill in automatically – type over any cell. Edit dates on the Holidays tab.
C5: January | E5: February | G5: March | I5: April | K5: May | M5: June | O5: July | Q5: August | S5: September | U5: October | W5: November | Y5: December
B6: 1 | C6: =IF(MONTH(DATE(CalYear,1,1))=1,CHOOSE(WEEKDAY(DATE(CalYear,1,1)),"Su","Mo","Tu","We","Th","Fr","Sa"),"") -> 0 | D6: =IF(MONTH(DATE(CalYear,1,1))=1,IFERROR(INDEX(Holidays!$B$6:$B$60,MATCH(DATE(CalYear,1,1),Holidays!$C$6:$C$60,0)),""),"") -> 0 | E6: =IF(MONTH(DATE(CalYear,2,1))=2,CHOOSE(WEEKDAY(DATE(CalYear,2,1)),"Su","Mo","Tu","We","Th","Fr","Sa"),"") -> 0 | F6: =IF(MONTH(DATE(CalYear,2,1))=2,IFERROR(INDEX(Holidays!$B$6:$B$60,MATCH(DATE(CalYear,2,1),Holidays!$C$6:$C$60,0)),""),"") -> 0 | G6: =IF(MONTH(DATE(CalYear,3,1))=3,CHOOSE(WEEKDAY(DATE(CalYear,3,1)),"Su","Mo","Tu","We","Th","Fr","Sa"),"") -> 0 | H6: =IF(MONTH(DATE(CalYear,3,1))=3,IFERROR(INDEX(Holidays!$B$6:$B$60,MATCH(DATE(CalYear,3,1),Holidays!$C$6:$C$60,0)),""),"") -> 0 | I6: =IF(MONTH(DATE(CalYear,4,1))=4,CHOOSE(WEEKDAY(DATE(CalYear,4,1)),"Su","Mo","Tu","We","Th","Fr","Sa"),"") -> 0 | J6: =IF(MONTH(DATE(CalYear,4,1))=4,IFERROR(INDEX(Holidays!$B$6:$B$60,MATCH(DATE(CalYear,4,1),Holidays!$C$6:$C$60,0)),""),"") -> 0 | K6: =IF(MONTH(DATE(CalYear,5,1))=5,CHOOSE(WEEKDAY(DATE(CalYear,5,1)),"Su","Mo","Tu","We","Th","Fr","Sa"),"") -> 0 | L6: =IF(MONTH(DATE(CalYear,5,1))=5,IFERROR(INDEX(Holidays!$B$6:$B$60,MATCH(DATE(CalYear,5,1),Holidays!$C$6:$C$60,0)),""),"") -> 0 | M6: =IF(MONTH(DATE(CalYear,6,1))=6,CHOOSE(WEEKDAY(DATE(CalYear,6,1)),"Su","Mo","Tu","We","Th","Fr","Sa"),"") -> 0 | N6: =IF(MONTH(DATE(CalYear,6,1))=6,IFERROR(INDEX(Holidays!$B$6:$B$60,MATCH(DATE(CalYear,6,1),Holidays!$C$6:$C$60,0)),""),"") -> 0 | O6: =IF(MONTH(DATE(CalYear,7,1))=7,CHOOSE(WEEKDAY(DATE(CalYear,7,1)),"Su","Mo","Tu","We","Th","Fr","Sa"),"") -> 0 | P6: =IF(MONTH(DATE(CalYear,7,1))=7,IFERROR(INDEX(Holidays!$B$6:$B$60,MATCH(DATE(CalYear,7,1),Holidays!$C$6:$C$60,0)),""),"") -> 0 | Q6: =IF(MONTH(DATE(CalYear,8,1))=8,CHOOSE(WEEKDAY(DATE(CalYear,8,1)),"Su","Mo","Tu","We","Th","Fr","Sa"),"") -> 0 | R6: =IF(MONTH(DATE(CalYear,8,1))=8,IFERROR(INDEX(Holidays!$B$6:$B$60,MATCH(DATE(CalYear,8,1),Holidays!$C$6:$C$60,0)),""),"") -> 0 | S6: =IF(MONTH(DATE(CalYear,9,1))=9,CHOOSE(WEEKDAY(DATE(CalYear,9,1)),"Su","Mo","Tu","We","Th","Fr","Sa"),"") -> 0 | T6: =IF(MONTH(DATE(CalYear,9,1))=9,IFERROR(INDEX(Holidays!$B$6:$B$60,MATCH(DATE(CalYear,9,1),Holidays!$C$6:$C$60,0)),""),"") -> 0 | U6: =IF(MONTH(DATE(CalYear,10,1))=10,CHOOSE(WEEKDAY(DATE(CalYear,10,1)),"Su","Mo","Tu","We","Th","Fr","Sa"),"") -> 0 | V6: =IF(MONTH(DATE(CalYear,10,1))=10,IFERROR(INDEX(Holidays!$B$6:$B$60,MATCH(DATE(CalYear,10,1),Holidays!$C$6:$C$60,0)),""),"") -> 0 | W6: =IF(MONTH(DATE(CalYear,11,1))=11,CHOOSE(WEEKDAY(DATE(CalYear,11,1)),"Su","Mo","Tu","We","Th","Fr","Sa"),"") -> 0 | X6: =IF(MONTH(DATE(CalYear,11,1))=11,IFERROR(INDEX(Holidays!$B$6:$B$60,MATCH(DATE(CalYear,11,1),Holidays!$C$6:$C$60,0)),""),"") -> 0 | Y6: =IF(MONTH(DATE(CalYear,12,1))=12,CHOOSE(WEEKDAY(DATE(CalYear,12,1)),"Su","Mo","Tu","We","Th","Fr","Sa"),"") -> 0 | Z6: =IF(MONTH(DATE(CalYear,12,1))=12,IFERROR(INDEX(Holidays!$B$6:$B$60,MATCH(DATE(CalYear,12,1),Holidays!$C$6:$C$60,0)),""),"") -> 0 | AA6: 1
B7: 2 | C7: =IF(MONTH(DATE(CalYear,1,2))=1,CHOOSE(WEEKDAY(DATE(CalYear,1,2)),"Su","Mo","Tu","We","Th","Fr","Sa"),"") -> 0 | D7: =IF(MONTH(DATE(CalYear,1,2))=1,IFERROR(INDEX(Holidays!$B$6:$B$60,MATCH(DATE(CalYear,1,2),Holidays!$C$6:$C$60,0)),""),"") -> 0 | E7: =IF(MONTH(DATE(CalYear,2,2))=2,CHOOSE(WEEKDAY(DATE(CalYear,2,2)),"Su","Mo","Tu","We","Th","Fr","Sa"),"") -> 0 | F7: =IF(MONTH(DATE(CalYear,2,2))=2,IFERROR(INDEX(Holidays!$B$6:$B$60,MATCH(DATE(CalYear,2,2),Holidays!$C$6:$C$60,0)),""),"") -> 0 | G7: =IF(MONTH(DATE(CalYear,3,2))=3,CHOOSE(WEEKDAY(DATE(CalYear,3,2)),"Su","Mo","Tu","We","Th","Fr","Sa"),"") -> 0 | H7: =IF(MONTH(DATE(CalYear,3,2))=3,IFERROR(INDEX(Holidays!$B$6:$B$60,MATCH(DATE(CalYear,3,2),Holidays!$C$6:$C$60,0)),""),"") -> 0 | I7: =IF(MONTH(DATE(CalYear,4,2))=4,CHOOSE(WEEKDAY(DATE(CalYear,4,2)),"Su","Mo","Tu","We","Th","Fr","Sa"),"") -> 0 | J7: =IF(MONTH(DATE(CalYear,4,2))=4,IFERROR(INDEX(Holidays!$B$6:$B$60,MATCH(DATE(CalYear,4,2),Holidays!$C$6:$C$60,0)),""),"") -> 0 | K7: =IF(MONTH(DATE(CalYear,5,2))=5,CHOOSE(WEEKDAY(DATE(CalYear,5,2)),"Su","Mo","Tu","We","Th","Fr","Sa"),"") -> 0 | L7: =IF(MONTH(DATE(CalYear,5,2))=5,IFERROR(INDEX(Holidays!$B$6:$B$60,MATCH(DATE(CalYear,5,2),Holidays!$C$6:$C$60,0)),""),"") -> 0 | M7: =IF(MONTH(DATE(CalYear,6,2))=6,CHOOSE(WEEKDAY(DATE(CalYear,6,2)),"Su","Mo","Tu","We","Th","Fr","Sa"),"") -> 0 | N7: =IF(MONTH(DATE(CalYear,6,2))=6,IFERROR(INDEX(Holidays!$B$6:$B$60,MATCH(DATE(CalYear,6,2),Holidays!$C$6:$C$60,0)),""),"") -> 0 | O7: =IF(MONTH(DATE(CalYear,7,2))=7,CHOOSE(WEEKDAY(DATE(CalYear,7,2)),"Su","Mo","Tu","We","Th","Fr","Sa"),"") -> 0 | P7: =IF(MONTH(DATE(CalYear,7,2))=7,IFERROR(INDEX(Holidays!$B$6:$B$60,MATCH(DATE(CalYear,7,2),Holidays!$C$6:$C$60,0)),""),"") -> 0 | Q7: =IF(MONTH(DATE(CalYear,8,2))=8,CHOOSE(WEEKDAY(DATE(CalYear,8,2)),"Su","Mo","Tu","We","Th","Fr","Sa"),"") -> 0 | R7: =IF(MONTH(DATE(CalYear,8,2))=8,IFERROR(INDEX(Holidays!$B$6:$B$60,MATCH(DATE(CalYear,8,2),Holidays!$C$6:$C$60,0)),""),"") -> 0 | S7: =IF(MONTH(DATE(CalYear,9,2))=9,CHOOSE(WEEKDAY(DATE(CalYear,9,2)),"Su","Mo","Tu","We","Th","Fr","Sa"),"") -> 0 | T7: =IF(MONTH(DATE(CalYear,9,2))=9,IFERROR(INDEX(Holidays!$B$6:$B$60,MATCH(DATE(CalYear,9,2),Holidays!$C$6:$C$60,0)),""),"") -> 0 | U7: =IF(MONTH(DATE(CalYear,10,2))=10,CHOOSE(WEEKDAY(DATE(CalYear,10,2)),"Su","Mo","Tu","We","Th","Fr","Sa"),"") -> 0 | V7: =IF(MONTH(DATE(CalYear,10,2))=10,IFERROR(INDEX(Holidays!$B$6:$B$60,MATCH(DATE(CalYear,10,2),Holidays!$C$6:$C$60,0)),""),"") -> 0 | W7: =IF(MONTH(DATE(CalYear,11,2))=11,CHOOSE(WEEKDAY(DATE(CalYear,11,2)),"Su","Mo","Tu","We","Th","Fr","Sa"),"") -> 0 | X7: =IF(MONTH(DATE(CalYear,11,2))=11,IFERROR(INDEX(Holidays!$B$6:$B$60,MATCH(DATE(CalYear,11,2),Holidays!$C$6:$C$60,0)),""),"") -> 0 | Y7: =IF(MONTH(DATE(CalYear,12,2))=12,CHOOSE(WEEKDAY(DATE(CalYear,12,2)),"Su","Mo","Tu","We","Th","Fr","Sa"),"") -> 0 | Z7: =IF(MONTH(DATE(CalYear,12,2))=12,IFERROR(INDEX(Holidays!$B$6:$B$60,MATCH(DATE(CalYear,12,2),Holidays!$C$6:$C$60,0)),""),"") -> 0 | AA7: 2
B8: 3 | C8: =IF(MONTH(DATE(CalYear,1,3))=1,CHOOSE(WEEKDAY(DATE(CalYear,1,3)),"Su","Mo","Tu","We","Th","Fr","Sa"),"") -> 0 | D8: =IF(MONTH(DATE(CalYear,1,3))=1,IFERROR(INDEX(Holidays!$B$6:$B$60,MATCH(DATE(CalYear,1,3),Holidays!$C$6:$C$60,0)),""),"") -> 0 | E8: =IF(MONTH(DATE(CalYear,2,3))=2,CHOOSE(WEEKDAY(DATE(CalYear,2,3)),"Su","Mo","Tu","We","Th","Fr","Sa"),"") -> 0 | F8: =IF(MONTH(DATE(CalYear,2,3))=2,IFERROR(INDEX(Holidays!$B$6:$B$60,MATCH(DATE(CalYear,2,3),Holidays!$C$6:$C$60,0)),""),"") -> 0 | G8: =IF(MONTH(DATE(CalYear,3,3))=3,CHOOSE(WEEKDAY(DATE(CalYear,3,3)),"Su","Mo","Tu","We","Th","Fr","Sa"),"") -> 0 | H8: =IF(MONTH(DATE(CalYear,3,3))=3,IFERROR(INDEX(Holidays!$B$6:$B$60,MATCH(DATE(CalYear,3,3),Holidays!$C$6:$C$60,0)),""),"") -> 0 | I8: =IF(MONTH(DATE(CalYear,4,3))=4,CHOOSE(WEEKDAY(DATE(CalYear,4,3)),"Su","Mo","Tu","We","Th","Fr","Sa"),"") -> 0 | J8: =IF(MONTH(DATE(CalYear,4,3))=4,IFERROR(INDEX(Holidays!$B$6:$B$60,MATCH(DATE(CalYear,4,3),Holidays!$C$6:$C$60,0)),""),"") -> 0 | K8: =IF(MONTH(DATE(CalYear,5,3))=5,CHOOSE(WEEKDAY(DATE(CalYear,5,3)),"Su","Mo","Tu","We","Th","Fr","Sa"),"") -> 0 | L8: =IF(MONTH(DATE(CalYear,5,3))=5,IFERROR(INDEX(Holidays!$B$6:$B$60,MATCH(DATE(CalYear,5,3),Holidays!$C$6:$C$60,0)),""),"") -> 0 | M8: =IF(MONTH(DATE(CalYear,6,3))=6,CHOOSE(WEEKDAY(DATE(CalYear,6,3)),"Su","Mo","Tu","We","Th","Fr","Sa"),"") -> 0 | N8: =IF(MONTH(DATE(CalYear,6,3))=6,IFERROR(INDEX(Holidays!$B$6:$B$60,MATCH(DATE(CalYear,6,3),Holidays!$C$6:$C$60,0)),""),"") -> 0 | O8: =IF(MONTH(DATE(CalYear,7,3))=7,CHOOSE(WEEKDAY(DATE(CalYear,7,3)),"Su","Mo","Tu","We","Th","Fr","Sa"),"") -> 0 | P8: =IF(MONTH(DATE(CalYear,7,3))=7,IFERROR(INDEX(Holidays!$B$6:$B$60,MATCH(DATE(CalYear,7,3),Holidays!$C$6:$C$60,0)),""),"") -> 0 | Q8: =IF(MONTH(DATE(CalYear,8,3))=8,CHOOSE(WEEKDAY(DATE(CalYear,8,3)),"Su","Mo","Tu","We","Th","Fr","Sa"),"") -> 0 | R8: =IF(MONTH(DATE(CalYear,8,3))=8,IFERROR(INDEX(Holidays!$B$6:$B$60,MATCH(DATE(CalYear,8,3),Holidays!$C$6:$C$60,0)),""),"") -> 0 | S8: =IF(MONTH(DATE(CalYear,9,3))=9,CHOOSE(WEEKDAY(DATE(CalYear,9,3)),"Su","Mo","Tu","We","Th","Fr","Sa"),"") -> 0 | T8: =IF(MONTH(DATE(CalYear,9,3))=9,IFERROR(INDEX(Holidays!$B$6:$B$60,MATCH(DATE(CalYear,9,3),Holidays!$C$6:$C$60,0)),""),"") -> 0 | U8: =IF(MONTH(DATE(CalYear,10,3))=10,CHOOSE(WEEKDAY(DATE(CalYear,10,3)),"Su","Mo","Tu","We","Th","Fr","Sa"),"") -> 0 | V8: =IF(MONTH(DATE(CalYear,10,3))=10,IFERROR(INDEX(Holidays!$B$6:$B$60,MATCH(DATE(CalYear,10,3),Holidays!$C$6:$C$60,0)),""),"") -> 0 | W8: =IF(MONTH(DATE(CalYear,11,3))=11,CHOOSE(WEEKDAY(DATE(CalYear,11,3)),"Su","Mo","Tu","We","Th","Fr","Sa"),"") -> 0 | X8: =IF(MONTH(DATE(CalYear,11,3))=11,IFERROR(INDEX(Holidays!$B$6:$B$60,MATCH(DATE(CalYear,11,3),Holidays!$C$6:$C$60,0)),""),"") -> 0 | Y8: =IF(MONTH(DATE(CalYear,12,3))=12,CHOOSE(WEEKDAY(DATE(CalYear,12,3)),"Su","Mo","Tu","We","Th","Fr","Sa"),"") -> 0 | Z8: =IF(MONTH(DATE(CalYear,12,3))=12,IFERROR(INDEX(Holidays!$B$6:$B$60,MATCH(DATE(CalYear,12,3),Holidays!$C$6:$C$60,0)),""),"") -> 0 | AA8: 3
B9: 4 | C9: =IF(MONTH(DATE(CalYear,1,4))=1,CHOOSE(WEEKDAY(DATE(CalYear,1,4)),"Su","Mo","Tu","We","Th","Fr","Sa"),"") -> 0 | D9: =IF(MONTH(DATE(CalYear,1,4))=1,IFERROR(INDEX(Holidays!$B$6:$B$60,MATCH(DATE(CalYear,1,4),Holidays!$C$6:$C$60,0)),""),"") -> 0 | E9: =IF(MONTH(DATE(CalYear,2,4))=2,CHOOSE(WEEKDAY(DATE(CalYear,2,4)),"Su","Mo","Tu","We","Th","Fr","Sa"),"") -> 0 | F9: =IF(MONTH(DATE(CalYear,2,4))=2,IFERROR(INDEX(Holidays!$B$6:$B$60,MATCH(DATE(CalYear,2,4),Holidays!$C$6:$C$60,0)),""),"") -> 0 | G9: =IF(MONTH(DATE(CalYear,3,4))=3,CHOOSE(WEEKDAY(DATE(CalYear,3,4)),"Su","Mo","Tu","We","Th","Fr","Sa"),"") -> 0 | H9: =IF(MONTH(DATE(CalYear,3,4))=3,IFERROR(INDEX(Holidays!$B$6:$B$60,MATCH(DATE(CalYear,3,4),Holidays!$C$6:$C$60,0)),""),"") -> 0 | I9: =IF(MONTH(DATE(CalYear,4,4))=4,CHOOSE(WEEKDAY(DATE(CalYear,4,4)),"Su","Mo","Tu","We","Th","Fr","Sa"),"") -> 0 | J9: =IF(MONTH(DATE(CalYear,4,4))=4,IFERROR(INDEX(Holidays!$B$6:$B$60,MATCH(DATE(CalYear,4,4),Holidays!$C$6:$C$60,0)),""),"") -> 0 | K9: =IF(MONTH(DATE(CalYear,5,4))=5,CHOOSE(WEEKDAY(DATE(CalYear,5,4)),"Su","Mo","Tu","We","Th","Fr","Sa"),"") -> 0 | L9: =IF(MONTH(DATE(CalYear,5,4))=5,IFERROR(INDEX(Holidays!$B$6:$B$60,MATCH(DATE(CalYear,5,4),Holidays!$C$6:$C$60,0)),""),"") -> 0 | M9: =IF(MONTH(DATE(CalYear,6,4))=6,CHOOSE(WEEKDAY(DATE(CalYear,6,4)),"Su","Mo","Tu","We","Th","Fr","Sa"),"") -> 0 | N9: =IF(MONTH(DATE(CalYear,6,4))=6,IFERROR(INDEX(Holidays!$B$6:$B$60,MATCH(DATE(CalYear,6,4),Holidays!$C$6:$C$60,0)),""),"") -> 0 | O9: =IF(MONTH(DATE(CalYear,7,4))=7,CHOOSE(WEEKDAY(DATE(CalYear,7,4)),"Su","Mo","Tu","We","Th","Fr","Sa"),"") -> 0 | P9: =IF(MONTH(DATE(CalYear,7,4))=7,IFERROR(INDEX(Holidays!$B$6:$B$60,MATCH(DATE(CalYear,7,4),Holidays!$C$6:$C$60,0)),""),"") -> 0 | Q9: =IF(MONTH(DATE(CalYear,8,4))=8,CHOOSE(WEEKDAY(DATE(CalYear,8,4)),"Su","Mo","Tu","We","Th","Fr","Sa"),"") -> 0 | R9: =IF(MONTH(DATE(CalYear,8,4))=8,IFERROR(INDEX(Holidays!$B$6:$B$60,MATCH(DATE(CalYear,8,4),Holidays!$C$6:$C$60,0)),""),"") -> 0 | S9: =IF(MONTH(DATE(CalYear,9,4))=9,CHOOSE(WEEKDAY(DATE(CalYear,9,4)),"Su","Mo","Tu","We","Th","Fr","Sa"),"") -> 0 | T9: =IF(MONTH(DATE(CalYear,9,4))=9,IFERROR(INDEX(Holidays!$B$6:$B$60,MATCH(DATE(CalYear,9,4),Holidays!$C$6:$C$60,0)),""),"") -> 0 | U9: =IF(MONTH(DATE(CalYear,10,4))=10,CHOOSE(WEEKDAY(DATE(CalYear,10,4)),"Su","Mo","Tu","We","Th","Fr","Sa"),"") -> 0 | V9: =IF(MONTH(DATE(CalYear,10,4))=10,IFERROR(INDEX(Holidays!$B$6:$B$60,MATCH(DATE(CalYear,10,4),Holidays!$C$6:$C$60,0)),""),"") -> 0 | W9: =IF(MONTH(DATE(CalYear,11,4))=11,CHOOSE(WEEKDAY(DATE(CalYear,11,4)),"Su","Mo","Tu","We","Th","Fr","Sa"),"") -> 0 | X9: =IF(MONTH(DATE(CalYear,11,4))=11,IFERROR(INDEX(Holidays!$B$6:$B$60,MATCH(DATE(CalYear,11,4),Holidays!$C$6:$C$60,0)),""),"") -> 0 | Y9: =IF(MONTH(DATE(CalYear,12,4))=12,CHOOSE(WEEKDAY(DATE(CalYear,12,4)),"Su","Mo","Tu","We","Th","Fr","Sa"),"") -> 0 | Z9: =IF(MONTH(DATE(CalYear,12,4))=12,IFERROR(INDEX(Holidays!$B$6:$B$60,MATCH(DATE(CalYear,12,4),Holidays!$C$6:$C$60,0)),""),"") -> 0 | AA9: 4
B10: 5 | C10: =IF(MONTH(DATE(CalYear,1,5))=1,CHOOSE(WEEKDAY(DATE(CalYear,1,5)),"Su","Mo","Tu","We","Th","Fr","Sa"),"") -> 0 | D10: =IF(MONTH(DATE(CalYear,1,5))=1,IFERROR(INDEX(Holidays!$B$6:$B$60,MATCH(DATE(CalYear,1,5),Holidays!$C$6:$C$60,0)),""),"") -> 0 | E10: =IF(MONTH(DATE(CalYear,2,5))=2,CHOOSE(WEEKDAY(DATE(CalYear,2,5)),"Su","Mo","Tu","We","Th","Fr","Sa"),"") -> 0 | F10: =IF(MONTH(DATE(CalYear,2,5))=2,IFERROR(INDEX(Holidays!$B$6:$B$60,MATCH(DATE(CalYear,2,5),Holidays!$C$6:$C$60,0)),""),"") -> 0 | G10: =IF(MONTH(DATE(CalYear,3,5))=3,CHOOSE(WEEKDAY(DATE(CalYear,3,5)),"Su","Mo","Tu","We","Th","Fr","Sa"),"") -> 0 | H10: =IF(MONTH(DATE(CalYear,3,5))=3,IFERROR(INDEX(Holidays!$B$6:$B$60,MATCH(DATE(CalYear,3,5),Holidays!$C$6:$C$60,0)),""),"") -> 0 | I10: =IF(MONTH(DATE(CalYear,4,5))=4,CHOOSE(WEEKDAY(DATE(CalYear,4,5)),"Su","Mo","Tu","We","Th","Fr","Sa"),"") -> 0 | J10: =IF(MONTH(DATE(CalYear,4,5))=4,IFERROR(INDEX(Holidays!$B$6:$B$60,MATCH(DATE(CalYear,4,5),Holidays!$C$6:$C$60,0)),""),"") -> 0 | K10: =IF(MONTH(DATE(CalYear,5,5))=5,CHOOSE(WEEKDAY(DATE(CalYear,5,5)),"Su","Mo","Tu","We","Th","Fr","Sa"),"") -> 0 | L10: =IF(MONTH(DATE(CalYear,5,5))=5,IFERROR(INDEX(Holidays!$B$6:$B$60,MATCH(DATE(CalYear,5,5),Holidays!$C$6:$C$60,0)),""),"") -> 0 | M10: =IF(MONTH(DATE(CalYear,6,5))=6,CHOOSE(WEEKDAY(DATE(CalYear,6,5)),"Su","Mo","Tu","We","Th","Fr","Sa"),"") -> 0 | N10: =IF(MONTH(DATE(CalYear,6,5))=6,IFERROR(INDEX(Holidays!$B$6:$B$60,MATCH(DATE(CalYear,6,5),Holidays!$C$6:$C$60,0)),""),"") -> 0 | O10: =IF(MONTH(DATE(CalYear,7,5))=7,CHOOSE(WEEKDAY(DATE(CalYear,7,5)),"Su","Mo","Tu","We","Th","Fr","Sa"),"") -> 0 | P10: =IF(MONTH(DATE(CalYear,7,5))=7,IFERROR(INDEX(Holidays!$B$6:$B$60,MATCH(DATE(CalYear,7,5),Holidays!$C$6:$C$60,0)),""),"") -> 0 | Q10: =IF(MONTH(DATE(CalYear,8,5))=8,CHOOSE(WEEKDAY(DATE(CalYear,8,5)),"Su","Mo","Tu","We","Th","Fr","Sa"),"") -> 0 | R10: =IF(MONTH(DATE(CalYear,8,5))=8,IFERROR(INDEX(Holidays!$B$6:$B$60,MATCH(DATE(CalYear,8,5),Holidays!$C$6:$C$60,0)),""),"") -> 0 | S10: =IF(MONTH(DATE(CalYear,9,5))=9,CHOOSE(WEEKDAY(DATE(CalYear,9,5)),"Su","Mo","Tu","We","Th","Fr","Sa"),"") -> 0 | T10: =IF(MONTH(DATE(CalYear,9,5))=9,IFERROR(INDEX(Holidays!$B$6:$B$60,MATCH(DATE(CalYear,9,5),Holidays!$C$6:$C$60,0)),""),"") -> 0 | U10: =IF(MONTH(DATE(CalYear,10,5))=10,CHOOSE(WEEKDAY(DATE(CalYear,10,5)),"Su","Mo","Tu","We","Th","Fr","Sa"),"") -> 0 | V10: =IF(MONTH(DATE(CalYear,10,5))=10,IFERROR(INDEX(Holidays!$B$6:$B$60,MATCH(DATE(CalYear,10,5),Holidays!$C$6:$C$60,0)),""),"") -> 0 | W10: =IF(MONTH(DATE(CalYear,11,5))=11,CHOOSE(WEEKDAY(DATE(CalYear,11,5)),"Su","Mo","Tu","We","Th","Fr","Sa"),"") -> 0 | X10: =IF(MONTH(DATE(CalYear,11,5))=11,IFERROR(INDEX(Holidays!$B$6:$B$60,MATCH(DATE(CalYear,11,5),Holidays!$C$6:$C$60,0)),""),"") -> 0 | Y10: =IF(MONTH(DATE(CalYear,12,5))=12,CHOOSE(WEEKDAY(DATE(CalYear,12,5)),"Su","Mo","Tu","We","Th","Fr","Sa"),"") -> 0 | Z10: =IF(MONTH(DATE(CalYear,12,5))=12,IFERROR(INDEX(Holidays!$B$6:$B$60,MATCH(DATE(CalYear,12,5),Holidays!$C$6:$C$60,0)),""),"") -> 0 | AA10: 5
B11: 6 | C11: =IF(MONTH(DATE(CalYear,1,6))=1,CHOOSE(WEEKDAY(DATE(CalYear,1,6)),"Su","Mo","Tu","We","Th","Fr","Sa"),"") -> 0 | D11: =IF(MONTH(DATE(CalYear,1,6))=1,IFERROR(INDEX(Holidays!$B$6:$B$60,MATCH(DATE(CalYear,1,6),Holidays!$C$6:$C$60,0)),""),"") -> 0 | E11: =IF(MONTH(DATE(CalYear,2,6))=2,CHOOSE(WEEKDAY(DATE(CalYear,2,6)),"Su","Mo","Tu","We","Th","Fr","Sa"),"") -> 0 | F11: =IF(MONTH(DATE(CalYear,2,6))=2,IFERROR(INDEX(Holidays!$B$6:$B$60,MATCH(DATE(CalYear,2,6),Holidays!$C$6:$C$60,0)),""),"") -> 0 | G11: =IF(MONTH(DATE(CalYear,3,6))=3,CHOOSE(WEEKDAY(DATE(CalYear,3,6)),"Su","Mo","Tu","We","Th","Fr","Sa"),"") -> 0 | H11: =IF(MONTH(DATE(CalYear,3,6))=3,IFERROR(INDEX(Holidays!$B$6:$B$60,MATCH(DATE(CalYear,3,6),Holidays!$C$6:$C$60,0)),""),"") -> 0 | I11: =IF(MONTH(DATE(CalYear,4,6))=4,CHOOSE(WEEKDAY(DATE(CalYear,4,6)),"Su","Mo","Tu","We","Th","Fr","Sa"),"") -> 0 | J11: =IF(MONTH(DATE(CalYear,4,6))=4,IFERROR(INDEX(Holidays!$B$6:$B$60,MATCH(DATE(CalYear,4,6),Holidays!$C$6:$C$60,0)),""),"") -> 0 | K11: =IF(MONTH(DATE(CalYear,5,6))=5,CHOOSE(WEEKDAY(DATE(CalYear,5,6)),"Su","Mo","Tu","We","Th","Fr","Sa"),"") -> 0 | L11: =IF(MONTH(DATE(CalYear,5,6))=5,IFERROR(INDEX(Holidays!$B$6:$B$60,MATCH(DATE(CalYear,5,6),Holidays!$C$6:$C$60,0)),""),"") -> 0 | M11: =IF(MONTH(DATE(CalYear,6,6))=6,CHOOSE(WEEKDAY(DATE(CalYear,6,6)),"Su","Mo","Tu","We","Th","Fr","Sa"),"") -> 0 | N11: =IF(MONTH(DATE(CalYear,6,6))=6,IFERROR(INDEX(Holidays!$B$6:$B$60,MATCH(DATE(CalYear,6,6),Holidays!$C$6:$C$60,0)),""),"") -> 0 | O11: =IF(MONTH(DATE(CalYear,7,6))=7,CHOOSE(WEEKDAY(DATE(CalYear,7,6)),"Su","Mo","Tu","We","Th","Fr","Sa"),"") -> 0 | P11: =IF(MONTH(DATE(CalYear,7,6))=7,IFERROR(INDEX(Holidays!$B$6:$B$60,MATCH(DATE(CalYear,7,6),Holidays!$C$6:$C$60,0)),""),"") -> 0 | Q11: =IF(MONTH(DATE(CalYear,8,6))=8,CHOOSE(WEEKDAY(DATE(CalYear,8,6)),"Su","Mo","Tu","We","Th","Fr","Sa"),"") -> 0 | R11: =IF(MONTH(DATE(CalYear,8,6))=8,IFERROR(INDEX(Holidays!$B$6:$B$60,MATCH(DATE(CalYear,8,6),Holidays!$C$6:$C$60,0)),""),"") -> 0 | S11: =IF(MONTH(DATE(CalYear,9,6))=9,CHOOSE(WEEKDAY(DATE(CalYear,9,6)),"Su","Mo","Tu","We","Th","Fr","Sa"),"") -> 0 | T11: =IF(MONTH(DATE(CalYear,9,6))=9,IFERROR(INDEX(Holidays!$B$6:$B$60,MATCH(DATE(CalYear,9,6),Holidays!$C$6:$C$60,0)),""),"") -> 0 | U11: =IF(MONTH(DATE(CalYear,10,6))=10,CHOOSE(WEEKDAY(DATE(CalYear,10,6)),"Su","Mo","Tu","We","Th","Fr","Sa"),"") -> 0 | V11: =IF(MONTH(DATE(CalYear,10,6))=10,IFERROR(INDEX(Holidays!$B$6:$B$60,MATCH(DATE(CalYear,10,6),Holidays!$C$6:$C$60,0)),""),"") -> 0 | W11: =IF(MONTH(DATE(CalYear,11,6))=11,CHOOSE(WEEKDAY(DATE(CalYear,11,6)),"Su","Mo","Tu","We","Th","Fr","Sa"),"") -> 0 | X11: =IF(MONTH(DATE(CalYear,11,6))=11,IFERROR(INDEX(Holidays!$B$6:$B$60,MATCH(DATE(CalYear,11,6),Holidays!$C$6:$C$60,0)),""),"") -> 0 | Y11: =IF(MONTH(DATE(CalYear,12,6))=12,CHOOSE(WEEKDAY(DATE(CalYear,12,6)),"Su","Mo","Tu","We","Th","Fr","Sa"),"") -> 0 | Z11: =IF(MONTH(DATE(CalYear,12,6))=12,IFERROR(INDEX(Holidays!$B$6:$B$60,MATCH(DATE(CalYear,12,6),Holidays!$C$6:$C$60,0)),""),"") -> 0 | AA11: 6
B12: 7 | C12: =IF(MONTH(DATE(CalYear,1,7))=1,CHOOSE(WEEKDAY(DATE(CalYear,1,7)),"Su","Mo","Tu","We","Th","Fr","Sa"),"") -> 0 | D12: =IF(MONTH(DATE(CalYear,1,7))=1,IFERROR(INDEX(Holidays!$B$6:$B$60,MATCH(DATE(CalYear,1,7),Holidays!$C$6:$C$60,0)),""),"") -> 0 | E12: =IF(MONTH(DATE(CalYear,2,7))=2,CHOOSE(WEEKDAY(DATE(CalYear,2,7)),"Su","Mo","Tu","We","Th","Fr","Sa"),"") -> 0 | F12: =IF(MONTH(DATE(CalYear,2,7))=2,IFERROR(INDEX(Holidays!$B$6:$B$60,MATCH(DATE(CalYear,2,7),Holidays!$C$6:$C$60,0)),""),"") -> 0 | G12: =IF(MONTH(DATE(CalYear,3,7))=3,CHOOSE(WEEKDAY(DATE(CalYear,3,7)),"Su","Mo","Tu","We","Th","Fr","Sa"),"") -> 0 | H12: =IF(MONTH(DATE(CalYear,3,7))=3,IFERROR(INDEX(Holidays!$B$6:$B$60,MATCH(DATE(CalYear,3,7),Holidays!$C$6:$C$60,0)),""),"") -> 0 | I12: =IF(MONTH(DATE(CalYear,4,7))=4,CHOOSE(WEEKDAY(DATE(CalYear,4,7)),"Su","Mo","Tu","We","Th","Fr","Sa"),"") -> 0 | J12: =IF(MONTH(DATE(CalYear,4,7))=4,IFERROR(INDEX(Holidays!$B$6:$B$60,MATCH(DATE(CalYear,4,7),Holidays!$C$6:$C$60,0)),""),"") -> 0 | K12: =IF(MONTH(DATE(CalYear,5,7))=5,CHOOSE(WEEKDAY(DATE(CalYear,5,7)),"Su","Mo","Tu","We","Th","Fr","Sa"),"") -> 0 | L12: =IF(MONTH(DATE(CalYear,5,7))=5,IFERROR(INDEX(Holidays!$B$6:$B$60,MATCH(DATE(CalYear,5,7),Holidays!$C$6:$C$60,0)),""),"") -> 0 | M12: =IF(MONTH(DATE(CalYear,6,7))=6,CHOOSE(WEEKDAY(DATE(CalYear,6,7)),"Su","Mo","Tu","We","Th","Fr","Sa"),"") -> 0 | N12: =IF(MONTH(DATE(CalYear,6,7))=6,IFERROR(INDEX(Holidays!$B$6:$B$60,MATCH(DATE(CalYear,6,7),Holidays!$C$6:$C$60,0)),""),"") -> 0 | O12: =IF(MONTH(DATE(CalYear,7,7))=7,CHOOSE(WEEKDAY(DATE(CalYear,7,7)),"Su","Mo","Tu","We","Th","Fr","Sa"),"") -> 0 | P12: =IF(MONTH(DATE(CalYear,7,7))=7,IFERROR(INDEX(Holidays!$B$6:$B$60,MATCH(DATE(CalYear,7,7),Holidays!$C$6:$C$60,0)),""),"") -> 0 | Q12: =IF(MONTH(DATE(CalYear,8,7))=8,CHOOSE(WEEKDAY(DATE(CalYear,8,7)),"Su","Mo","Tu","We","Th","Fr","Sa"),"") -> 0 | R12: =IF(MONTH(DATE(CalYear,8,7))=8,IFERROR(INDEX(Holidays!$B$6:$B$60,MATCH(DATE(CalYear,8,7),Holidays!$C$6:$C$60,0)),""),"") -> 0 | S12: =IF(MONTH(DATE(CalYear,9,7))=9,CHOOSE(WEEKDAY(DATE(CalYear,9,7)),"Su","Mo","Tu","We","Th","Fr","Sa"),"") -> 0 | T12: =IF(MONTH(DATE(CalYear,9,7))=9,IFERROR(INDEX(Holidays!$B$6:$B$60,MATCH(DATE(CalYear,9,7),Holidays!$C$6:$C$60,0)),""),"") -> 0 | U12: =IF(MONTH(DATE(CalYear,10,7))=10,CHOOSE(WEEKDAY(DATE(CalYear,10,7)),"Su","Mo","Tu","We","Th","Fr","Sa"),"") -> 0 | V12: =IF(MONTH(DATE(CalYear,10,7))=10,IFERROR(INDEX(Holidays!$B$6:$B$60,MATCH(DATE(CalYear,10,7),Holidays!$C$6:$C$60,0)),""),"") -> 0 | W12: =IF(MONTH(DATE(CalYear,11,7))=11,CHOOSE(WEEKDAY(DATE(CalYear,11,7)),"Su","Mo","Tu","We","Th","Fr","Sa"),"") -> 0 | X12: =IF(MONTH(DATE(CalYear,11,7))=11,IFERROR(INDEX(Holidays!$B$6:$B$60,MATCH(DATE(CalYear,11,7),Holidays!$C$6:$C$60,0)),""),"") -> 0 | Y12: =IF(MONTH(DATE(CalYear,12,7))=12,CHOOSE(WEEKDAY(DATE(CalYear,12,7)),"Su","Mo","Tu","We","Th","Fr","Sa"),"") -> 0 | Z12: =IF(MONTH(DATE(CalYear,12,7))=12,IFERROR(INDEX(Holidays!$B$6:$B$60,MATCH(DATE(CalYear,12,7),Holidays!$C$6:$C$60,0)),""),"") -> 0 | AA12: 7
B13: 8 | C13: =IF(MONTH(DATE(CalYear,1,8))=1,CHOOSE(WEEKDAY(DATE(CalYear,1,8)),"Su","Mo","Tu","We","Th","Fr","Sa"),"") -> 0 | D13: =IF(MONTH(DATE(CalYear,1,8))=1,IFERROR(INDEX(Holidays!$B$6:$B$60,MATCH(DATE(CalYear,1,8),Holidays!$C$6:$C$60,0)),""),"") -> 0 | E13: =IF(MONTH(DATE(CalYear,2,8))=2,CHOOSE(WEEKDAY(DATE(CalYear,2,8)),"Su","Mo","Tu","We","Th","Fr","Sa"),"") -> 0 | F13: =IF(MONTH(DATE(CalYear,2,8))=2,IFERROR(INDEX(Holidays!$B$6:$B$60,MATCH(DATE(CalYear,2,8),Holidays!$C$6:$C$60,0)),""),"") -> 0 | G13: =IF(MONTH(DATE(CalYear,3,8))=3,CHOOSE(WEEKDAY(DATE(CalYear,3,8)),"Su","Mo","Tu","We","Th","Fr","Sa"),"") -> 0 | H13: =IF(MONTH(DATE(CalYear,3,8))=3,IFERROR(INDEX(Holidays!$B$6:$B$60,MATCH(DATE(CalYear,3,8),Holidays!$C$6:$C$60,0)),""),"") -> 0 | I13: =IF(MONTH(DATE(CalYear,4,8))=4,CHOOSE(WEEKDAY(DATE(CalYear,4,8)),"Su","Mo","Tu","We","Th","Fr","Sa"),"") -> 0 | J13: =IF(MONTH(DATE(CalYear,4,8))=4,IFERROR(INDEX(Holidays!$B$6:$B$60,MATCH(DATE(CalYear,4,8),Holidays!$C$6:$C$60,0)),""),"") -> 0 | K13: =IF(MONTH(DATE(CalYear,5,8))=5,CHOOSE(WEEKDAY(DATE(CalYear,5,8)),"Su","Mo","Tu","We","Th","Fr","Sa"),"") -> 0 | L13: =IF(MONTH(DATE(CalYear,5,8))=5,IFERROR(INDEX(Holidays!$B$6:$B$60,MATCH(DATE(CalYear,5,8),Holidays!$C$6:$C$60,0)),""),"") -> 0 | M13: =IF(MONTH(DATE(CalYear,6,8))=6,CHOOSE(WEEKDAY(DATE(CalYear,6,8)),"Su","Mo","Tu","We","Th","Fr","Sa"),"") -> 0 | N13: =IF(MONTH(DATE(CalYear,6,8))=6,IFERROR(INDEX(Holidays!$B$6:$B$60,MATCH(DATE(CalYear,6,8),Holidays!$C$6:$C$60,0)),""),"") -> 0 | O13: =IF(MONTH(DATE(CalYear,7,8))=7,CHOOSE(WEEKDAY(DATE(CalYear,7,8)),"Su","Mo","Tu","We","Th","Fr","Sa"),"") -> 0 | P13: =IF(MONTH(DATE(CalYear,7,8))=7,IFERROR(INDEX(Holidays!$B$6:$B$60,MATCH(DATE(CalYear,7,8),Holidays!$C$6:$C$60,0)),""),"") -> 0 | Q13: =IF(MONTH(DATE(CalYear,8,8))=8,CHOOSE(WEEKDAY(DATE(CalYear,8,8)),"Su","Mo","Tu","We","Th","Fr","Sa"),"") -> 0 | R13: =IF(MONTH(DATE(CalYear,8,8))=8,IFERROR(INDEX(Holidays!$B$6:$B$60,MATCH(DATE(CalYear,8,8),Holidays!$C$6:$C$60,0)),""),"") -> 0 | S13: =IF(MONTH(DATE(CalYear,9,8))=9,CHOOSE(WEEKDAY(DATE(CalYear,9,8)),"Su","Mo","Tu","We","Th","Fr","Sa"),"") -> 0 | T13: =IF(MONTH(DATE(CalYear,9,8))=9,IFERROR(INDEX(Holidays!$B$6:$B$60,MATCH(DATE(CalYear,9,8),Holidays!$C$6:$C$60,0)),""),"") -> 0 | U13: =IF(MONTH(DATE(CalYear,10,8))=10,CHOOSE(WEEKDAY(DATE(CalYear,10,8)),"Su","Mo","Tu","We","Th","Fr","Sa"),"") -> 0 | V13: =IF(MONTH(DATE(CalYear,10,8))=10,IFERROR(INDEX(Holidays!$B$6:$B$60,MATCH(DATE(CalYear,10,8),Holidays!$C$6:$C$60,0)),""),"") -> 0 | W13: =IF(MONTH(DATE(CalYear,11,8))=11,CHOOSE(WEEKDAY(DATE(CalYear,11,8)),"Su","Mo","Tu","We","Th","Fr","Sa"),"") -> 0 | X13: =IF(MONTH(DATE(CalYear,11,8))=11,IFERROR(INDEX(Holidays!$B$6:$B$60,MATCH(DATE(CalYear,11,8),Holidays!$C$6:$C$60,0)),""),"") -> 0 | Y13: =IF(MONTH(DATE(CalYear,12,8))=12,CHOOSE(WEEKDAY(DATE(CalYear,12,8)),"Su","Mo","Tu","We","Th","Fr","Sa"),"") -> 0 | Z13: =IF(MONTH(DATE(CalYear,12,8))=12,IFERROR(INDEX(Holidays!$B$6:$B$60,MATCH(DATE(CalYear,12,8),Holidays!$C$6:$C$60,0)),""),"") -> 0 | AA13: 8
B14: 9 | C14: =IF(MONTH(DATE(CalYear,1,9))=1,CHOOSE(WEEKDAY(DATE(CalYear,1,9)),"Su","Mo","Tu","We","Th","Fr","Sa"),"") -> 0 | D14: =IF(MONTH(DATE(CalYear,1,9))=1,IFERROR(INDEX(Holidays!$B$6:$B$60,MATCH(DATE(CalYear,1,9),Holidays!$C$6:$C$60,0)),""),"") -> 0 | E14: =IF(MONTH(DATE(CalYear,2,9))=2,CHOOSE(WEEKDAY(DATE(CalYear,2,9)),"Su","Mo","Tu","We","Th","Fr","Sa"),"") -> 0 | F14: =IF(MONTH(DATE(CalYear,2,9))=2,IFERROR(INDEX(Holidays!$B$6:$B$60,MATCH(DATE(CalYear,2,9),Holidays!$C$6:$C$60,0)),""),"") -> 0 | G14: =IF(MONTH(DATE(CalYear,3,9))=3,CHOOSE(WEEKDAY(DATE(CalYear,3,9)),"Su","Mo","Tu","We","Th","Fr","Sa"),"") -> 0 | H14: =IF(MONTH(DATE(CalYear,3,9))=3,IFERROR(INDEX(Holidays!$B$6:$B$60,MATCH(DATE(CalYear,3,9),Holidays!$C$6:$C$60,0)),""),"") -> 0 | I14: =IF(MONTH(DATE(CalYear,4,9))=4,CHOOSE(WEEKDAY(DATE(CalYear,4,9)),"Su","Mo","Tu","We","Th","Fr","Sa"),"") -> 0 | J14: =IF(MONTH(DATE(CalYear,4,9))=4,IFERROR(INDEX(Holidays!$B$6:$B$60,MATCH(DATE(CalYear,4,9),Holidays!$C$6:$C$60,0)),""),"") -> 0 | K14: =IF(MONTH(DATE(CalYear,5,9))=5,CHOOSE(WEEKDAY(DATE(CalYear,5,9)),"Su","Mo","Tu","We","Th","Fr","Sa"),"") -> 0 | L14: =IF(MONTH(DATE(CalYear,5,9))=5,IFERROR(INDEX(Holidays!$B$6:$B$60,MATCH(DATE(CalYear,5,9),Holidays!$C$6:$C$60,0)),""),"") -> 0 | M14: =IF(MONTH(DATE(CalYear,6,9))=6,CHOOSE(WEEKDAY(DATE(CalYear,6,9)),"Su","Mo","Tu","We","Th","Fr","Sa"),"") -> 0 | N14: =IF(MONTH(DATE(CalYear,6,9))=6,IFERROR(INDEX(Holidays!$B$6:$B$60,MATCH(DATE(CalYear,6,9),Holidays!$C$6:$C$60,0)),""),"") -> 0 | O14: =IF(MONTH(DATE(CalYear,7,9))=7,CHOOSE(WEEKDAY(DATE(CalYear,7,9)),"Su","Mo","Tu","We","Th","Fr","Sa"),"") -> 0 | P14: =IF(MONTH(DATE(CalYear,7,9))=7,IFERROR(INDEX(Holidays!$B$6:$B$60,MATCH(DATE(CalYear,7,9),Holidays!$C$6:$C$60,0)),""),"") -> 0 | Q14: =IF(MONTH(DATE(CalYear,8,9))=8,CHOOSE(WEEKDAY(DATE(CalYear,8,9)),"Su","Mo","Tu","We","Th","Fr","Sa"),"") -> 0 | R14: =IF(MONTH(DATE(CalYear,8,9))=8,IFERROR(INDEX(Holidays!$B$6:$B$60,MATCH(DATE(CalYear,8,9),Holidays!$C$6:$C$60,0)),""),"") -> 0 | S14: =IF(MONTH(DATE(CalYear,9,9))=9,CHOOSE(WEEKDAY(DATE(CalYear,9,9)),"Su","Mo","Tu","We","Th","Fr","Sa"),"") -> 0 | T14: =IF(MONTH(DATE(CalYear,9,9))=9,IFERROR(INDEX(Holidays!$B$6:$B$60,MATCH(DATE(CalYear,9,9),Holidays!$C$6:$C$60,0)),""),"") -> 0 | U14: =IF(MONTH(DATE(CalYear,10,9))=10,CHOOSE(WEEKDAY(DATE(CalYear,10,9)),"Su","Mo","Tu","We","Th","Fr","Sa"),"") -> 0 | V14: =IF(MONTH(DATE(CalYear,10,9))=10,IFERROR(INDEX(Holidays!$B$6:$B$60,MATCH(DATE(CalYear,10,9),Holidays!$C$6:$C$60,0)),""),"") -> 0 | W14: =IF(MONTH(DATE(CalYear,11,9))=11,CHOOSE(WEEKDAY(DATE(CalYear,11,9)),"Su","Mo","Tu","We","Th","Fr","Sa"),"") -> 0 | X14: =IF(MONTH(DATE(CalYear,11,9))=11,IFERROR(INDEX(Holidays!$B$6:$B$60,MATCH(DATE(CalYear,11,9),Holidays!$C$6:$C$60,0)),""),"") -> 0 | Y14: =IF(MONTH(DATE(CalYear,12,9))=12,CHOOSE(WEEKDAY(DATE(CalYear,12,9)),"Su","Mo","Tu","We","Th","Fr","Sa"),"") -> 0 | Z14: =IF(MONTH(DATE(CalYear,12,9))=12,IFERROR(INDEX(Holidays!$B$6:$B$60,MATCH(DATE(CalYear,12,9),Holidays!$C$6:$C$60,0)),""),"") -> 0 | AA14: 9
B15: 10 | C15: =IF(MONTH(DATE(CalYear,1,10))=1,CHOOSE(WEEKDAY(DATE(CalYear,1,10)),"Su","Mo","Tu","We","Th","Fr","Sa"),"") -> 0 | D15: =IF(MONTH(DATE(CalYear,1,10))=1,IFERROR(INDEX(Holidays!$B$6:$B$60,MATCH(DATE(CalYear,1,10),Holidays!$C$6:$C$60,0)),""),"") -> 0 | E15: =IF(MONTH(DATE(CalYear,2,10))=2,CHOOSE(WEEKDAY(DATE(CalYear,2,10)),"Su","Mo","Tu","We","Th","Fr","Sa"),"") -> 0 | F15: =IF(MONTH(DATE(CalYear,2,10))=2,IFERROR(INDEX(Holidays!$B$6:$B$60,MATCH(DATE(CalYear,2,10),Holidays!$C$6:$C$60,0)),""),"") -> 0 | G15: =IF(MONTH(DATE(CalYear,3,10))=3,CHOOSE(WEEKDAY(DATE(CalYear,3,10)),"Su","Mo","Tu","We","Th","Fr","Sa"),"") -> 0 | H15: =IF(MONTH(DATE(CalYear,3,10))=3,IFERROR(INDEX(Holidays!$B$6:$B$60,MATCH(DATE(CalYear,3,10),Holidays!$C$6:$C$60,0)),""),"") -> 0 | I15: =IF(MONTH(DATE(CalYear,4,10))=4,CHOOSE(WEEKDAY(DATE(CalYear,4,10)),"Su","Mo","Tu","We","Th","Fr","Sa"),"") -> 0 | J15: =IF(MONTH(DATE(CalYear,4,10))=4,IFERROR(INDEX(Holidays!$B$6:$B$60,MATCH(DATE(CalYear,4,10),Holidays!$C$6:$C$60,0)),""),"") -> 0 | K15: =IF(MONTH(DATE(CalYear,5,10))=5,CHOOSE(WEEKDAY(DATE(CalYear,5,10)),"Su","Mo","Tu","We","Th","Fr","Sa"),"") -> 0 | L15: =IF(MONTH(DATE(CalYear,5,10))=5,IFERROR(INDEX(Holidays!$B$6:$B$60,MATCH(DATE(CalYear,5,10),Holidays!$C$6:$C$60,0)),""),"") -> 0 | M15: =IF(MONTH(DATE(CalYear,6,10))=6,CHOOSE(WEEKDAY(DATE(CalYear,6,10)),"Su","Mo","Tu","We","Th","Fr","Sa"),"") -> 0 | N15: =IF(MONTH(DATE(CalYear,6,10))=6,IFERROR(INDEX(Holidays!$B$6:$B$60,MATCH(DATE(CalYear,6,10),Holidays!$C$6:$C$60,0)),""),"") -> 0 | O15: =IF(MONTH(DATE(CalYear,7,10))=7,CHOOSE(WEEKDAY(DATE(CalYear,7,10)),"Su","Mo","Tu","We","Th","Fr","Sa"),"") -> 0 | P15: =IF(MONTH(DATE(CalYear,7,10))=7,IFERROR(INDEX(Holidays!$B$6:$B$60,MATCH(DATE(CalYear,7,10),Holidays!$C$6:$C$60,0)),""),"") -> 0 | Q15: =IF(MONTH(DATE(CalYear,8,10))=8,CHOOSE(WEEKDAY(DATE(CalYear,8,10)),"Su","Mo","Tu","We","Th","Fr","Sa"),"") -> 0 | R15: =IF(MONTH(DATE(CalYear,8,10))=8,IFERROR(INDEX(Holidays!$B$6:$B$60,MATCH(DATE(CalYear,8,10),Holidays!$C$6:$C$60,0)),""),"") -> 0 | S15: =IF(MONTH(DATE(CalYear,9,10))=9,CHOOSE(WEEKDAY(DATE(CalYear,9,10)),"Su","Mo","Tu","We","Th","Fr","Sa"),"") -> 0 | T15: =IF(MONTH(DATE(CalYear,9,10))=9,IFERROR(INDEX(Holidays!$B$6:$B$60,MATCH(DATE(CalYear,9,10),Holidays!$C$6:$C$60,0)),""),"") -> 0 | U15: =IF(MONTH(DATE(CalYear,10,10))=10,CHOOSE(WEEKDAY(DATE(CalYear,10,10)),"Su","Mo","Tu","We","Th","Fr","Sa"),"") -> 0 | V15: =IF(MONTH(DATE(CalYear,10,10))=10,IFERROR(INDEX(Holidays!$B$6:$B$60,MATCH(DATE(CalYear,10,10),Holidays!$C$6:$C$60,0)),""),"") -> 0 | W15: =IF(MONTH(DATE(CalYear,11,10))=11,CHOOSE(WEEKDAY(DATE(CalYear,11,10)),"Su","Mo","Tu","We","Th","Fr","Sa"),"") -> 0 | X15: =IF(MONTH(DATE(CalYear,11,10))=11,IFERROR(INDEX(Holidays!$B$6:$B$60,MATCH(DATE(CalYear,11,10),Holidays!$C$6:$C$60,0)),""),"") -> 0 | Y15: =IF(MONTH(DATE(CalYear,12,10))=12,CHOOSE(WEEKDAY(DATE(CalYear,12,10)),"Su","Mo","Tu","We","Th","Fr","Sa"),"") -> 0 | Z15: =IF(MONTH(DATE(CalYear,12,10))=12,IFERROR(INDEX(Holidays!$B$6:$B$60,MATCH(DATE(CalYear,12,10),Holidays!$C$6:$C$60,0)),""),"") -> 0 | AA15: 10
B16: 11 | C16: =IF(MONTH(DATE(CalYear,1,11))=1,CHOOSE(WEEKDAY(DATE(CalYear,1,11)),"Su","Mo","Tu","We","Th","Fr","Sa"),"") -> 0 | D16: =IF(MONTH(DATE(CalYear,1,11))=1,IFERROR(INDEX(Holidays!$B$6:$B$60,MATCH(DATE(CalYear,1,11),Holidays!$C$6:$C$60,0)),""),"") -> 0 | E16: =IF(MONTH(DATE(CalYear,2,11))=2,CHOOSE(WEEKDAY(DATE(CalYear,2,11)),"Su","Mo","Tu","We","Th","Fr","Sa"),"") -> 0 | F16: =IF(MONTH(DATE(CalYear,2,11))=2,IFERROR(INDEX(Holidays!$B$6:$B$60,MATCH(DATE(CalYear,2,11),Holidays!$C$6:$C$60,0)),""),"") -> 0 | G16: =IF(MONTH(DATE(CalYear,3,11))=3,CHOOSE(WEEKDAY(DATE(CalYear,3,11)),"Su","Mo","Tu","We","Th","Fr","Sa"),"") -> 0 | H16: =IF(MONTH(DATE(CalYear,3,11))=3,IFERROR(INDEX(Holidays!$B$6:$B$60,MATCH(DATE(CalYear,3,11),Holidays!$C$6:$C$60,0)),""),"") -> 0 | I16: =IF(MONTH(DATE(CalYear,4,11))=4,CHOOSE(WEEKDAY(DATE(CalYear,4,11)),"Su","Mo","Tu","We","Th","Fr","Sa"),"") -> 0 | J16: =IF(MONTH(DATE(CalYear,4,11))=4,IFERROR(INDEX(Holidays!$B$6:$B$60,MATCH(DATE(CalYear,4,11),Holidays!$C$6:$C$60,0)),""),"") -> 0 | K16: =IF(MONTH(DATE(CalYear,5,11))=5,CHOOSE(WEEKDAY(DATE(CalYear,5,11)),"Su","Mo","Tu","We","Th","Fr","Sa"),"") -> 0 | L16: =IF(MONTH(DATE(CalYear,5,11))=5,IFERROR(INDEX(Holidays!$B$6:$B$60,MATCH(DATE(CalYear,5,11),Holidays!$C$6:$C$60,0)),""),"") -> 0 | M16: =IF(MONTH(DATE(CalYear,6,11))=6,CHOOSE(WEEKDAY(DATE(CalYear,6,11)),"Su","Mo","Tu","We","Th","Fr","Sa"),"") -> 0 | N16: =IF(MONTH(DATE(CalYear,6,11))=6,IFERROR(INDEX(Holidays!$B$6:$B$60,MATCH(DATE(CalYear,6,11),Holidays!$C$6:$C$60,0)),""),"") -> 0 | O16: =IF(MONTH(DATE(CalYear,7,11))=7,CHOOSE(WEEKDAY(DATE(CalYear,7,11)),"Su","Mo","Tu","We","Th","Fr","Sa"),"") -> 0 | P16: =IF(MONTH(DATE(CalYear,7,11))=7,IFERROR(INDEX(Holidays!$B$6:$B$60,MATCH(DATE(CalYear,7,11),Holidays!$C$6:$C$60,0)),""),"") -> 0 | Q16: =IF(MONTH(DATE(CalYear,8,11))=8,CHOOSE(WEEKDAY(DATE(CalYear,8,11)),"Su","Mo","Tu","We","Th","Fr","Sa"),"") -> 0 | R16: =IF(MONTH(DATE(CalYear,8,11))=8,IFERROR(INDEX(Holidays!$B$6:$B$60,MATCH(DATE(CalYear,8,11),Holidays!$C$6:$C$60,0)),""),"") -> 0 | S16: =IF(MONTH(DATE(CalYear,9,11))=9,CHOOSE(WEEKDAY(DATE(CalYear,9,11)),"Su","Mo","Tu","We","Th","Fr","Sa"),"") -> 0 | T16: =IF(MONTH(DATE(CalYear,9,11))=9,IFERROR(INDEX(Holidays!$B$6:$B$60,MATCH(DATE(CalYear,9,11),Holidays!$C$6:$C$60,0)),""),"") -> 0 | U16: =IF(MONTH(DATE(CalYear,10,11))=10,CHOOSE(WEEKDAY(DATE(CalYear,10,11)),"Su","Mo","Tu","We","Th","Fr","Sa"),"") -> 0 | V16: =IF(MONTH(DATE(CalYear,10,11))=10,IFERROR(INDEX(Holidays!$B$6:$B$60,MATCH(DATE(CalYear,10,11),Holidays!$C$6:$C$60,0)),""),"") -> 0 | W16: =IF(MONTH(DATE(CalYear,11,11))=11,CHOOSE(WEEKDAY(DATE(CalYear,11,11)),"Su","Mo","Tu","We","Th","Fr","Sa"),"") -> 0 | X16: =IF(MONTH(DATE(CalYear,11,11))=11,IFERROR(INDEX(Holidays!$B$6:$B$60,MATCH(DATE(CalYear,11,11),Holidays!$C$6:$C$60,0)),""),"") -> 0 | Y16: =IF(MONTH(DATE(CalYear,12,11))=12,CHOOSE(WEEKDAY(DATE(CalYear,12,11)),"Su","Mo","Tu","We","Th","Fr","Sa"),"") -> 0 | Z16: =IF(MONTH(DATE(CalYear,12,11))=12,IFERROR(INDEX(Holidays!$B$6:$B$60,MATCH(DATE(CalYear,12,11),Holidays!$C$6:$C$60,0)),""),"") -> 0 | AA16: 11
B17: 12 | C17: =IF(MONTH(DATE(CalYear,1,12))=1,CHOOSE(WEEKDAY(DATE(CalYear,1,12)),"Su","Mo","Tu","We","Th","Fr","Sa"),"") -> 0 | D17: =IF(MONTH(DATE(CalYear,1,12))=1,IFERROR(INDEX(Holidays!$B$6:$B$60,MATCH(DATE(CalYear,1,12),Holidays!$C$6:$C$60,0)),""),"") -> 0 | E17: =IF(MONTH(DATE(CalYear,2,12))=2,CHOOSE(WEEKDAY(DATE(CalYear,2,12)),"Su","Mo","Tu","We","Th","Fr","Sa"),"") -> 0 | F17: =IF(MONTH(DATE(CalYear,2,12))=2,IFERROR(INDEX(Holidays!$B$6:$B$60,MATCH(DATE(CalYear,2,12),Holidays!$C$6:$C$60,0)),""),"") -> 0 | G17: =IF(MONTH(DATE(CalYear,3,12))=3,CHOOSE(WEEKDAY(DATE(CalYear,3,12)),"Su","Mo","Tu","We","Th","Fr","Sa"),"") -> 0 | H17: =IF(MONTH(DATE(CalYear,3,12))=3,IFERROR(INDEX(Holidays!$B$6:$B$60,MATCH(DATE(CalYear,3,12),Holidays!$C$6:$C$60,0)),""),"") -> 0 | I17: =IF(MONTH(DATE(CalYear,4,12))=4,CHOOSE(WEEKDAY(DATE(CalYear,4,12)),"Su","Mo","Tu","We","Th","Fr","Sa"),"") -> 0 | J17: =IF(MONTH(DATE(CalYear,4,12))=4,IFERROR(INDEX(Holidays!$B$6:$B$60,MATCH(DATE(CalYear,4,12),Holidays!$C$6:$C$60,0)),""),"") -> 0 | K17: =IF(MONTH(DATE(CalYear,5,12))=5,CHOOSE(WEEKDAY(DATE(CalYear,5,12)),"Su","Mo","Tu","We","Th","Fr","Sa"),"") -> 0 | L17: =IF(MONTH(DATE(CalYear,5,12))=5,IFERROR(INDEX(Holidays!$B$6:$B$60,MATCH(DATE(CalYear,5,12),Holidays!$C$6:$C$60,0)),""),"") -> 0 | M17: =IF(MONTH(DATE(CalYear,6,12))=6,CHOOSE(WEEKDAY(DATE(CalYear,6,12)),"Su","Mo","Tu","We","Th","Fr","Sa"),"") -> 0 | N17: =IF(MONTH(DATE(CalYear,6,12))=6,IFERROR(INDEX(Holidays!$B$6:$B$60,MATCH(DATE(CalYear,6,12),Holidays!$C$6:$C$60,0)),""),"") -> 0 | O17: =IF(MONTH(DATE(CalYear,7,12))=7,CHOOSE(WEEKDAY(DATE(CalYear,7,12)),"Su","Mo","Tu","We","Th","Fr","Sa"),"") -> 0 | P17: =IF(MONTH(DATE(CalYear,7,12))=7,IFERROR(INDEX(Holidays!$B$6:$B$60,MATCH(DATE(CalYear,7,12),Holidays!$C$6:$C$60,0)),""),"") -> 0 | Q17: =IF(MONTH(DATE(CalYear,8,12))=8,CHOOSE(WEEKDAY(DATE(CalYear,8,12)),"Su","Mo","Tu","We","Th","Fr","Sa"),"") -> 0 | R17: =IF(MONTH(DATE(CalYear,8,12))=8,IFERROR(INDEX(Holidays!$B$6:$B$60,MATCH(DATE(CalYear,8,12),Holidays!$C$6:$C$60,0)),""),"") -> 0 | S17: =IF(MONTH(DATE(CalYear,9,12))=9,CHOOSE(WEEKDAY(DATE(CalYear,9,12)),"Su","Mo","Tu","We","Th","Fr","Sa"),"") -> 0 | T17: =IF(MONTH(DATE(CalYear,9,12))=9,IFERROR(INDEX(Holidays!$B$6:$B$60,MATCH(DATE(CalYear,9,12),Holidays!$C$6:$C$60,0)),""),"") -> 0 | U17: =IF(MONTH(DATE(CalYear,10,12))=10,CHOOSE(WEEKDAY(DATE(CalYear,10,12)),"Su","Mo","Tu","We","Th","Fr","Sa"),"") -> 0 | V17: =IF(MONTH(DATE(CalYear,10,12))=10,IFERROR(INDEX(Holidays!$B$6:$B$60,MATCH(DATE(CalYear,10,12),Holidays!$C$6:$C$60,0)),""),"") -> 0 | W17: =IF(MONTH(DATE(CalYear,11,12))=11,CHOOSE(WEEKDAY(DATE(CalYear,11,12)),"Su","Mo","Tu","We","Th","Fr","Sa"),"") -> 0 | X17: =IF(MONTH(DATE(CalYear,11,12))=11,IFERROR(INDEX(Holidays!$B$6:$B$60,MATCH(DATE(CalYear,11,12),Holidays!$C$6:$C$60,0)),""),"") -> 0 | Y17: =IF(MONTH(DATE(CalYear,12,12))=12,CHOOSE(WEEKDAY(DATE(CalYear,12,12)),"Su","Mo","Tu","We","Th","Fr","Sa"),"") -> 0 | Z17: =IF(MONTH(DATE(CalYear,12,12))=12,IFERROR(INDEX(Holidays!$B$6:$B$60,MATCH(DATE(CalYear,12,12),Holidays!$C$6:$C$60,0)),""),"") -> 0 | AA17: 12
B18: 13 | C18: =IF(MONTH(DATE(CalYear,1,13))=1,CHOOSE(WEEKDAY(DATE(CalYear,1,13)),"Su","Mo","Tu","We","Th","Fr","Sa"),"") -> 0 | D18: =IF(MONTH(DATE(CalYear,1,13))=1,IFERROR(INDEX(Holidays!$B$6:$B$60,MATCH(DATE(CalYear,1,13),Holidays!$C$6:$C$60,0)),""),"") -> 0 | E18: =IF(MONTH(DATE(CalYear,2,13))=2,CHOOSE(WEEKDAY(DATE(CalYear,2,13)),"Su","Mo","Tu","We","Th","Fr","Sa"),"") -> 0 | F18: =IF(MONTH(DATE(CalYear,2,13))=2,IFERROR(INDEX(Holidays!$B$6:$B$60,MATCH(DATE(CalYear,2,13),Holidays!$C$6:$C$60,0)),""),"") -> 0 | G18: =IF(MONTH(DATE(CalYear,3,13))=3,CHOOSE(WEEKDAY(DATE(CalYear,3,13)),"Su","Mo","Tu","We","Th","Fr","Sa"),"") -> 0 | H18: =IF(MONTH(DATE(CalYear,3,13))=3,IFERROR(INDEX(Holidays!$B$6:$B$60,MATCH(DATE(CalYear,3,13),Holidays!$C$6:$C$60,0)),""),"") -> 0 | I18: =IF(MONTH(DATE(CalYear,4,13))=4,CHOOSE(WEEKDAY(DATE(CalYear,4,13)),"Su","Mo","Tu","We","Th","Fr","Sa"),"") -> 0 | J18: =IF(MONTH(DATE(CalYear,4,13))=4,IFERROR(INDEX(Holidays!$B$6:$B$60,MATCH(DATE(CalYear,4,13),Holidays!$C$6:$C$60,0)),""),"") -> 0 | K18: =IF(MONTH(DATE(CalYear,5,13))=5,CHOOSE(WEEKDAY(DATE(CalYear,5,13)),"Su","Mo","Tu","We","Th","Fr","Sa"),"") -> 0 | L18: =IF(MONTH(DATE(CalYear,5,13))=5,IFERROR(INDEX(Holidays!$B$6:$B$60,MATCH(DATE(CalYear,5,13),Holidays!$C$6:$C$60,0)),""),"") -> 0 | M18: =IF(MONTH(DATE(CalYear,6,13))=6,CHOOSE(WEEKDAY(DATE(CalYear,6,13)),"Su","Mo","Tu","We","Th","Fr","Sa"),"") -> 0 | N18: =IF(MONTH(DATE(CalYear,6,13))=6,IFERROR(INDEX(Holidays!$B$6:$B$60,MATCH(DATE(CalYear,6,13),Holidays!$C$6:$C$60,0)),""),"") -> 0 | O18: =IF(MONTH(DATE(CalYear,7,13))=7,CHOOSE(WEEKDAY(DATE(CalYear,7,13)),"Su","Mo","Tu","We","Th","Fr","Sa"),"") -> 0 | P18: =IF(MONTH(DATE(CalYear,7,13))=7,IFERROR(INDEX(Holidays!$B$6:$B$60,MATCH(DATE(CalYear,7,13),Holidays!$C$6:$C$60,0)),""),"") -> 0 | Q18: =IF(MONTH(DATE(CalYear,8,13))=8,CHOOSE(WEEKDAY(DATE(CalYear,8,13)),"Su","Mo","Tu","We","Th","Fr","Sa"),"") -> 0 | R18: =IF(MONTH(DATE(CalYear,8,13))=8,IFERROR(INDEX(Holidays!$B$6:$B$60,MATCH(DATE(CalYear,8,13),Holidays!$C$6:$C$60,0)),""),"") -> 0 | S18: =IF(MONTH(DATE(CalYear,9,13))=9,CHOOSE(WEEKDAY(DATE(CalYear,9,13)),"Su","Mo","Tu","We","Th","Fr","Sa"),"") -> 0 | T18: =IF(MONTH(DATE(CalYear,9,13))=9,IFERROR(INDEX(Holidays!$B$6:$B$60,MATCH(DATE(CalYear,9,13),Holidays!$C$6:$C$60,0)),""),"") -> 0 | U18: =IF(MONTH(DATE(CalYear,10,13))=10,CHOOSE(WEEKDAY(DATE(CalYear,10,13)),"Su","Mo","Tu","We","Th","Fr","Sa"),"") -> 0 | V18: =IF(MONTH(DATE(CalYear,10,13))=10,IFERROR(INDEX(Holidays!$B$6:$B$60,MATCH(DATE(CalYear,10,13),Holidays!$C$6:$C$60,0)),""),"") -> 0 | W18: =IF(MONTH(DATE(CalYear,11,13))=11,CHOOSE(WEEKDAY(DATE(CalYear,11,13)),"Su","Mo","Tu","We","Th","Fr","Sa"),"") -> 0 | X18: =IF(MONTH(DATE(CalYear,11,13))=11,IFERROR(INDEX(Holidays!$B$6:$B$60,MATCH(DATE(CalYear,11,13),Holidays!$C$6:$C$60,0)),""),"") -> 0 | Y18: =IF(MONTH(DATE(CalYear,12,13))=12,CHOOSE(WEEKDAY(DATE(CalYear,12,13)),"Su","Mo","Tu","We","Th","Fr","Sa"),"") -> 0 | Z18: =IF(MONTH(DATE(CalYear,12,13))=12,IFERROR(INDEX(Holidays!$B$6:$B$60,MATCH(DATE(CalYear,12,13),Holidays!$C$6:$C$60,0)),""),"") -> 0 | AA18: 13
B19: 14 | C19: =IF(MONTH(DATE(CalYear,1,14))=1,CHOOSE(WEEKDAY(DATE(CalYear,1,14)),"Su","Mo","Tu","We","Th","Fr","Sa"),"") -> 0 | D19: =IF(MONTH(DATE(CalYear,1,14))=1,IFERROR(INDEX(Holidays!$B$6:$B$60,MATCH(DATE(CalYear,1,14),Holidays!$C$6:$C$60,0)),""),"") -> 0 | E19: =IF(MONTH(DATE(CalYear,2,14))=2,CHOOSE(WEEKDAY(DATE(CalYear,2,14)),"Su","Mo","Tu","We","Th","Fr","Sa"),"") -> 0 | F19: =IF(MONTH(DATE(CalYear,2,14))=2,IFERROR(INDEX(Holidays!$B$6:$B$60,MATCH(DATE(CalYear,2,14),Holidays!$C$6:$C$60,0)),""),"") -> 0 | G19: =IF(MONTH(DATE(CalYear,3,14))=3,CHOOSE(WEEKDAY(DATE(CalYear,3,14)),"Su","Mo","Tu","We","Th","Fr","Sa"),"") -> 0 | H19: =IF(MONTH(DATE(CalYear,3,14))=3,IFERROR(INDEX(Holidays!$B$6:$B$60,MATCH(DATE(CalYear,3,14),Holidays!$C$6:$C$60,0)),""),"") -> 0 | I19: =IF(MONTH(DATE(CalYear,4,14))=4,CHOOSE(WEEKDAY(DATE(CalYear,4,14)),"Su","Mo","Tu","We","Th","Fr","Sa"),"") -> 0 | J19: =IF(MONTH(DATE(CalYear,4,14))=4,IFERROR(INDEX(Holidays!$B$6:$B$60,MATCH(DATE(CalYear,4,14),Holidays!$C$6:$C$60,0)),""),"") -> 0 | K19: =IF(MONTH(DATE(CalYear,5,14))=5,CHOOSE(WEEKDAY(DATE(CalYear,5,14)),"Su","Mo","Tu","We","Th","Fr","Sa"),"") -> 0 | L19: =IF(MONTH(DATE(CalYear,5,14))=5,IFERROR(INDEX(Holidays!$B$6:$B$60,MATCH(DATE(CalYear,5,14),Holidays!$C$6:$C$60,0)),""),"") -> 0 | M19: =IF(MONTH(DATE(CalYear,6,14))=6,CHOOSE(WEEKDAY(DATE(CalYear,6,14)),"Su","Mo","Tu","We","Th","Fr","Sa"),"") -> 0 | N19: =IF(MONTH(DATE(CalYear,6,14))=6,IFERROR(INDEX(Holidays!$B$6:$B$60,MATCH(DATE(CalYear,6,14),Holidays!$C$6:$C$60,0)),""),"") -> 0 | O19: =IF(MONTH(DATE(CalYear,7,14))=7,CHOOSE(WEEKDAY(DATE(CalYear,7,14)),"Su","Mo","Tu","We","Th","Fr","Sa"),"") -> 0 | P19: =IF(MONTH(DATE(CalYear,7,14))=7,IFERROR(INDEX(Holidays!$B$6:$B$60,MATCH(DATE(CalYear,7,14),Holidays!$C$6:$C$60,0)),""),"") -> 0 | Q19: =IF(MONTH(DATE(CalYear,8,14))=8,CHOOSE(WEEKDAY(DATE(CalYear,8,14)),"Su","Mo","Tu","We","Th","Fr","Sa"),"") -> 0 | R19: =IF(MONTH(DATE(CalYear,8,14))=8,IFERROR(INDEX(Holidays!$B$6:$B$60,MATCH(DATE(CalYear,8,14),Holidays!$C$6:$C$60,0)),""),"") -> 0 | S19: =IF(MONTH(DATE(CalYear,9,14))=9,CHOOSE(WEEKDAY(DATE(CalYear,9,14)),"Su","Mo","Tu","We","Th","Fr","Sa"),"") -> 0 | T19: =IF(MONTH(DATE(CalYear,9,14))=9,IFERROR(INDEX(Holidays!$B$6:$B$60,MATCH(DATE(CalYear,9,14),Holidays!$C$6:$C$60,0)),""),"") -> 0 | U19: =IF(MONTH(DATE(CalYear,10,14))=10,CHOOSE(WEEKDAY(DATE(CalYear,10,14)),"Su","Mo","Tu","We","Th","Fr","Sa"),"") -> 0 | V19: =IF(MONTH(DATE(CalYear,10,14))=10,IFERROR(INDEX(Holidays!$B$6:$B$60,MATCH(DATE(CalYear,10,14),Holidays!$C$6:$C$60,0)),""),"") -> 0 | W19: =IF(MONTH(DATE(CalYear,11,14))=11,CHOOSE(WEEKDAY(DATE(CalYear,11,14)),"Su","Mo","Tu","We","Th","Fr","Sa"),"") -> 0 | X19: =IF(MONTH(DATE(CalYear,11,14))=11,IFERROR(INDEX(Holidays!$B$6:$B$60,MATCH(DATE(CalYear,11,14),Holidays!$C$6:$C$60,0)),""),"") -> 0 | Y19: =IF(MONTH(DATE(CalYear,12,14))=12,CHOOSE(WEEKDAY(DATE(CalYear,12,14)),"Su","Mo","Tu","We","Th","Fr","Sa"),"") -> 0 | Z19: =IF(MONTH(DATE(CalYear,12,14))=12,IFERROR(INDEX(Holidays!$B$6:$B$60,MATCH(DATE(CalYear,12,14),Holidays!$C$6:$C$60,0)),""),"") -> 0 | AA19: 14
B20: 15 | C20: =IF(MONTH(DATE(CalYear,1,15))=1,CHOOSE(WEEKDAY(DATE(CalYear,1,15)),"Su","Mo","Tu","We","Th","Fr","Sa"),"") -> 0 | D20: =IF(MONTH(DATE(CalYear,1,15))=1,IFERROR(INDEX(Holidays!$B$6:$B$60,MATCH(DATE(CalYear,1,15),Holidays!$C$6:$C$60,0)),""),"") -> 0 | E20: =IF(MONTH(DATE(CalYear,2,15))=2,CHOOSE(WEEKDAY(DATE(CalYear,2,15)),"Su","Mo","Tu","We","Th","Fr","Sa"),"") -> 0 | F20: =IF(MONTH(DATE(CalYear,2,15))=2,IFERROR(INDEX(Holidays!$B$6:$B$60,MATCH(DATE(CalYear,2,15),Holidays!$C$6:$C$60,0)),""),"") -> 0 | G20: =IF(MONTH(DATE(CalYear,3,15))=3,CHOOSE(WEEKDAY(DATE(CalYear,3,15)),"Su","Mo","Tu","We","Th","Fr","Sa"),"") -> 0 | H20: =IF(MONTH(DATE(CalYear,3,15))=3,IFERROR(INDEX(Holidays!$B$6:$B$60,MATCH(DATE(CalYear,3,15),Holidays!$C$6:$C$60,0)),""),"") -> 0 | I20: =IF(MONTH(DATE(CalYear,4,15))=4,CHOOSE(WEEKDAY(DATE(CalYear,4,15)),"Su","Mo","Tu","We","Th","Fr","Sa"),"") -> 0 | J20: =IF(MONTH(DATE(CalYear,4,15))=4,IFERROR(INDEX(Holidays!$B$6:$B$60,MATCH(DATE(CalYear,4,15),Holidays!$C$6:$C$60,0)),""),"") -> 0 | K20: =IF(MONTH(DATE(CalYear,5,15))=5,CHOOSE(WEEKDAY(DATE(CalYear,5,15)),"Su","Mo","Tu","We","Th","Fr","Sa"),"") -> 0 | L20: =IF(MONTH(DATE(CalYear,5,15))=5,IFERROR(INDEX(Holidays!$B$6:$B$60,MATCH(DATE(CalYear,5,15),Holidays!$C$6:$C$60,0)),""),"") -> 0 | M20: =IF(MONTH(DATE(CalYear,6,15))=6,CHOOSE(WEEKDAY(DATE(CalYear,6,15)),"Su","Mo","Tu","We","Th","Fr","Sa"),"") -> 0 | N20: =IF(MONTH(DATE(CalYear,6,15))=6,IFERROR(INDEX(Holidays!$B$6:$B$60,MATCH(DATE(CalYear,6,15),Holidays!$C$6:$C$60,0)),""),"") -> 0 | O20: =IF(MONTH(DATE(CalYear,7,15))=7,CHOOSE(WEEKDAY(DATE(CalYear,7,15)),"Su","Mo","Tu","We","Th","Fr","Sa"),"") -> 0 | P20: =IF(MONTH(DATE(CalYear,7,15))=7,IFERROR(INDEX(Holidays!$B$6:$B$60,MATCH(DATE(CalYear,7,15),Holidays!$C$6:$C$60,0)),""),"") -> 0 | Q20: =IF(MONTH(DATE(CalYear,8,15))=8,CHOOSE(WEEKDAY(DATE(CalYear,8,15)),"Su","Mo","Tu","We","Th","Fr","Sa"),"") -> 0 | R20: =IF(MONTH(DATE(CalYear,8,15))=8,IFERROR(INDEX(Holidays!$B$6:$B$60,MATCH(DATE(CalYear,8,15),Holidays!$C$6:$C$60,0)),""),"") -> 0 | S20: =IF(MONTH(DATE(CalYear,9,15))=9,CHOOSE(WEEKDAY(DATE(CalYear,9,15)),"Su","Mo","Tu","We","Th","Fr","Sa"),"") -> 0 | T20: =IF(MONTH(DATE(CalYear,9,15))=9,IFERROR(INDEX(Holidays!$B$6:$B$60,MATCH(DATE(CalYear,9,15),Holidays!$C$6:$C$60,0)),""),"") -> 0 | U20: =IF(MONTH(DATE(CalYear,10,15))=10,CHOOSE(WEEKDAY(DATE(CalYear,10,15)),"Su","Mo","Tu","We","Th","Fr","Sa"),"") -> 0 | V20: =IF(MONTH(DATE(CalYear,10,15))=10,IFERROR(INDEX(Holidays!$B$6:$B$60,MATCH(DATE(CalYear,10,15),Holidays!$C$6:$C$60,0)),""),"") -> 0 | W20: =IF(MONTH(DATE(CalYear,11,15))=11,CHOOSE(WEEKDAY(DATE(CalYear,11,15)),"Su","Mo","Tu","We","Th","Fr","Sa"),"") -> 0 | X20: =IF(MONTH(DATE(CalYear,11,15))=11,IFERROR(INDEX(Holidays!$B$6:$B$60,MATCH(DATE(CalYear,11,15),Holidays!$C$6:$C$60,0)),""),"") -> 0 | Y20: =IF(MONTH(DATE(CalYear,12,15))=12,CHOOSE(WEEKDAY(DATE(CalYear,12,15)),"Su","Mo","Tu","We","Th","Fr","Sa"),"") -> 0 | Z20: =IF(MONTH(DATE(CalYear,12,15))=12,IFERROR(INDEX(Holidays!$B$6:$B$60,MATCH(DATE(CalYear,12,15),Holidays!$C$6:$C$60,0)),""),"") -> 0 | AA20: 15
B21: 16 | C21: =IF(MONTH(DATE(CalYear,1,16))=1,CHOOSE(WEEKDAY(DATE(CalYear,1,16)),"Su","Mo","Tu","We","Th","Fr","Sa"),"") -> 0 | D21: =IF(MONTH(DATE(CalYear,1,16))=1,IFERROR(INDEX(Holidays!$B$6:$B$60,MATCH(DATE(CalYear,1,16),Holidays!$C$6:$C$60,0)),""),"") -> 0 | E21: =IF(MONTH(DATE(CalYear,2,16))=2,CHOOSE(WEEKDAY(DATE(CalYear,2,16)),"Su","Mo","Tu","We","Th","Fr","Sa"),"") -> 0 | F21: =IF(MONTH(DATE(CalYear,2,16))=2,IFERROR(INDEX(Holidays!$B$6:$B$60,MATCH(DATE(CalYear,2,16),Holidays!$C$6:$C$60,0)),""),"") -> 0 | G21: =IF(MONTH(DATE(CalYear,3,16))=3,CHOOSE(WEEKDAY(DATE(CalYear,3,16)),"Su","Mo","Tu","We","Th","Fr","Sa"),"") -> 0 | H21: =IF(MONTH(DATE(CalYear,3,16))=3,IFERROR(INDEX(Holidays!$B$6:$B$60,MATCH(DATE(CalYear,3,16),Holidays!$C$6:$C$60,0)),""),"") -> 0 | I21: =IF(MONTH(DATE(CalYear,4,16))=4,CHOOSE(WEEKDAY(DATE(CalYear,4,16)),"Su","Mo","Tu","We","Th","Fr","Sa"),"") -> 0 | J21: =IF(MONTH(DATE(CalYear,4,16))=4,IFERROR(INDEX(Holidays!$B$6:$B$60,MATCH(DATE(CalYear,4,16),Holidays!$C$6:$C$60,0)),""),"") -> 0 | K21: =IF(MONTH(DATE(CalYear,5,16))=5,CHOOSE(WEEKDAY(DATE(CalYear,5,16)),"Su","Mo","Tu","We","Th","Fr","Sa"),"") -> 0 | L21: =IF(MONTH(DATE(CalYear,5,16))=5,IFERROR(INDEX(Holidays!$B$6:$B$60,MATCH(DATE(CalYear,5,16),Holidays!$C$6:$C$60,0)),""),"") -> 0 | M21: =IF(MONTH(DATE(CalYear,6,16))=6,CHOOSE(WEEKDAY(DATE(CalYear,6,16)),"Su","Mo","Tu","We","Th","Fr","Sa"),"") -> 0 | N21: =IF(MONTH(DATE(CalYear,6,16))=6,IFERROR(INDEX(Holidays!$B$6:$B$60,MATCH(DATE(CalYear,6,16),Holidays!$C$6:$C$60,0)),""),"") -> 0 | O21: =IF(MONTH(DATE(CalYear,7,16))=7,CHOOSE(WEEKDAY(DATE(CalYear,7,16)),"Su","Mo","Tu","We","Th","Fr","Sa"),"") -> 0 | P21: =IF(MONTH(DATE(CalYear,7,16))=7,IFERROR(INDEX(Holidays!$B$6:$B$60,MATCH(DATE(CalYear,7,16),Holidays!$C$6:$C$60,0)),""),"") -> 0 | Q21: =IF(MONTH(DATE(CalYear,8,16))=8,CHOOSE(WEEKDAY(DATE(CalYear,8,16)),"Su","Mo","Tu","We","Th","Fr","Sa"),"") -> 0 | R21: =IF(MONTH(DATE(CalYear,8,16))=8,IFERROR(INDEX(Holidays!$B$6:$B$60,MATCH(DATE(CalYear,8,16),Holidays!$C$6:$C$60,0)),""),"") -> 0 | S21: =IF(MONTH(DATE(CalYear,9,16))=9,CHOOSE(WEEKDAY(DATE(CalYear,9,16)),"Su","Mo","Tu","We","Th","Fr","Sa"),"") -> 0 | T21: =IF(MONTH(DATE(CalYear,9,16))=9,IFERROR(INDEX(Holidays!$B$6:$B$60,MATCH(DATE(CalYear,9,16),Holidays!$C$6:$C$60,0)),""),"") -> 0 | U21: =IF(MONTH(DATE(CalYear,10,16))=10,CHOOSE(WEEKDAY(DATE(CalYear,10,16)),"Su","Mo","Tu","We","Th","Fr","Sa"),"") -> 0 | V21: =IF(MONTH(DATE(CalYear,10,16))=10,IFERROR(INDEX(Holidays!$B$6:$B$60,MATCH(DATE(CalYear,10,16),Holidays!$C$6:$C$60,0)),""),"") -> 0 | W21: =IF(MONTH(DATE(CalYear,11,16))=11,CHOOSE(WEEKDAY(DATE(CalYear,11,16)),"Su","Mo","Tu","We","Th","Fr","Sa"),"") -> 0 | X21: =IF(MONTH(DATE(CalYear,11,16))=11,IFERROR(INDEX(Holidays!$B$6:$B$60,MATCH(DATE(CalYear,11,16),Holidays!$C$6:$C$60,0)),""),"") -> 0 | Y21: =IF(MONTH(DATE(CalYear,12,16))=12,CHOOSE(WEEKDAY(DATE(CalYear,12,16)),"Su","Mo","Tu","We","Th","Fr","Sa"),"") -> 0 | Z21: =IF(MONTH(DATE(CalYear,12,16))=12,IFERROR(INDEX(Holidays!$B$6:$B$60,MATCH(DATE(CalYear,12,16),Holidays!$C$6:$C$60,0)),""),"") -> 0 | AA21: 16
B22: 17 | C22: =IF(MONTH(DATE(CalYear,1,17))=1,CHOOSE(WEEKDAY(DATE(CalYear,1,17)),"Su","Mo","Tu","We","Th","Fr","Sa"),"") -> 0 | D22: =IF(MONTH(DATE(CalYear,1,17))=1,IFERROR(INDEX(Holidays!$B$6:$B$60,MATCH(DATE(CalYear,1,17),Holidays!$C$6:$C$60,0)),""),"") -> 0 | E22: =IF(MONTH(DATE(CalYear,2,17))=2,CHOOSE(WEEKDAY(DATE(CalYear,2,17)),"Su","Mo","Tu","We","Th","Fr","Sa"),"") -> 0 | F22: =IF(MONTH(DATE(CalYear,2,17))=2,IFERROR(INDEX(Holidays!$B$6:$B$60,MATCH(DATE(CalYear,2,17),Holidays!$C$6:$C$60,0)),""),"") -> 0 | G22: =IF(MONTH(DATE(CalYear,3,17))=3,CHOOSE(WEEKDAY(DATE(CalYear,3,17)),"Su","Mo","Tu","We","Th","Fr","Sa"),"") -> 0 | H22: =IF(MONTH(DATE(CalYear,3,17))=3,IFERROR(INDEX(Holidays!$B$6:$B$60,MATCH(DATE(CalYear,3,17),Holidays!$C$6:$C$60,0)),""),"") -> 0 | I22: =IF(MONTH(DATE(CalYear,4,17))=4,CHOOSE(WEEKDAY(DATE(CalYear,4,17)),"Su","Mo","Tu","We","Th","Fr","Sa"),"") -> 0 | J22: =IF(MONTH(DATE(CalYear,4,17))=4,IFERROR(INDEX(Holidays!$B$6:$B$60,MATCH(DATE(CalYear,4,17),Holidays!$C$6:$C$60,0)),""),"") -> 0 | K22: =IF(MONTH(DATE(CalYear,5,17))=5,CHOOSE(WEEKDAY(DATE(CalYear,5,17)),"Su","Mo","Tu","We","Th","Fr","Sa"),"") -> 0 | L22: =IF(MONTH(DATE(CalYear,5,17))=5,IFERROR(INDEX(Holidays!$B$6:$B$60,MATCH(DATE(CalYear,5,17),Holidays!$C$6:$C$60,0)),""),"") -> 0 | M22: =IF(MONTH(DATE(CalYear,6,17))=6,CHOOSE(WEEKDAY(DATE(CalYear,6,17)),"Su","Mo","Tu","We","Th","Fr","Sa"),"") -> 0 | N22: =IF(MONTH(DATE(CalYear,6,17))=6,IFERROR(INDEX(Holidays!$B$6:$B$60,MATCH(DATE(CalYear,6,17),Holidays!$C$6:$C$60,0)),""),"") -> 0 | O22: =IF(MONTH(DATE(CalYear,7,17))=7,CHOOSE(WEEKDAY(DATE(CalYear,7,17)),"Su","Mo","Tu","We","Th","Fr","Sa"),"") -> 0 | P22: =IF(MONTH(DATE(CalYear,7,17))=7,IFERROR(INDEX(Holidays!$B$6:$B$60,MATCH(DATE(CalYear,7,17),Holidays!$C$6:$C$60,0)),""),"") -> 0 | Q22: =IF(MONTH(DATE(CalYear,8,17))=8,CHOOSE(WEEKDAY(DATE(CalYear,8,17)),"Su","Mo","Tu","We","Th","Fr","Sa"),"") -> 0 | R22: =IF(MONTH(DATE(CalYear,8,17))=8,IFERROR(INDEX(Holidays!$B$6:$B$60,MATCH(DATE(CalYear,8,17),Holidays!$C$6:$C$60,0)),""),"") -> 0 | S22: =IF(MONTH(DATE(CalYear,9,17))=9,CHOOSE(WEEKDAY(DATE(CalYear,9,17)),"Su","Mo","Tu","We","Th","Fr","Sa"),"") -> 0 | T22: =IF(MONTH(DATE(CalYear,9,17))=9,IFERROR(INDEX(Holidays!$B$6:$B$60,MATCH(DATE(CalYear,9,17),Holidays!$C$6:$C$60,0)),""),"") -> 0 | U22: =IF(MONTH(DATE(CalYear,10,17))=10,CHOOSE(WEEKDAY(DATE(CalYear,10,17)),"Su","Mo","Tu","We","Th","Fr","Sa"),"") -> 0 | V22: =IF(MONTH(DATE(CalYear,10,17))=10,IFERROR(INDEX(Holidays!$B$6:$B$60,MATCH(DATE(CalYear,10,17),Holidays!$C$6:$C$60,0)),""),"") -> 0 | W22: =IF(MONTH(DATE(CalYear,11,17))=11,CHOOSE(WEEKDAY(DATE(CalYear,11,17)),"Su","Mo","Tu","We","Th","Fr","Sa"),"") -> 0 | X22: =IF(MONTH(DATE(CalYear,11,17))=11,IFERROR(INDEX(Holidays!$B$6:$B$60,MATCH(DATE(CalYear,11,17),Holidays!$C$6:$C$60,0)),""),"") -> 0 | Y22: =IF(MONTH(DATE(CalYear,12,17))=12,CHOOSE(WEEKDAY(DATE(CalYear,12,17)),"Su","Mo","Tu","We","Th","Fr","Sa"),"") -> 0 | Z22: =IF(MONTH(DATE(CalYear,12,17))=12,IFERROR(INDEX(Holidays!$B$6:$B$60,MATCH(DATE(CalYear,12,17),Holidays!$C$6:$C$60,0)),""),"") -> 0 | AA22: 17
B23: 18 | C23: =IF(MONTH(DATE(CalYear,1,18))=1,CHOOSE(WEEKDAY(DATE(CalYear,1,18)),"Su","Mo","Tu","We","Th","Fr","Sa"),"") -> 0 | D23: =IF(MONTH(DATE(CalYear,1,18))=1,IFERROR(INDEX(Holidays!$B$6:$B$60,MATCH(DATE(CalYear,1,18),Holidays!$C$6:$C$60,0)),""),"") -> 0 | E23: =IF(MONTH(DATE(CalYear,2,18))=2,CHOOSE(WEEKDAY(DATE(CalYear,2,18)),"Su","Mo","Tu","We","Th","Fr","Sa"),"") -> 0 | F23: =IF(MONTH(DATE(CalYear,2,18))=2,IFERROR(INDEX(Holidays!$B$6:$B$60,MATCH(DATE(CalYear,2,18),Holidays!$C$6:$C$60,0)),""),"") -> 0 | G23: =IF(MONTH(DATE(CalYear,3,18))=3,CHOOSE(WEEKDAY(DATE(CalYear,3,18)),"Su","Mo","Tu","We","Th","Fr","Sa"),"") -> 0 | H23: =IF(MONTH(DATE(CalYear,3,18))=3,IFERROR(INDEX(Holidays!$B$6:$B$60,MATCH(DATE(CalYear,3,18),Holidays!$C$6:$C$60,0)),""),"") -> 0 | I23: =IF(MONTH(DATE(CalYear,4,18))=4,CHOOSE(WEEKDAY(DATE(CalYear,4,18)),"Su","Mo","Tu","We","Th","Fr","Sa"),"") -> 0 | J23: =IF(MONTH(DATE(CalYear,4,18))=4,IFERROR(INDEX(Holidays!$B$6:$B$60,MATCH(DATE(CalYear,4,18),Holidays!$C$6:$C$60,0)),""),"") -> 0 | K23: =IF(MONTH(DATE(CalYear,5,18))=5,CHOOSE(WEEKDAY(DATE(CalYear,5,18)),"Su","Mo","Tu","We","Th","Fr","Sa"),"") -> 0 | L23: =IF(MONTH(DATE(CalYear,5,18))=5,IFERROR(INDEX(Holidays!$B$6:$B$60,MATCH(DATE(CalYear,5,18),Holidays!$C$6:$C$60,0)),""),"") -> 0 | M23: =IF(MONTH(DATE(CalYear,6,18))=6,CHOOSE(WEEKDAY(DATE(CalYear,6,18)),"Su","Mo","Tu","We","Th","Fr","Sa"),"") -> 0 | N23: =IF(MONTH(DATE(CalYear,6,18))=6,IFERROR(INDEX(Holidays!$B$6:$B$60,MATCH(DATE(CalYear,6,18),Holidays!$C$6:$C$60,0)),""),"") -> 0 | O23: =IF(MONTH(DATE(CalYear,7,18))=7,CHOOSE(WEEKDAY(DATE(CalYear,7,18)),"Su","Mo","Tu","We","Th","Fr","Sa"),"") -> 0 | P23: =IF(MONTH(DATE(CalYear,7,18))=7,IFERROR(INDEX(Holidays!$B$6:$B$60,MATCH(DATE(CalYear,7,18),Holidays!$C$6:$C$60,0)),""),"") -> 0 | Q23: =IF(MONTH(DATE(CalYear,8,18))=8,CHOOSE(WEEKDAY(DATE(CalYear,8,18)),"Su","Mo","Tu","We","Th","Fr","Sa"),"") -> 0 | R23: =IF(MONTH(DATE(CalYear,8,18))=8,IFERROR(INDEX(Holidays!$B$6:$B$60,MATCH(DATE(CalYear,8,18),Holidays!$C$6:$C$60,0)),""),"") -> 0 | S23: =IF(MONTH(DATE(CalYear,9,18))=9,CHOOSE(WEEKDAY(DATE(CalYear,9,18)),"Su","Mo","Tu","We","Th","Fr","Sa"),"") -> 0 | T23: =IF(MONTH(DATE(CalYear,9,18))=9,IFERROR(INDEX(Holidays!$B$6:$B$60,MATCH(DATE(CalYear,9,18),Holidays!$C$6:$C$60,0)),""),"") -> 0 | U23: =IF(MONTH(DATE(CalYear,10,18))=10,CHOOSE(WEEKDAY(DATE(CalYear,10,18)),"Su","Mo","Tu","We","Th","Fr","Sa"),"") -> 0 | V23: =IF(MONTH(DATE(CalYear,10,18))=10,IFERROR(INDEX(Holidays!$B$6:$B$60,MATCH(DATE(CalYear,10,18),Holidays!$C$6:$C$60,0)),""),"") -> 0 | W23: =IF(MONTH(DATE(CalYear,11,18))=11,CHOOSE(WEEKDAY(DATE(CalYear,11,18)),"Su","Mo","Tu","We","Th","Fr","Sa"),"") -> 0 | X23: =IF(MONTH(DATE(CalYear,11,18))=11,IFERROR(INDEX(Holidays!$B$6:$B$60,MATCH(DATE(CalYear,11,18),Holidays!$C$6:$C$60,0)),""),"") -> 0 | Y23: =IF(MONTH(DATE(CalYear,12,18))=12,CHOOSE(WEEKDAY(DATE(CalYear,12,18)),"Su","Mo","Tu","We","Th","Fr","Sa"),"") -> 0 | Z23: =IF(MONTH(DATE(CalYear,12,18))=12,IFERROR(INDEX(Holidays!$B$6:$B$60,MATCH(DATE(CalYear,12,18),Holidays!$C$6:$C$60,0)),""),"") -> 0 | AA23: 18
B24: 19 | C24: =IF(MONTH(DATE(CalYear,1,19))=1,CHOOSE(WEEKDAY(DATE(CalYear,1,19)),"Su","Mo","Tu","We","Th","Fr","Sa"),"") -> 0 | D24: =IF(MONTH(DATE(CalYear,1,19))=1,IFERROR(INDEX(Holidays!$B$6:$B$60,MATCH(DATE(CalYear,1,19),Holidays!$C$6:$C$60,0)),""),"") -> 0 | E24: =IF(MONTH(DATE(CalYear,2,19))=2,CHOOSE(WEEKDAY(DATE(CalYear,2,19)),"Su","Mo","Tu","We","Th","Fr","Sa"),"") -> 0 | F24: =IF(MONTH(DATE(CalYear,2,19))=2,IFERROR(INDEX(Holidays!$B$6:$B$60,MATCH(DATE(CalYear,2,19),Holidays!$C$6:$C$60,0)),""),"") -> 0 | G24: =IF(MONTH(DATE(CalYear,3,19))=3,CHOOSE(WEEKDAY(DATE(CalYear,3,19)),"Su","Mo","Tu","We","Th","Fr","Sa"),"") -> 0 | H24: =IF(MONTH(DATE(CalYear,3,19))=3,IFERROR(INDEX(Holidays!$B$6:$B$60,MATCH(DATE(CalYear,3,19),Holidays!$C$6:$C$60,0)),""),"") -> 0 | I24: =IF(MONTH(DATE(CalYear,4,19))=4,CHOOSE(WEEKDAY(DATE(CalYear,4,19)),"Su","Mo","Tu","We","Th","Fr","Sa"),"") -> 0 | J24: =IF(MONTH(DATE(CalYear,4,19))=4,IFERROR(INDEX(Holidays!$B$6:$B$60,MATCH(DATE(CalYear,4,19),Holidays!$C$6:$C$60,0)),""),"") -> 0 | K24: =IF(MONTH(DATE(CalYear,5,19))=5,CHOOSE(WEEKDAY(DATE(CalYear,5,19)),"Su","Mo","Tu","We","Th","Fr","Sa"),"") -> 0 | L24: =IF(MONTH(DATE(CalYear,5,19))=5,IFERROR(INDEX(Holidays!$B$6:$B$60,MATCH(DATE(CalYear,5,19),Holidays!$C$6:$C$60,0)),""),"") -> 0 | M24: =IF(MONTH(DATE(CalYear,6,19))=6,CHOOSE(WEEKDAY(DATE(CalYear,6,19)),"Su","Mo","Tu","We","Th","Fr","Sa"),"") -> 0 | N24: =IF(MONTH(DATE(CalYear,6,19))=6,IFERROR(INDEX(Holidays!$B$6:$B$60,MATCH(DATE(CalYear,6,19),Holidays!$C$6:$C$60,0)),""),"") -> 0 | O24: =IF(MONTH(DATE(CalYear,7,19))=7,CHOOSE(WEEKDAY(DATE(CalYear,7,19)),"Su","Mo","Tu","We","Th","Fr","Sa"),"") -> 0 | P24: =IF(MONTH(DATE(CalYear,7,19))=7,IFERROR(INDEX(Holidays!$B$6:$B$60,MATCH(DATE(CalYear,7,19),Holidays!$C$6:$C$60,0)),""),"") -> 0 | Q24: =IF(MONTH(DATE(CalYear,8,19))=8,CHOOSE(WEEKDAY(DATE(CalYear,8,19)),"Su","Mo","Tu","We","Th","Fr","Sa"),"") -> 0 | R24: =IF(MONTH(DATE(CalYear,8,19))=8,IFERROR(INDEX(Holidays!$B$6:$B$60,MATCH(DATE(CalYear,8,19),Holidays!$C$6:$C$60,0)),""),"") -> 0 | S24: =IF(MONTH(DATE(CalYear,9,19))=9,CHOOSE(WEEKDAY(DATE(CalYear,9,19)),"Su","Mo","Tu","We","Th","Fr","Sa"),"") -> 0 | T24: =IF(MONTH(DATE(CalYear,9,19))=9,IFERROR(INDEX(Holidays!$B$6:$B$60,MATCH(DATE(CalYear,9,19),Holidays!$C$6:$C$60,0)),""),"") -> 0 | U24: =IF(MONTH(DATE(CalYear,10,19))=10,CHOOSE(WEEKDAY(DATE(CalYear,10,19)),"Su","Mo","Tu","We","Th","Fr","Sa"),"") -> 0 | V24: =IF(MONTH(DATE(CalYear,10,19))=10,IFERROR(INDEX(Holidays!$B$6:$B$60,MATCH(DATE(CalYear,10,19),Holidays!$C$6:$C$60,0)),""),"") -> 0 | W24: =IF(MONTH(DATE(CalYear,11,19))=11,CHOOSE(WEEKDAY(DATE(CalYear,11,19)),"Su","Mo","Tu","We","Th","Fr","Sa"),"") -> 0 | X24: =IF(MONTH(DATE(CalYear,11,19))=11,IFERROR(INDEX(Holidays!$B$6:$B$60,MATCH(DATE(CalYear,11,19),Holidays!$C$6:$C$60,0)),""),"") -> 0 | Y24: =IF(MONTH(DATE(CalYear,12,19))=12,CHOOSE(WEEKDAY(DATE(CalYear,12,19)),"Su","Mo","Tu","We","Th","Fr","Sa"),"") -> 0 | Z24: =IF(MONTH(DATE(CalYear,12,19))=12,IFERROR(INDEX(Holidays!$B$6:$B$60,MATCH(DATE(CalYear,12,19),Holidays!$C$6:$C$60,0)),""),"") -> 0 | AA24: 19
