Workbook

Sheet Dashboard
B2: =Setup!$C$5&" Annual Budget" -> 2027 Annual Budget
B3: Your year at a glance. Everything here is calculated from the monthly tabs.
B5: INCOME TO DATE | D5: SPENT TO DATE | F5: NET SAVED | I5: SAVINGS RATE | K5: MONTHS LOGGED
B6: =Annual!$Q$47 -> None | D6: =Annual!$Q$48 -> None | F6: =Annual!$Q$49 -> None | I6: =IFERROR(Annual!$Q$49/Annual!$Q$47,0) -> None | K6: =SUMPRODUCT(--(Dashboard!$C$10:$C$21>0)) -> None
B9: Month | C9: Income | D9: Expenses | E9: Net | F9: Exp. budget | G9: Saved YTD
B10: Jan | C10: =Annual!E47 -> 0 | D10: =Annual!E48 -> 0 | E10: =C10-D10 -> 0 | F10: =SUMIFS(Setup!$E$8:$E$47,Setup!$B$8:$B$47,"Expense") -> 0 | G10: =SUM(E$10:E10) -> 0
B11: Feb | C11: =Annual!F47 -> 0 | D11: =Annual!F48 -> 0 | E11: =C11-D11 -> 0 | F11: =SUMIFS(Setup!$F$8:$F$47,Setup!$B$8:$B$47,"Expense") -> 0 | G11: =SUM(E$10:E11) -> 0
B12: Mar | C12: =Annual!G47 -> 0 | D12: =Annual!G48 -> 0 | E12: =C12-D12 -> 0 | F12: =SUMIFS(Setup!$G$8:$G$47,Setup!$B$8:$B$47,"Expense") -> 0 | G12: =SUM(E$10:E12) -> 0
B13: Apr | C13: =Annual!H47 -> 0 | D13: =Annual!H48 -> 0 | E13: =C13-D13 -> 0 | F13: =SUMIFS(Setup!$H$8:$H$47,Setup!$B$8:$B$47,"Expense") -> 0 | G13: =SUM(E$10:E13) -> 0
B14: May | C14: =Annual!I47 -> 0 | D14: =Annual!I48 -> 0 | E14: =C14-D14 -> 0 | F14: =SUMIFS(Setup!$I$8:$I$47,Setup!$B$8:$B$47,"Expense") -> 0 | G14: =SUM(E$10:E14) -> 0
B15: Jun | C15: =Annual!J47 -> 0 | D15: =Annual!J48 -> 0 | E15: =C15-D15 -> 0 | F15: =SUMIFS(Setup!$J$8:$J$47,Setup!$B$8:$B$47,"Expense") -> 0 | G15: =SUM(E$10:E15) -> 0
B16: Jul | C16: =Annual!K47 -> 0 | D16: =Annual!K48 -> 0 | E16: =C16-D16 -> 0 | F16: =SUMIFS(Setup!$K$8:$K$47,Setup!$B$8:$B$47,"Expense") -> 0 | G16: =SUM(E$10:E16) -> 0
B17: Aug | C17: =Annual!L47 -> 0 | D17: =Annual!L48 -> 0 | E17: =C17-D17 -> 0 | F17: =SUMIFS(Setup!$L$8:$L$47,Setup!$B$8:$B$47,"Expense") -> 0 | G17: =SUM(E$10:E17) -> 0
B18: Sep | C18: =Annual!M47 -> 0 | D18: =Annual!M48 -> 0 | E18: =C18-D18 -> 0 | F18: =SUMIFS(Setup!$M$8:$M$47,Setup!$B$8:$B$47,"Expense") -> 0 | G18: =SUM(E$10:E18) -> 0
B19: Oct | C19: =Annual!N47 -> 0 | D19: =Annual!N48 -> 0 | E19: =C19-D19 -> 0 | F19: =SUMIFS(Setup!$N$8:$N$47,Setup!$B$8:$B$47,"Expense") -> 0 | G19: =SUM(E$10:E19) -> 0
B20: Nov | C20: =Annual!O47 -> 0 | D20: =Annual!O48 -> 0 | E20: =C20-D20 -> 0 | F20: =SUMIFS(Setup!$O$8:$O$47,Setup!$B$8:$B$47,"Expense") -> 0 | G20: =SUM(E$10:E20) -> 0
B21: Dec | C21: =Annual!P47 -> 0 | D21: =Annual!P48 -> 0 | E21: =C21-D21 -> 0 | F21: =SUMIFS(Setup!$P$8:$P$47,Setup!$B$8:$B$47,"Expense") -> 0 | G21: =SUM(E$10:E21) -> 0
B22: Year | C22: =SUM(C10:C21) -> 0 | D22: =SUM(D10:D21) -> 0 | E22: =SUM(E10:E21) -> 0 | F22: =SUM(F10:F21) -> 0 | G22: =E22 -> 0
B23: SPENDING BY GROUP
B24: Group | C24: Budget | D24: Spent | E24: Left | F24: % used
B25: =Setup!S8 -> Housing | C25: =SUMIFS(Annual!$R$7:$R$46,Annual!$D$7:$D$46,B25) -> 0 | D25: =SUMIFS(Annual!$Q$7:$Q$46,Annual!$D$7:$D$46,B25) -> 0 | E25: =C25-D25 -> 0 | F25: =IFERROR(D25/C25,0) -> 0
B26: =Setup!S9 -> Utilities | C26: =SUMIFS(Annual!$R$7:$R$46,Annual!$D$7:$D$46,B26) -> 0 | D26: =SUMIFS(Annual!$Q$7:$Q$46,Annual!$D$7:$D$46,B26) -> 0 | E26: =C26-D26 -> 0 | F26: =IFERROR(D26/C26,0) -> 0
B27: =Setup!S10 -> Food | C27: =SUMIFS(Annual!$R$7:$R$46,Annual!$D$7:$D$46,B27) -> 0 | D27: =SUMIFS(Annual!$Q$7:$Q$46,Annual!$D$7:$D$46,B27) -> 0 | E27: =C27-D27 -> 0 | F27: =IFERROR(D27/C27,0) -> 0
B28: =Setup!S11 -> Transportation | C28: =SUMIFS(Annual!$R$7:$R$46,Annual!$D$7:$D$46,B28) -> 0 | D28: =SUMIFS(Annual!$Q$7:$Q$46,Annual!$D$7:$D$46,B28) -> 0 | E28: =C28-D28 -> 0 | F28: =IFERROR(D28/C28,0) -> 0
B29: =Setup!S12 -> Insurance | C29: =SUMIFS(Annual!$R$7:$R$46,Annual!$D$7:$D$46,B29) -> 0 | D29: =SUMIFS(Annual!$Q$7:$Q$46,Annual!$D$7:$D$46,B29) -> 0 | E29: =C29-D29 -> 0 | F29: =IFERROR(D29/C29,0) -> 0
B30: =Setup!S13 -> Health | C30: =SUMIFS(Annual!$R$7:$R$46,Annual!$D$7:$D$46,B30) -> 0 | D30: =SUMIFS(Annual!$Q$7:$Q$46,Annual!$D$7:$D$46,B30) -> 0 | E30: =C30-D30 -> 0 | F30: =IFERROR(D30/C30,0) -> 0
B31: =Setup!S14 -> Debt | C31: =SUMIFS(Annual!$R$7:$R$46,Annual!$D$7:$D$46,B31) -> 0 | D31: =SUMIFS(Annual!$Q$7:$Q$46,Annual!$D$7:$D$46,B31) -> 0 | E31: =C31-D31 -> 0 | F31: =IFERROR(D31/C31,0) -> 0
B32: =Setup!S15 -> Savings | C32: =SUMIFS(Annual!$R$7:$R$46,Annual!$D$7:$D$46,B32) -> 0 | D32: =SUMIFS(Annual!$Q$7:$Q$46,Annual!$D$7:$D$46,B32) -> 0 | E32: =C32-D32 -> 0 | F32: =IFERROR(D32/C32,0) -> 0
B33: =Setup!S16 -> Personal | C33: =SUMIFS(Annual!$R$7:$R$46,Annual!$D$7:$D$46,B33) -> 0 | D33: =SUMIFS(Annual!$Q$7:$Q$46,Annual!$D$7:$D$46,B33) -> 0 | E33: =C33-D33 -> 0 | F33: =IFERROR(D33/C33,0) -> 0
B34: =Setup!S17 -> Entertainment | C34: =SUMIFS(Annual!$R$7:$R$46,Annual!$D$7:$D$46,B34) -> 0 | D34: =SUMIFS(Annual!$Q$7:$Q$46,Annual!$D$7:$D$46,B34) -> 0 | E34: =C34-D34 -> 0 | F34: =IFERROR(D34/C34,0) -> 0
B35: =Setup!S18 -> Giving | C35: =SUMIFS(Annual!$R$7:$R$46,Annual!$D$7:$D$46,B35) -> 0 | D35: =SUMIFS(Annual!$Q$7:$Q$46,Annual!$D$7:$D$46,B35) -> 0 | E35: =C35-D35 -> 0 | F35: =IFERROR(D35/C35,0) -> 0
B36: =Setup!S19 -> Other | C36: =SUMIFS(Annual!$R$7:$R$46,Annual!$D$7:$D$46,B36) -> 0 | D36: =SUMIFS(Annual!$Q$7:$Q$46,Annual!$D$7:$D$46,B36) -> 0 | E36: =C36-D36 -> 0 | F36: =IFERROR(D36/C36,0) -> 0

Sheet Setup
B2: Setup — categories & monthly budgets
B3: List income sources and expense categories once. Jan budget fills the rest of the year — overwrite any month that differs.
B5: BUDGET YEAR | C5: 2027
B7: Type | C7: Group | D7: Category | E7: Jan | F7: Feb | G7: Mar | H7: Apr | I7: May | J7: Jun | K7: Jul | L7: Aug | M7: Sep | N7: Oct | O7: Nov | P7: Dec | Q7: Year | S7: Groups
B8: Income | D8: Salary | E8: 4900 | F8: =IF(E8="","",E8) -> 4900 | G8: =IF(F8="","",F8) -> 4900 | H8: =IF(G8="","",G8) -> 4900 | I8: =IF(H8="","",H8) -> 4900 | J8: =IF(I8="","",I8) -> 4900 | K8: =IF(J8="","",J8) -> 4900 | L8: =IF(K8="","",K8) -> 4900 | M8: =IF(L8="","",L8) -> 4900 | ... P8: =IF(O8="","",O8) -> 4900 | Q8: =IF(D8="","",SUM(E8:P8)) -> 0 | S8: Housing
B9: Income | D9: Side income | E9: 400 | F9: =IF(E9="","",E9) -> 400 | G9: =IF(F9="","",F9) -> 400 | H9: =IF(G9="","",G9) -> 400 | I9: =IF(H9="","",H9) -> 400 | J9: =IF(I9="","",I9) -> 400 | K9: =IF(J9="","",J9) -> 400 | L9: =IF(K9="","",K9) -> 400 | M9: =IF(L9="","",L9) -> 400 | ... P9: =IF(O9="","",O9) -> 400 | Q9: =IF(D9="","",SUM(E9:P9)) -> 0 | S9: Utilities
B10: Income | D10: Interest & other | E10: 25 | F10: =IF(E10="","",E10) -> 25 | G10: =IF(F10="","",F10) -> 25 | H10: =IF(G10="","",G10) -> 25 | I10: =IF(H10="","",H10) -> 25 | J10: =IF(I10="","",I10) -> 25 | K10: =IF(J10="","",J10) -> 25 | L10: =IF(K10="","",K10) -> 25 | M10: =IF(L10="","",L10) -> 25 | ... P10: =IF(O10="","",O10) -> 25 | Q10: =IF(D10="","",SUM(E10:P10)) -> 0 | S10: Food
B11: Expense | C11: Housing | D11: Rent / mortgage | E11: 1450 | F11: =IF(E11="","",E11) -> 1450 | G11: =IF(F11="","",F11) -> 1450 | H11: =IF(G11="","",G11) -> 1450 | I11: =IF(H11="","",H11) -> 1450 | J11: =IF(I11="","",I11) -> 1450 | K11: =IF(J11="","",J11) -> 1450 | L11: =IF(K11="","",K11) -> 1450 | M11: =IF(L11="","",L11) -> 1450 | ... P11: =IF(O11="","",O11) -> 1450 | Q11: =IF(D11="","",SUM(E11:P11)) -> 0 | S11: Transportation
B12: Expense | C12: Utilities | D12: Electricity & gas | E12: 130 | F12: =IF(E12="","",E12) -> 130 | G12: =IF(F12="","",F12) -> 130 | H12: =IF(G12="","",G12) -> 130 | I12: =IF(H12="","",H12) -> 130 | J12: =IF(I12="","",I12) -> 130 | K12: =IF(J12="","",J12) -> 130 | L12: =IF(K12="","",K12) -> 130 | M12: =IF(L12="","",L12) -> 130 | ... P12: =IF(O12="","",O12) -> 130 | Q12: =IF(D12="","",SUM(E12:P12)) -> 0 | S12: Insurance
B13: Expense | C13: Utilities | D13: Internet & phone | E13: 115 | F13: =IF(E13="","",E13) -> 115 | G13: =IF(F13="","",F13) -> 115 | H13: =IF(G13="","",G13) -> 115 | I13: =IF(H13="","",H13) -> 115 | J13: =IF(I13="","",I13) -> 115 | K13: =IF(J13="","",J13) -> 115 | L13: =IF(K13="","",K13) -> 115 | M13: =IF(L13="","",L13) -> 115 | ... P13: =IF(O13="","",O13) -> 115 | Q13: =IF(D13="","",SUM(E13:P13)) -> 0 | S13: Health
B14: Expense | C14: Food | D14: Groceries | E14: 520 | F14: =IF(E14="","",E14) -> 520 | G14: =IF(F14="","",F14) -> 520 | H14: =IF(G14="","",G14) -> 520 | I14: =IF(H14="","",H14) -> 520 | J14: =IF(I14="","",I14) -> 520 | K14: =IF(J14="","",J14) -> 520 | L14: =IF(K14="","",K14) -> 520 | M14: =IF(L14="","",L14) -> 520 | ... P14: =IF(O14="","",O14) -> 520 | Q14: =IF(D14="","",SUM(E14:P14)) -> 0 | S14: Debt
B15: Expense | C15: Food | D15: Dining out | E15: 160 | F15: =IF(E15="","",E15) -> 160 | G15: =IF(F15="","",F15) -> 160 | H15: =IF(G15="","",G15) -> 160 | I15: =IF(H15="","",H15) -> 160 | J15: =IF(I15="","",I15) -> 160 | K15: =IF(J15="","",J15) -> 160 | L15: =IF(K15="","",K15) -> 160 | M15: =IF(L15="","",L15) -> 160 | ... P15: =IF(O15="","",O15) -> 160 | Q15: =IF(D15="","",SUM(E15:P15)) -> 0 | S15: Savings
B16: Expense | C16: Transportation | D16: Fuel & transit | E16: 170 | F16: =IF(E16="","",E16) -> 170 | G16: =IF(F16="","",F16) -> 170 | H16: =IF(G16="","",G16) -> 170 | I16: =IF(H16="","",H16) -> 170 | J16: =IF(I16="","",I16) -> 170 | K16: =IF(J16="","",J16) -> 170 | L16: =IF(K16="","",K16) -> 170 | M16: =IF(L16="","",L16) -> 170 | ... P16: =IF(O16="","",O16) -> 170 | Q16: =IF(D16="","",SUM(E16:P16)) -> 0 | S16: Personal
B17: Expense | C17: Transportation | D17: Car payment | E17: 310 | F17: =IF(E17="","",E17) -> 310 | G17: =IF(F17="","",F17) -> 310 | H17: =IF(G17="","",G17) -> 310 | I17: =IF(H17="","",H17) -> 310 | J17: =IF(I17="","",I17) -> 310 | K17: =IF(J17="","",J17) -> 310 | L17: =IF(K17="","",K17) -> 310 | M17: =IF(L17="","",L17) -> 310 | ... P17: =IF(O17="","",O17) -> 310 | Q17: =IF(D17="","",SUM(E17:P17)) -> 0 | S17: Entertainment
B18: Expense | C18: Insurance | D18: Insurance | E18: 140 | F18: =IF(E18="","",E18) -> 140 | G18: =IF(F18="","",F18) -> 140 | H18: =IF(G18="","",G18) -> 140 | I18: =IF(H18="","",H18) -> 140 | J18: =IF(I18="","",I18) -> 140 | K18: =IF(J18="","",J18) -> 140 | L18: =IF(K18="","",K18) -> 140 | M18: =IF(L18="","",L18) -> 140 | ... P18: =IF(O18="","",O18) -> 140 | Q18: =IF(D18="","",SUM(E18:P18)) -> 0 | S18: Giving
B19: Expense | C19: Health | D19: Health & fitness | E19: 70 | F19: =IF(E19="","",E19) -> 70 | G19: =IF(F19="","",F19) -> 70 | H19: =IF(G19="","",G19) -> 70 | I19: =IF(H19="","",H19) -> 70 | J19: =IF(I19="","",I19) -> 70 | K19: =IF(J19="","",J19) -> 70 | L19: =IF(K19="","",K19) -> 70 | M19: =IF(L19="","",L19) -> 70 | ... P19: =IF(O19="","",O19) -> 70 | Q19: =IF(D19="","",SUM(E19:P19)) -> 0 | S19: Other
B20: Expense | C20: Debt | D20: Student loan | E20: 230 | F20: =IF(E20="","",E20) -> 230 | G20: =IF(F20="","",F20) -> 230 | H20: =IF(G20="","",G20) -> 230 | I20: =IF(H20="","",H20) -> 230 | J20: =IF(I20="","",I20) -> 230 | K20: =IF(J20="","",J20) -> 230 | L20: =IF(K20="","",K20) -> 230 | M20: =IF(L20="","",L20) -> 230 | ... P20: =IF(O20="","",O20) -> 230 | Q20: =IF(D20="","",SUM(E20:P20)) -> 0
B21: Expense | C21: Savings | D21: Emergency fund | E21: 300 | F21: =IF(E21="","",E21) -> 300 | G21: =IF(F21="","",F21) -> 300 | H21: =IF(G21="","",G21) -> 300 | I21: =IF(H21="","",H21) -> 300 | J21: =IF(I21="","",I21) -> 300 | K21: =IF(J21="","",J21) -> 300 | L21: =IF(K21="","",K21) -> 300 | M21: =IF(L21="","",L21) -> 300 | ... P21: =IF(O21="","",O21) -> 300 | Q21: =IF(D21="","",SUM(E21:P21)) -> 0 | S21: Rename groups here;
B22: Expense | C22: Savings | D22: Retirement | E22: 250 | F22: =IF(E22="","",E22) -> 250 | G22: =IF(F22="","",F22) -> 250 | H22: =IF(G22="","",G22) -> 250 | I22: =IF(H22="","",H22) -> 250 | J22: =IF(I22="","",I22) -> 250 | K22: =IF(J22="","",J22) -> 250 | L22: =IF(K22="","",K22) -> 250 | M22: =IF(L22="","",L22) -> 250 | ... P22: =IF(O22="","",O22) -> 250 | Q22: =IF(D22="","",SUM(E22:P22)) -> 0 | S22: charts follow.
B23: Expense | C23: Personal | D23: Shopping & personal | E23: 120 | F23: =IF(E23="","",E23) -> 120 | G23: =IF(F23="","",F23) -> 120 | H23: =IF(G23="","",G23) -> 120 | I23: =IF(H23="","",H23) -> 120 | J23: =IF(I23="","",I23) -> 120 | K23: =IF(J23="","",J23) -> 120 | L23: =IF(K23="","",K23) -> 120 | M23: =IF(L23="","",L23) -> 120 | ... P23: =IF(O23="","",O23) -> 120 | Q23: =IF(D23="","",SUM(E23:P23)) -> 0
B24: Expense | C24: Personal | D24: Subscriptions | E24: 35 | F24: =IF(E24="","",E24) -> 35 | G24: =IF(F24="","",F24) -> 35 | H24: =IF(G24="","",G24) -> 35 | I24: =IF(H24="","",H24) -> 35 | J24: =IF(I24="","",I24) -> 35 | K24: =IF(J24="","",J24) -> 35 | L24: =IF(K24="","",K24) -> 35 | M24: =IF(L24="","",L24) -> 35 | ... P24: =IF(O24="","",O24) -> 35 | Q24: =IF(D24="","",SUM(E24:P24)) -> 0
B25: Expense | C25: Entertainment | D25: Fun & hobbies | E25: 110 | F25: =IF(E25="","",E25) -> 110 | G25: =IF(F25="","",F25) -> 110 | H25: =IF(G25="","",G25) -> 110 | I25: =IF(H25="","",H25) -> 110 | J25: =IF(I25="","",I25) -> 110 | K25: =IF(J25="","",J25) -> 110 | L25: =IF(K25="","",K25) -> 110 | M25: =IF(L25="","",L25) -> 110 | ... P25: =IF(O25="","",O25) -> 110 | Q25: =IF(D25="","",SUM(E25:P25)) -> 0
B26: Expense | C26: Giving | D26: Gifts & donations | E26: 60 | F26: =IF(E26="","",E26) -> 60 | G26: =IF(F26="","",F26) -> 60 | H26: =IF(G26="","",G26) -> 60 | I26: =IF(H26="","",H26) -> 60 | J26: =IF(I26="","",I26) -> 60 | K26: =IF(J26="","",J26) -> 60 | L26: =IF(K26="","",K26) -> 60 | M26: =IF(L26="","",L26) -> 60 | ... O26: =IF(N26="","",N26) -> 60 | P26: 400 | Q26: =IF(D26="","",SUM(E26:P26)) -> 0
F27: =IF(E27="","",E27) | G27: =IF(F27="","",F27) | H27: =IF(G27="","",G27) | I27: =IF(H27="","",H27) | J27: =IF(I27="","",I27) | K27: =IF(J27="","",J27) | L27: =IF(K27="","",K27) | M27: =IF(L27="","",L27) | ... P27: =IF(O27="","",O27) | Q27: =IF(D27="","",SUM(E27:P27)) -> 0
F28: =IF(E28="","",E28) | G28: =IF(F28="","",F28) | H28: =IF(G28="","",G28) | I28: =IF(H28="","",H28) | J28: =IF(I28="","",I28) | K28: =IF(J28="","",J28) | L28: =IF(K28="","",K28) | M28: =IF(L28="","",L28) | ... P28: =IF(O28="","",O28) | Q28: =IF(D28="","",SUM(E28:P28)) -> 0
F29: =IF(E29="","",E29) | G29: =IF(F29="","",F29) | H29: =IF(G29="","",G29) | I29: =IF(H29="","",H29) | J29: =IF(I29="","",I29) | K29: =IF(J29="","",J29) | L29: =IF(K29="","",K29) | M29: =IF(L29="","",L29) | ... P29: =IF(O29="","",O29) | Q29: =IF(D29="","",SUM(E29:P29)) -> 0
F30: =IF(E30="","",E30) | G30: =IF(F30="","",F30) | H30: =IF(G30="","",G30) | I30: =IF(H30="","",H30) | J30: =IF(I30="","",I30) | K30: =IF(J30="","",J30) | L30: =IF(K30="","",K30) | M30: =IF(L30="","",L30) | ... P30: =IF(O30="","",O30) | Q30: =IF(D30="","",SUM(E30:P30)) -> 0
F31: =IF(E31="","",E31) | G31: =IF(F31="","",F31) | H31: =IF(G31="","",G31) | I31: =IF(H31="","",H31) | J31: =IF(I31="","",I31) | K31: =IF(J31="","",J31) | L31: =IF(K31="","",K31) | M31: =IF(L31="","",L31) | ... P31: =IF(O31="","",O31) | Q31: =IF(D31="","",SUM(E31:P31)) -> 0
F32: =IF(E32="","",E32) | G32: =IF(F32="","",F32) | H32: =IF(G32="","",G32) | I32: =IF(H32="","",H32) | J32: =IF(I32="","",I32) | K32: =IF(J32="","",J32) | L32: =IF(K32="","",K32) | M32: =IF(L32="","",L32) | ... P32: =IF(O32="","",O32) | Q32: =IF(D32="","",SUM(E32:P32)) -> 0
F33: =IF(E33="","",E33) | G33: =IF(F33="","",F33) | H33: =IF(G33="","",G33) | I33: =IF(H33="","",H33) | J33: =IF(I33="","",I33) | K33: =IF(J33="","",J33) | L33: =IF(K33="","",K33) | M33: =IF(L33="","",L33) | ... P33: =IF(O33="","",O33) | Q33: =IF(D33="","",SUM(E33:P33)) -> 0
F34: =IF(E34="","",E34) | G34: =IF(F34="","",F34) | H34: =IF(G34="","",G34) | I34: =IF(H34="","",H34) | J34: =IF(I34="","",I34) | K34: =IF(J34="","",J34) | L34: =IF(K34="","",K34) | M34: =IF(L34="","",L34) | ... P34: =IF(O34="","",O34) | Q34: =IF(D34="","",SUM(E34:P34)) -> 0
F35: =IF(E35="","",E35) | G35: =IF(F35="","",F35) | H35: =IF(G35="","",G35) | I35: =IF(H35="","",H35) | J35: =IF(I35="","",I35) | K35: =IF(J35="","",J35) | L35: =IF(K35="","",K35) | M35: =IF(L35="","",L35) | ... P35: =IF(O35="","",O35) | Q35: =IF(D35="","",SUM(E35:P35)) -> 0
F36: =IF(E36="","",E36) | G36: =IF(F36="","",F36) | H36: =IF(G36="","",G36) | I36: =IF(H36="","",H36) | J36: =IF(I36="","",I36) | K36: =IF(J36="","",J36) | L36: =IF(K36="","",K36) | M36: =IF(L36="","",L36) | ... P36: =IF(O36="","",O36) | Q36: =IF(D36="","",SUM(E36:P36)) -> 0
F37: =IF(E37="","",E37) | G37: =IF(F37="","",F37) | H37: =IF(G37="","",G37) | I37: =IF(H37="","",H37) | J37: =IF(I37="","",I37) | K37: =IF(J37="","",J37) | L37: =IF(K37="","",K37) | M37: =IF(L37="","",L37) | ... P37: =IF(O37="","",O37) | Q37: =IF(D37="","",SUM(E37:P37)) -> 0
F38: =IF(E38="","",E38) | G38: =IF(F38="","",F38) | H38: =IF(G38="","",G38) | I38: =IF(H38="","",H38) | J38: =IF(I38="","",I38) | K38: =IF(J38="","",J38) | L38: =IF(K38="","",K38) | M38: =IF(L38="","",L38) | ... P38: =IF(O38="","",O38) | Q38: =IF(D38="","",SUM(E38:P38)) -> 0
... F47: =IF(E47="","",E47) | G47: =IF(F47="","",F47) | H47: =IF(G47="","",G47) | I47: =IF(H47="","",H47) | J47: =IF(I47="","",I47) | K47: =IF(J47="","",J47) | L47: =IF(K47="","",K47) | M47: =IF(L47="","",L47) | ... P47: =IF(O47="","",O47) | Q47: =IF(D47="","",SUM(E47:P47)) -> 0

Sheet Jan
B2: ="January "&Setup!$C$5 -> January 2027
B3: Log transactions on the left; the summary on the right compares them with your Setup budget.
B5: INCOME | D5: EXPENSES | G5: NET SAVED | I5: EXPENSE BUDGET LEFT
B6: =SUMIFS(Jan!$J$10:$J$49,Jan!$H$10:$H$49,"Income") -> None | D6: =SUMIFS(Jan!$J$10:$J$49,Jan!$H$10:$H$49,"Expense") -> None | G6: =B6-D6 -> None | I6: =SUMIFS(Jan!$I$10:$I$49,Jan!$H$10:$H$49,"Expense")-D6 -> None
B9: Date | C9: Description | D9: Category | E9: Amount | G9: Category | H9: Type | I9: Budget | J9: Actual | K9: Difference | L9: Status
B10: 46388 | C10: Paycheck | D10: Salary | E10: 2450 | G10: =IF(Setup!D8="","",Setup!D8) -> Salary | H10: =IF(G10="","",Setup!B8) -> 0 | I10: =IF(G10="","",N(Setup!E8)) -> 0 | J10: =IF(G10="","",SUMIFS(Jan!$E$10:$E$209,Jan!$D$10:$D$209,G10)) -> 0 | K10: =IF(G10="","",IF(H10="Income",J10-I10,I10-J10)) -> 0 | L10: =IF(G10="","",IF(H10="Income",IF(J10>=I10,"✓","Below"),IF(J10>I10+0.005,"Over","OK"))) -> 0
B11: 46388 | C11: Rent | D11: Rent / mortgage | E11: 1450 | G11: =IF(Setup!D9="","",Setup!D9) -> Side income | H11: =IF(G11="","",Setup!B9) -> 0 | I11: =IF(G11="","",N(Setup!E9)) -> 0 | J11: =IF(G11="","",SUMIFS(Jan!$E$10:$E$209,Jan!$D$10:$D$209,G11)) -> 0 | K11: =IF(G11="","",IF(H11="Income",J11-I11,I11-J11)) -> 0 | L11: =IF(G11="","",IF(H11="Income",IF(J11>=I11,"✓","Below"),IF(J11>I11+0.005,"Over","OK"))) -> 0
B12: 46389 | C12: Groceries | D12: Groceries | E12: 119.57 | G12: =IF(Setup!D10="","",Setup!D10) -> Interest & other | H12: =IF(G12="","",Setup!B10) -> 0 | I12: =IF(G12="","",N(Setup!E10)) -> 0 | J12: =IF(G12="","",SUMIFS(Jan!$E$10:$E$209,Jan!$D$10:$D$209,G12)) -> 0 | K12: =IF(G12="","",IF(H12="Income",J12-I12,I12-J12)) -> 0 | L12: =IF(G12="","",IF(H12="Income",IF(J12>=I12,"✓","Below"),IF(J12>I12+0.005,"Over","OK"))) -> 0
B13: 46390 | C13: Streaming | D13: Subscriptions | E13: 34.97 | G13: =IF(Setup!D11="","",Setup!D11) -> Rent / mortgage | H13: =IF(G13="","",Setup!B11) -> 0 | I13: =IF(G13="","",N(Setup!E11)) -> 0 | J13: =IF(G13="","",SUMIFS(Jan!$E$10:$E$209,Jan!$D$10:$D$209,G13)) -> 0 | K13: =IF(G13="","",IF(H13="Income",J13-I13,I13-J13)) -> 0 | L13: =IF(G13="","",IF(H13="Income",IF(J13>=I13,"✓","Below"),IF(J13>I13+0.005,"Over","OK"))) -> 0
B14: 46391 | C14: Fuel | D14: Fuel & transit | E14: 38.99 | G14: =IF(Setup!D12="","",Setup!D12) -> Electricity & gas | H14: =IF(G14="","",Setup!B12) -> 0 | I14: =IF(G14="","",N(Setup!E12)) -> 0 | J14: =IF(G14="","",SUMIFS(Jan!$E$10:$E$209,Jan!$D$10:$D$209,G14)) -> 0 | K14: =IF(G14="","",IF(H14="Income",J14-I14,I14-J14)) -> 0 | L14: =IF(G14="","",IF(H14="Income",IF(J14>=I14,"✓","Below"),IF(J14>I14+0.005,"Over","OK"))) -> 0
B15: 46392 | C15: Car loan | D15: Car payment | E15: 310 | G15: =IF(Setup!D13="","",Setup!D13) -> Internet & phone | H15: =IF(G15="","",Setup!B13) -> 0 | I15: =IF(G15="","",N(Setup!E13)) -> 0 | J15: =IF(G15="","",SUMIFS(Jan!$E$10:$E$209,Jan!$D$10:$D$209,G15)) -> 0 | K15: =IF(G15="","",IF(H15="Income",J15-I15,I15-J15)) -> 0 | L15: =IF(G15="","",IF(H15="Income",IF(J15>=I15,"✓","Below"),IF(J15>I15+0.005,"Over","OK"))) -> 0
B16: 46392 | C16: Auto-save | D16: Emergency fund | E16: 300 | G16: =IF(Setup!D14="","",Setup!D14) -> Groceries | H16: =IF(G16="","",Setup!B14) -> 0 | I16: =IF(G16="","",N(Setup!E14)) -> 0 | J16: =IF(G16="","",SUMIFS(Jan!$E$10:$E$209,Jan!$D$10:$D$209,G16)) -> 0 | K16: =IF(G16="","",IF(H16="Income",J16-I16,I16-J16)) -> 0 | L16: =IF(G16="","",IF(H16="Income",IF(J16>=I16,"✓","Below"),IF(J16>I16+0.005,"Over","OK"))) -> 0
B17: 46394 | C17: Restaurant | D17: Dining out | E17: 64.47 | G17: =IF(Setup!D15="","",Setup!D15) -> Dining out | H17: =IF(G17="","",Setup!B15) -> 0 | I17: =IF(G17="","",N(Setup!E15)) -> 0 | J17: =IF(G17="","",SUMIFS(Jan!$E$10:$E$209,Jan!$D$10:$D$209,G17)) -> 0 | K17: =IF(G17="","",IF(H17="Income",J17-I17,I17-J17)) -> 0 | L17: =IF(G17="","",IF(H17="Income",IF(J17>=I17,"✓","Below"),IF(J17>I17+0.005,"Over","OK"))) -> 0
B18: 46396 | C18: Internet + phone | D18: Internet & phone | E18: 115 | G18: =IF(Setup!D16="","",Setup!D16) -> Fuel & transit | H18: =IF(G18="","",Setup!B16) -> 0 | I18: =IF(G18="","",N(Setup!E16)) -> 0 | J18: =IF(G18="","",SUMIFS(Jan!$E$10:$E$209,Jan!$D$10:$D$209,G18)) -> 0 | K18: =IF(G18="","",IF(H18="Income",J18-I18,I18-J18)) -> 0 | L18: =IF(G18="","",IF(H18="Income",IF(J18>=I18,"✓","Below"),IF(J18>I18+0.005,"Over","OK"))) -> 0
B19: 46396 | C19: Groceries | D19: Groceries | E19: 111.79 | G19: =IF(Setup!D17="","",Setup!D17) -> Car payment | H19: =IF(G19="","",Setup!B17) -> 0 | I19: =IF(G19="","",N(Setup!E17)) -> 0 | J19: =IF(G19="","",SUMIFS(Jan!$E$10:$E$209,Jan!$D$10:$D$209,G19)) -> 0 | K19: =IF(G19="","",IF(H19="Income",J19-I19,I19-J19)) -> 0 | L19: =IF(G19="","",IF(H19="Income",IF(J19>=I19,"✓","Below"),IF(J19>I19+0.005,"Over","OK"))) -> 0
B20: 46397 | C20: Gym | D20: Health & fitness | E20: 45 | G20: =IF(Setup!D18="","",Setup!D18) -> Insurance | H20: =IF(G20="","",Setup!B18) -> 0 | I20: =IF(G20="","",N(Setup!E18)) -> 0 | J20: =IF(G20="","",SUMIFS(Jan!$E$10:$E$209,Jan!$D$10:$D$209,G20)) -> 0 | K20: =IF(G20="","",IF(H20="Income",J20-I20,I20-J20)) -> 0 | L20: =IF(G20="","",IF(H20="Income",IF(J20>=I20,"✓","Below"),IF(J20>I20+0.005,"Over","OK"))) -> 0
B21: 46399 | C21: Student loan | D21: Student loan | E21: 230 | G21: =IF(Setup!D19="","",Setup!D19) -> Health & fitness | H21: =IF(G21="","",Setup!B19) -> 0 | I21: =IF(G21="","",N(Setup!E19)) -> 0 | J21: =IF(G21="","",SUMIFS(Jan!$E$10:$E$209,Jan!$D$10:$D$209,G21)) -> 0 | K21: =IF(G21="","",IF(H21="Income",J21-I21,I21-J21)) -> 0 | L21: =IF(G21="","",IF(H21="Income",IF(J21>=I21,"✓","Below"),IF(J21>I21+0.005,"Over","OK"))) -> 0
... B34: 46415 | C34: Savings interest | D34: Interest & other | E34: 21.4 | G34: =IF(Setup!D32="","",Setup!D32) | H34: =IF(G34="","",Setup!B32) -> 0 | I34: =IF(G34="","",N(Setup!E32)) -> 0 | J34: =IF(G34="","",SUMIFS(Jan!$E$10:$E$209,Jan!$D$10:$D$209,G34)) -> 0 | K34: =IF(G34="","",IF(H34="Income",J34-I34,I34-J34)) -> 0 | L34: =IF(G34="","",IF(H34="Income",IF(J34>=I34,"✓","Below"),IF(J34>I34+0.005,"Over","OK"))) -> 0
G35: =IF(Setup!D33="","",Setup!D33) | H35: =IF(G35="","",Setup!B33) -> 0 | I35: =IF(G35="","",N(Setup!E33)) -> 0 | J35: =IF(G35="","",SUMIFS(Jan!$E$10:$E$209,Jan!$D$10:$D$209,G35)) -> 0 | K35: =IF(G35="","",IF(H35="Income",J35-I35,I35-J35)) -> 0 | L35: =IF(G35="","",IF(H35="Income",IF(J35>=I35,"✓","Below"),IF(J35>I35+0.005,"Over","OK"))) -> 0
G36: =IF(Setup!D34="","",Setup!D34) | H36: =IF(G36="","",Setup!B34) -> 0 | I36: =IF(G36="","",N(Setup!E34)) -> 0 | J36: =IF(G36="","",SUMIFS(Jan!$E$10:$E$209,Jan!$D$10:$D$209,G36)) -> 0 | K36: =IF(G36="","",IF(H36="Income",J36-I36,I36-J36)) -> 0 | L36: =IF(G36="","",IF(H36="Income",IF(J36>=I36,"✓","Below"),IF(J36>I36+0.005,"Over","OK"))) -> 0
G37: =IF(Setup!D35="","",Setup!D35) | H37: =IF(G37="","",Setup!B35) -> 0 | I37: =IF(G37="","",N(Setup!E35)) -> 0 | J37: =IF(G37="","",SUMIFS(Jan!$E$10:$E$209,Jan!$D$10:$D$209,G37)) -> 0 | K37: =IF(G37="","",IF(H37="Income",J37-I37,I37-J37)) -> 0 | L37: =IF(G37="","",IF(H37="Income",IF(J37>=I37,"✓","Below"),IF(J37>I37+0.005,"Over","OK"))) -> 0
G38: =IF(Setup!D36="","",Setup!D36) | H38: =IF(G38="","",Setup!B36) -> 0 | I38: =IF(G38="","",N(Setup!E36)) -> 0 | J38: =IF(G38="","",SUMIFS(Jan!$E$10:$E$209,Jan!$D$10:$D$209,G38)) -> 0 | K38: =IF(G38="","",IF(H38="Income",J38-I38,I38-J38)) -> 0 | L38: =IF(G38="","",IF(H38="Income",IF(J38>=I38,"✓","Below"),IF(J38>I38+0.005,"Over","OK"))) -> 0
G39: =IF(Setup!D37="","",Setup!D37) | H39: =IF(G39="","",Setup!B37) -> 0 | I39: =IF(G39="","",N(Setup!E37)) -> 0 | J39: =IF(G39="","",SUMIFS(Jan!$E$10:$E$209,Jan!$D$10:$D$209,G39)) -> 0 | K39: =IF(G39="","",IF(H39="Income",J39-I39,I39-J39)) -> 0 | L39: =IF(G39="","",IF(H39="Income",IF(J39>=I39,"✓","Below"),IF(J39>I39+0.005,"Over","OK"))) -> 0
G40: =IF(Setup!D38="","",Setup!D38) | H40: =IF(G40="","",Setup!B38) -> 0 | I40: =IF(G40="","",N(Setup!E38)) -> 0 | J40: =IF(G40="","",SUMIFS(Jan!$E$10:$E$209,Jan!$D$10:$D$209,G40)) -> 0 | K40: =IF(G40="","",IF(H40="Income",J40-I40,I40-J40)) -> 0 | L40: =IF(G40="","",IF(H40="Income",IF(J40>=I40,"✓","Below"),IF(J40>I40+0.005,"Over","OK"))) -> 0
G41: =IF(Setup!D39="","",Setup!D39) | H41: =IF(G41="","",Setup!B39) -> 0 | I41: =IF(G41="","",N(Setup!E39)) -> 0 | J41: =IF(G41="","",SUMIFS(Jan!$E$10:$E$209,Jan!$D$10:$D$209,G41)) -> 0 | K41: =IF(G41="","",IF(H41="Income",J41-I41,I41-J41)) -> 0 | L41: =IF(G41="","",IF(H41="Income",IF(J41>=I41,"✓","Below"),IF(J41>I41+0.005,"Over","OK"))) -> 0
G42: =IF(Setup!D40="","",Setup!D40) | H42: =IF(G42="","",Setup!B40) -> 0 | I42: =IF(G42="","",N(Setup!E40)) -> 0 | J42: =IF(G42="","",SUMIFS(Jan!$E$10:$E$209,Jan!$D$10:$D$209,G42)) -> 0 | K42: =IF(G42="","",IF(H42="Income",J42-I42,I42-J42)) -> 0 | L42: =IF(G42="","",IF(H42="Income",IF(J42>=I42,"✓","Below"),IF(J42>I42+0.005,"Over","OK"))) -> 0
G43: =IF(Setup!D41="","",Setup!D41) | H43: =IF(G43="","",Setup!B41) -> 0 | I43: =IF(G43="","",N(Setup!E41)) -> 0 | J43: =IF(G43="","",SUMIFS(Jan!$E$10:$E$209,Jan!$D$10:$D$209,G43)) -> 0 | K43: =IF(G43="","",IF(H43="Income",J43-I43,I43-J43)) -> 0 | L43: =IF(G43="","",IF(H43="Income",IF(J43>=I43,"✓","Below"),IF(J43>I43+0.005,"Over","OK"))) -> 0
G44: =IF(Setup!D42="","",Setup!D42) | H44: =IF(G44="","",Setup!B42) -> 0 | I44: =IF(G44="","",N(Setup!E42)) -> 0 | J44: =IF(G44="","",SUMIFS(Jan!$E$10:$E$209,Jan!$D$10:$D$209,G44)) -> 0 | K44: =IF(G44="","",IF(H44="Income",J44-I44,I44-J44)) -> 0 | L44: =IF(G44="","",IF(H44="Income",IF(J44>=I44,"✓","Below"),IF(J44>I44+0.005,"Over","OK"))) -> 0
G45: =IF(Setup!D43="","",Setup!D43) | H45: =IF(G45="","",Setup!B43) -> 0 | I45: =IF(G45="","",N(Setup!E43)) -> 0 | J45: =IF(G45="","",SUMIFS(Jan!$E$10:$E$209,Jan!$D$10:$D$209,G45)) -> 0 | K45: =IF(G45="","",IF(H45="Income",J45-I45,I45-J45)) -> 0 | L45: =IF(G45="","",IF(H45="Income",IF(J45>=I45,"✓","Below"),IF(J45>I45+0.005,"Over","OK"))) -> 0
G46: =IF(Setup!D44="","",Setup!D44) | H46: =IF(G46="","",Setup!B44) -> 0 | I46: =IF(G46="","",N(Setup!E44)) -> 0 | J46: =IF(G46="","",SUMIFS(Jan!$E$10:$E$209,Jan!$D$10:$D$209,G46)) -> 0 | K46: =IF(G46="","",IF(H46="Income",J46-I46,I46-J46)) -> 0 | L46: =IF(G46="","",IF(H46="Income",IF(J46>=I46,"✓","Below"),IF(J46>I46+0.005,"Over","OK"))) -> 0
... G49: =IF(Setup!D47="","",Setup!D47) | H49: =IF(G49="","",Setup!B47) -> 0 | I49: =IF(G49="","",N(Setup!E47)) -> 0 | J49: =IF(G49="","",SUMIFS(Jan!$E$10:$E$209,Jan!$D$10:$D$209,G49)) -> 0 | K49: =IF(G49="","",IF(H49="Income",J49-I49,I49-J49)) -> 0 | L49: =IF(G49="","",IF(H49="Income",IF(J49>=I49,"✓","Below"),IF(J49>I49+0.005,"Over","OK"))) -> 0

Sheet Feb
B2: ="February "&Setup!$C$5 -> February 2027
B3: Log transactions on the left; the summary on the right compares them with your Setup budget.
B5: INCOME | D5: EXPENSES | G5: NET SAVED | I5: EXPENSE BUDGET LEFT
B6: =SUMIFS(Feb!$J$10:$J$49,Feb!$H$10:$H$49,"Income") -> None | D6: =SUMIFS(Feb!$J$10:$J$49,Feb!$H$10:$H$49,"Expense") -> None | G6: =B6-D6 -> None | I6: =SUMIFS(Feb!$I$10:$I$49,Feb!$H$10:$H$49,"Expense")-D6 -> None
B9: Date | C9: Description | D9: Category | E9: Amount | G9: Category | H9: Type | I9: Budget | J9: Actual | K9: Difference | L9: Status
B10: 46419 | C10: Paycheck | D10: Salary | E10: 2450 | G10: =IF(Setup!D8="","",Setup!D8) -> Salary | H10: =IF(G10="","",Setup!B8) -> 0 | I10: =IF(G10="","",N(Setup!F8)) -> 0 | J10: =IF(G10="","",SUMIFS(Feb!$E$10:$E$209,Feb!$D$10:$D$209,G10)) -> 0 | K10: =IF(G10="","",IF(H10="Income",J10-I10,I10-J10)) -> 0 | L10: =IF(G10="","",IF(H10="Income",IF(J10>=I10,"✓","Below"),IF(J10>I10+0.005,"Over","OK"))) -> 0
B11: 46419 | C11: Rent | D11: Rent / mortgage | E11: 1450 | G11: =IF(Setup!D9="","",Setup!D9) -> Side income | H11: =IF(G11="","",Setup!B9) -> 0 | I11: =IF(G11="","",N(Setup!F9)) -> 0 | J11: =IF(G11="","",SUMIFS(Feb!$E$10:$E$209,Feb!$D$10:$D$209,G11)) -> 0 | K11: =IF(G11="","",IF(H11="Income",J11-I11,I11-J11)) -> 0 | L11: =IF(G11="","",IF(H11="Income",IF(J11>=I11,"✓","Below"),IF(J11>I11+0.005,"Over","OK"))) -> 0
B12: 46420 | C12: Groceries | D12: Groceries | E12: 108.14 | G12: =IF(Setup!D10="","",Setup!D10) -> Interest & other | H12: =IF(G12="","",Setup!B10) -> 0 | I12: =IF(G12="","",N(Setup!F10)) -> 0 | J12: =IF(G12="","",SUMIFS(Feb!$E$10:$E$209,Feb!$D$10:$D$209,G12)) -> 0 | K12: =IF(G12="","",IF(H12="Income",J12-I12,I12-J12)) -> 0 | L12: =IF(G12="","",IF(H12="Income",IF(J12>=I12,"✓","Below"),IF(J12>I12+0.005,"Over","OK"))) -> 0
B13: 46421 | C13: Streaming | D13: Subscriptions | E13: 34.97 | G13: =IF(Setup!D11="","",Setup!D11) -> Rent / mortgage | H13: =IF(G13="","",Setup!B11) -> 0 | I13: =IF(G13="","",N(Setup!F11)) -> 0 | J13: =IF(G13="","",SUMIFS(Feb!$E$10:$E$209,Feb!$D$10:$D$209,G13)) -> 0 | K13: =IF(G13="","",IF(H13="Income",J13-I13,I13-J13)) -> 0 | L13: =IF(G13="","",IF(H13="Income",IF(J13>=I13,"✓","Below"),IF(J13>I13+0.005,"Over","OK"))) -> 0
B14: 46422 | C14: Fuel | D14: Fuel & transit | E14: 48.67 | G14: =IF(Setup!D12="","",Setup!D12) -> Electricity & gas | H14: =IF(G14="","",Setup!B12) -> 0 | I14: =IF(G14="","",N(Setup!F12)) -> 0 | J14: =IF(G14="","",SUMIFS(Feb!$E$10:$E$209,Feb!$D$10:$D$209,G14)) -> 0 | K14: =IF(G14="","",IF(H14="Income",J14-I14,I14-J14)) -> 0 | L14: =IF(G14="","",IF(H14="Income",IF(J14>=I14,"✓","Below"),IF(J14>I14+0.005,"Over","OK"))) -> 0
B15: 46423 | C15: Car loan | D15: Car payment | E15: 310 | G15: =IF(Setup!D13="","",Setup!D13) -> Internet & phone | H15: =IF(G15="","",Setup!B13) -> 0 | I15: =IF(G15="","",N(Setup!F13)) -> 0 | J15: =IF(G15="","",SUMIFS(Feb!$E$10:$E$209,Feb!$D$10:$D$209,G15)) -> 0 | K15: =IF(G15="","",IF(H15="Income",J15-I15,I15-J15)) -> 0 | L15: =IF(G15="","",IF(H15="Income",IF(J15>=I15,"✓","Below"),IF(J15>I15+0.005,"Over","OK"))) -> 0
B16: 46423 | C16: Auto-save | D16: Emergency fund | E16: 300 | G16: =IF(Setup!D14="","",Setup!D14) -> Groceries | H16: =IF(G16="","",Setup!B14) -> 0 | I16: =IF(G16="","",N(Setup!F14)) -> 0 | J16: =IF(G16="","",SUMIFS(Feb!$E$10:$E$209,Feb!$D$10:$D$209,G16)) -> 0 | K16: =IF(G16="","",IF(H16="Income",J16-I16,I16-J16)) -> 0 | L16: =IF(G16="","",IF(H16="Income",IF(J16>=I16,"✓","Below"),IF(J16>I16+0.005,"Over","OK"))) -> 0
B17: 46425 | C17: Restaurant | D17: Dining out | E17: 41.81 | G17: =IF(Setup!D15="","",Setup!D15) -> Dining out | H17: =IF(G17="","",Setup!B15) -> 0 | I17: =IF(G17="","",N(Setup!F15)) -> 0 | J17: =IF(G17="","",SUMIFS(Feb!$E$10:$E$209,Feb!$D$10:$D$209,G17)) -> 0 | K17: =IF(G17="","",IF(H17="Income",J17-I17,I17-J17)) -> 0 | L17: =IF(G17="","",IF(H17="Income",IF(J17>=I17,"✓","Below"),IF(J17>I17+0.005,"Over","OK"))) -> 0
B18: 46427 | C18: Internet + phone | D18: Internet & phone | E18: 115 | G18: =IF(Setup!D16="","",Setup!D16) -> Fuel & transit | H18: =IF(G18="","",Setup!B16) -> 0 | I18: =IF(G18="","",N(Setup!F16)) -> 0 | J18: =IF(G18="","",SUMIFS(Feb!$E$10:$E$209,Feb!$D$10:$D$209,G18)) -> 0 | K18: =IF(G18="","",IF(H18="Income",J18-I18,I18-J18)) -> 0 | L18: =IF(G18="","",IF(H18="Income",IF(J18>=I18,"✓","Below"),IF(J18>I18+0.005,"Over","OK"))) -> 0
B19: 46427 | C19: Groceries | D19: Groceries | E19: 109.08 | G19: =IF(Setup!D17="","",Setup!D17) -> Car payment | H19: =IF(G19="","",Setup!B17) -> 0 | I19: =IF(G19="","",N(Setup!F17)) -> 0 | J19: =IF(G19="","",SUMIFS(Feb!$E$10:$E$209,Feb!$D$10:$D$209,G19)) -> 0 | K19: =IF(G19="","",IF(H19="Income",J19-I19,I19-J19)) -> 0 | L19: =IF(G19="","",IF(H19="Income",IF(J19>=I19,"✓","Below"),IF(J19>I19+0.005,"Over","OK"))) -> 0
B20: 46428 | C20: Gym | D20: Health & fitness | E20: 45 | G20: =IF(Setup!D18="","",Setup!D18) -> Insurance | H20: =IF(G20="","",Setup!B18) -> 0 | I20: =IF(G20="","",N(Setup!F18)) -> 0 | J20: =IF(G20="","",SUMIFS(Feb!$E$10:$E$209,Feb!$D$10:$D$209,G20)) -> 0 | K20: =IF(G20="","",IF(H20="Income",J20-I20,I20-J20)) -> 0 | L20: =IF(G20="","",IF(H20="Income",IF(J20>=I20,"✓","Below"),IF(J20>I20+0.005,"Over","OK"))) -> 0
B21: 46430 | C21: Student loan | D21: Student loan | E21: 230 | G21: =IF(Setup!D19="","",Setup!D19) -> Health & fitness | H21: =IF(G21="","",Setup!B19) -> 0 | I21: =IF(G21="","",N(Setup!F19)) -> 0 | J21: =IF(G21="","",SUMIFS(Feb!$E$10:$E$209,Feb!$D$10:$D$209,G21)) -> 0 | K21: =IF(G21="","",IF(H21="Income",J21-I21,I21-J21)) -> 0 | L21: =IF(G21="","",IF(H21="Income",IF(J21>=I21,"✓","Below"),IF(J21>I21+0.005,"Over","OK"))) -> 0
... B34: 46446 | C34: Savings interest | D34: Interest & other | E34: 22.1 | G34: =IF(Setup!D32="","",Setup!D32) | H34: =IF(G34="","",Setup!B32) -> 0 | I34: =IF(G34="","",N(Setup!F32)) -> 0 | J34: =IF(G34="","",SUMIFS(Feb!$E$10:$E$209,Feb!$D$10:$D$209,G34)) -> 0 | K34: =IF(G34="","",IF(H34="Income",J34-I34,I34-J34)) -> 0 | L34: =IF(G34="","",IF(H34="Income",IF(J34>=I34,"✓","Below"),IF(J34>I34+0.005,"Over","OK"))) -> 0
G35: =IF(Setup!D33="","",Setup!D33) | H35: =IF(G35="","",Setup!B33) -> 0 | I35: =IF(G35="","",N(Setup!F33)) -> 0 | J35: =IF(G35="","",SUMIFS(Feb!$E$10:$E$209,Feb!$D$10:$D$209,G35)) -> 0 | K35: =IF(G35="","",IF(H35="Income",J35-I35,I35-J35)) -> 0 | L35: =IF(G35="","",IF(H35="Income",IF(J35>=I35,"✓","Below"),IF(J35>I35+0.005,"Over","OK"))) -> 0
G36: =IF(Setup!D34="","",Setup!D34) | H36: =IF(G36="","",Setup!B34) -> 0 | I36: =IF(G36="","",N(Setup!F34)) -> 0 | J36: =IF(G36="","",SUMIFS(Feb!$E$10:$E$209,Feb!$D$10:$D$209,G36)) -> 0 | K36: =IF(G36="","",IF(H36="Income",J36-I36,I36-J36)) -> 0 | L36: =IF(G36="","",IF(H36="Income",IF(J36>=I36,"✓","Below"),IF(J36>I36+0.005,"Over","OK"))) -> 0
G37: =IF(Setup!D35="","",Setup!D35) | H37: =IF(G37="","",Setup!B35) -> 0 | I37: =IF(G37="","",N(Setup!F35)) -> 0 | J37: =IF(G37="","",SUMIFS(Feb!$E$10:$E$209,Feb!$D$10:$D$209,G37)) -> 0 | K37: =IF(G37="","",IF(H37="Income",J37-I37,I37-J37)) -> 0 | L37: =IF(G37="","",IF(H37="Income",IF(J37>=I37,"✓","Below"),IF(J37>I37+0.005,"Over","OK"))) -> 0
G38: =IF(Setup!D36="","",Setup!D36) | H38: =IF(G38="","",Setup!B36) -> 0 | I38: =IF(G38="","",N(Setup!F36)) -> 0 | J38: =IF(G38="","",SUMIFS(Feb!$E$10:$E$209,Feb!$D$10:$D$209,G38)) -> 0 | K38: =IF(G38="","",IF(H38="Income",J38-I38,I38-J38)) -> 0 | L38: =IF(G38="","",IF(H38="Income",IF(J38>=I38,"✓","Below"),IF(J38>I38+0.005,"Over","OK"))) -> 0
G39: =IF(Setup!D37="","",Setup!D37) | H39: =IF(G39="","",Setup!B37) -> 0 | I39: =IF(G39="","",N(Setup!F37)) -> 0 | J39: =IF(G39="","",SUMIFS(Feb!$E$10:$E$209,Feb!$D$10:$D$209,G39)) -> 0 | K39: =IF(G39="","",IF(H39="Income",J39-I39,I39-J39)) -> 0 | L39: =IF(G39="","",IF(H39="Income",IF(J39>=I39,"✓","Below"),IF(J39>I39+0.005,"Over","OK"))) -> 0
G40: =IF(Setup!D38="","",Setup!D38) | H40: =IF(G40="","",Setup!B38) -> 0 | I40: =IF(G40="","",N(Setup!F38)) -> 0 | J40: =IF(G40="","",SUMIFS(Feb!$E$10:$E$209,Feb!$D$10:$D$209,G40)) -> 0 | K40: =IF(G40="","",IF(H40="Income",J40-I40,I40-J40)) -> 0 | L40: =IF(G40="","",IF(H40="Income",IF(J40>=I40,"✓","Below"),IF(J40>I40+0.005,"Over","OK"))) -> 0
G41: =IF(Setup!D39="","",Setup!D39) | H41: =IF(G41="","",Setup!B39) -> 0 | I41: =IF(G41="","",N(Setup!F39)) -> 0 | J41: =IF(G41="","",SUMIFS(Feb!$E$10:$E$209,Feb!$D$10:$D$209,G41)) -> 0 | K41: =IF(G41="","",IF(H41="Income",J41-I41,I41-J41)) -> 0 | L41: =IF(G41="","",IF(H41="Income",IF(J41>=I41,"✓","Below"),IF(J41>I41+0.005,"Over","OK"))) -> 0
G42: =IF(Setup!D40="","",Setup!D40) | H42: =IF(G42="","",Setup!B40) -> 0 | I42: =IF(G42="","",N(Setup!F40)) -> 0 | J42: =IF(G42="","",SUMIFS(Feb!$E$10:$E$209,Feb!$D$10:$D$209,G42)) -> 0 | K42: =IF(G42="","",IF(H42="Income",J42-I42,I42-J42)) -> 0 | L42: =IF(G42="","",IF(H42="Income",IF(J42>=I42,"✓","Below"),IF(J42>I42+0.005,"Over","OK"))) -> 0
G43: =IF(Setup!D41="","",Setup!D41) | H43: =IF(G43="","",Setup!B41) -> 0 | I43: =IF(G43="","",N(Setup!F41)) -> 0 | J43: =IF(G43="","",SUMIFS(Feb!$E$10:$E$209,Feb!$D$10:$D$209,G43)) -> 0 | K43: =IF(G43="","",IF(H43="Income",J43-I43,I43-J43)) -> 0 | L43: =IF(G43="","",IF(H43="Income",IF(J43>=I43,"✓","Below"),IF(J43>I43+0.005,"Over","OK"))) -> 0
G44: =IF(Setup!D42="","",Setup!D42) | H44: =IF(G44="","",Setup!B42) -> 0 | I44: =IF(G44="","",N(Setup!F42)) -> 0 | J44: =IF(G44="","",SUMIFS(Feb!$E$10:$E$209,Feb!$D$10:$D$209,G44)) -> 0 | K44: =IF(G44="","",IF(H44="Income",J44-I44,I44-J44)) -> 0 | L44: =IF(G44="","",IF(H44="Income",IF(J44>=I44,"✓","Below"),IF(J44>I44+0.005,"Over","OK"))) -> 0
G45: =IF(Setup!D43="","",Setup!D43) | H45: =IF(G45="","",Setup!B43) -> 0 | I45: =IF(G45="","",N(Setup!F43)) -> 0 | J45: =IF(G45="","",SUMIFS(Feb!$E$10:$E$209,Feb!$D$10:$D$209,G45)) -> 0 | K45: =IF(G45="","",IF(H45="Income",J45-I45,I45-J45)) -> 0 | L45: =IF(G45="","",IF(H45="Income",IF(J45>=I45,"✓","Below"),IF(J45>I45+0.005,"Over","OK"))) -> 0
G46: =IF(Setup!D44="","",Setup!D44) | H46: =IF(G46="","",Setup!B44) -> 0 | I46: =IF(G46="","",N(Setup!F44)) -> 0 | J46: =IF(G46="","",SUMIFS(Feb!$E$10:$E$209,Feb!$D$10:$D$209,G46)) -> 0 | K46: =IF(G46="","",IF(H46="Income",J46-I46,I46-J46)) -> 0 | L46: =IF(G46="","",IF(H46="Income",IF(J46>=I46,"✓","Below"),IF(J46>I46+0.005,"Over","OK"))) -> 0
... G49: =IF(Setup!D47="","",Setup!D47) | H49: =IF(G49="","",Setup!B47) -> 0 | I49: =IF(G49="","",N(Setup!F47)) -> 0 | J49: =IF(G49="","",SUMIFS(Feb!$E$10:$E$209,Feb!$D$10:$D$209,G49)) -> 0 | K49: =IF(G49="","",IF(H49="Income",J49-I49,I49-J49)) -> 0 | L49: =IF(G49="","",IF(H49="Income",IF(J49>=I49,"✓","Below"),IF(J49>I49+0.005,"Over","OK"))) -> 0

Sheet Mar
B2: ="March "&Setup!$C$5 -> March 2027
B3: Log transactions on the left; the summary on the right compares them with your Setup budget.
B5: INCOME | D5: EXPENSES | G5: NET SAVED | I5: EXPENSE BUDGET LEFT
B6: =SUMIFS(Mar!$J$10:$J$49,Mar!$H$10:$H$49,"Income") -> None | D6: =SUMIFS(Mar!$J$10:$J$49,Mar!$H$10:$H$49,"Expense") -> None | G6: =B6-D6 -> None | I6: =SUMIFS(Mar!$I$10:$I$49,Mar!$H$10:$H$49,"Expense")-D6 -> None
B9: Date | C9: Description | D9: Category | E9: Amount | G9: Category | H9: Type | I9: Budget | J9: Actual | K9: Difference | L9: Status
B10: 46447 | C10: Paycheck | D10: Salary | E10: 2450 | G10: =IF(Setup!D8="","",Setup!D8) -> Salary | H10: =IF(G10="","",Setup!B8) -> 0 | I10: =IF(G10="","",N(Setup!G8)) -> 0 | J10: =IF(G10="","",SUMIFS(Mar!$E$10:$E$209,Mar!$D$10:$D$209,G10)) -> 0 | K10: =IF(G10="","",IF(H10="Income",J10-I10,I10-J10)) -> 0 | L10: =IF(G10="","",IF(H10="Income",IF(J10>=I10,"✓","Below"),IF(J10>I10+0.005,"Over","OK"))) -> 0
B11: 46447 | C11: Rent | D11: Rent / mortgage | E11: 1450 | G11: =IF(Setup!D9="","",Setup!D9) -> Side income | H11: =IF(G11="","",Setup!B9) -> 0 | I11: =IF(G11="","",N(Setup!G9)) -> 0 | J11: =IF(G11="","",SUMIFS(Mar!$E$10:$E$209,Mar!$D$10:$D$209,G11)) -> 0 | K11: =IF(G11="","",IF(H11="Income",J11-I11,I11-J11)) -> 0 | L11: =IF(G11="","",IF(H11="Income",IF(J11>=I11,"✓","Below"),IF(J11>I11+0.005,"Over","OK"))) -> 0
B12: 46448 | C12: Groceries | D12: Groceries | E12: 148.93 | G12: =IF(Setup!D10="","",Setup!D10) -> Interest & other | H12: =IF(G12="","",Setup!B10) -> 0 | I12: =IF(G12="","",N(Setup!G10)) -> 0 | J12: =IF(G12="","",SUMIFS(Mar!$E$10:$E$209,Mar!$D$10:$D$209,G12)) -> 0 | K12: =IF(G12="","",IF(H12="Income",J12-I12,I12-J12)) -> 0 | L12: =IF(G12="","",IF(H12="Income",IF(J12>=I12,"✓","Below"),IF(J12>I12+0.005,"Over","OK"))) -> 0
B13: 46449 | C13: Streaming | D13: Subscriptions | E13: 34.97 | G13: =IF(Setup!D11="","",Setup!D11) -> Rent / mortgage | H13: =IF(G13="","",Setup!B11) -> 0 | I13: =IF(G13="","",N(Setup!G11)) -> 0 | J13: =IF(G13="","",SUMIFS(Mar!$E$10:$E$209,Mar!$D$10:$D$209,G13)) -> 0 | K13: =IF(G13="","",IF(H13="Income",J13-I13,I13-J13)) -> 0 | L13: =IF(G13="","",IF(H13="Income",IF(J13>=I13,"✓","Below"),IF(J13>I13+0.005,"Over","OK"))) -> 0
B14: 46450 | C14: Fuel | D14: Fuel & transit | E14: 43.24 | G14: =IF(Setup!D12="","",Setup!D12) -> Electricity & gas | H14: =IF(G14="","",Setup!B12) -> 0 | I14: =IF(G14="","",N(Setup!G12)) -> 0 | J14: =IF(G14="","",SUMIFS(Mar!$E$10:$E$209,Mar!$D$10:$D$209,G14)) -> 0 | K14: =IF(G14="","",IF(H14="Income",J14-I14,I14-J14)) -> 0 | L14: =IF(G14="","",IF(H14="Income",IF(J14>=I14,"✓","Below"),IF(J14>I14+0.005,"Over","OK"))) -> 0
B15: 46451 | C15: Car loan | D15: Car payment | E15: 310 | G15: =IF(Setup!D13="","",Setup!D13) -> Internet & phone | H15: =IF(G15="","",Setup!B13) -> 0 | I15: =IF(G15="","",N(Setup!G13)) -> 0 | J15: =IF(G15="","",SUMIFS(Mar!$E$10:$E$209,Mar!$D$10:$D$209,G15)) -> 0 | K15: =IF(G15="","",IF(H15="Income",J15-I15,I15-J15)) -> 0 | L15: =IF(G15="","",IF(H15="Income",IF(J15>=I15,"✓","Below"),IF(J15>I15+0.005,"Over","OK"))) -> 0
B16: 46451 | C16: Auto-save | D16: Emergency fund | E16: 300 | G16: =IF(Setup!D14="","",Setup!D14) -> Groceries | H16: =IF(G16="","",Setup!B14) -> 0 | I16: =IF(G16="","",N(Setup!G14)) -> 0 | J16: =IF(G16="","",SUMIFS(Mar!$E$10:$E$209,Mar!$D$10:$D$209,G16)) -> 0 | K16: =IF(G16="","",IF(H16="Income",J16-I16,I16-J16)) -> 0 | L16: =IF(G16="","",IF(H16="Income",IF(J16>=I16,"✓","Below"),IF(J16>I16+0.005,"Over","OK"))) -> 0
B17: 46453 | C17: Restaurant | D17: Dining out | E17: 42.93 | G17: =IF(Setup!D15="","",Setup!D15) -> Dining out | H17: =IF(G17="","",Setup!B15) -> 0 | I17: =IF(G17="","",N(Setup!G15)) -> 0 | J17: =IF(G17="","",SUMIFS(Mar!$E$10:$E$209,Mar!$D$10:$D$209,G17)) -> 0 | K17: =IF(G17="","",IF(H17="Income",J17-I17,I17-J17)) -> 0 | L17: =IF(G17="","",IF(H17="Income",IF(J17>=I17,"✓","Below"),IF(J17>I17+0.005,"Over","OK"))) -> 0
B18: 46455 | C18: Internet + phone | D18: Internet & phone | E18: 115 | G18: =IF(Setup!D16="","",Setup!D16) -> Fuel & transit | H18: =IF(G18="","",Setup!B16) -> 0 | I18: =IF(G18="","",N(Setup!G16)) -> 0 | J18: =IF(G18="","",SUMIFS(Mar!$E$10:$E$209,Mar!$D$10:$D$209,G18)) -> 0 | K18: =IF(G18="","",IF(H18="Income",J18-I18,I18-J18)) -> 0 | L18: =IF(G18="","",IF(H18="Income",IF(J18>=I18,"✓","Below"),IF(J18>I18+0.005,"Over","OK"))) -> 0
B19: 46455 | C19: Groceries | D19: Groceries | E19: 107.1 | G19: =IF(Setup!D17="","",Setup!D17) -> Car payment | H19: =IF(G19="","",Setup!B17) -> 0 | I19: =IF(G19="","",N(Setup!G17)) -> 0 | J19: =IF(G19="","",SUMIFS(Mar!$E$10:$E$209,Mar!$D$10:$D$209,G19)) -> 0 | K19: =IF(G19="","",IF(H19="Income",J19-I19,I19-J19)) -> 0 | L19: =IF(G19="","",IF(H19="Income",IF(J19>=I19,"✓","Below"),IF(J19>I19+0.005,"Over","OK"))) -> 0
B20: 46456 | C20: Gym | D20: Health & fitness | E20: 45 | G20: =IF(Setup!D18="","",Setup!D18) -> Insurance | H20: =IF(G20="","",Setup!B18) -> 0 | I20: =IF(G20="","",N(Setup!G18)) -> 0 | J20: =IF(G20="","",SUMIFS(Mar!$E$10:$E$209,Mar!$D$10:$D$209,G20)) -> 0 | K20: =IF(G20="","",IF(H20="Income",J20-I20,I20-J20)) -> 0 | L20: =IF(G20="","",IF(H20="Income",IF(J20>=I20,"✓","Below"),IF(J20>I20+0.005,"Over","OK"))) -> 0
B21: 46458 | C21: Student loan | D21: Student loan | E21: 230 | G21: =IF(Setup!D19="","",Setup!D19) -> Health & fitness | H21: =IF(G21="","",Setup!B19) -> 0 | I21: =IF(G21="","",N(Setup!G19)) -> 0 | J21: =IF(G21="","",SUMIFS(Mar!$E$10:$E$209,Mar!$D$10:$D$209,G21)) -> 0 | K21: =IF(G21="","",IF(H21="Income",J21-I21,I21-J21)) -> 0 | L21: =IF(G21="","",IF(H21="Income",IF(J21>=I21,"✓","Below"),IF(J21>I21+0.005,"Over","OK"))) -> 0
... B34: 46474 | C34: Savings interest | D34: Interest & other | E34: 23 | G34: =IF(Setup!D32="","",Setup!D32) | H34: =IF(G34="","",Setup!B32) -> 0 | I34: =IF(G34="","",N(Setup!G32)) -> 0 | J34: =IF(G34="","",SUMIFS(Mar!$E$10:$E$209,Mar!$D$10:$D$209,G34)) -> 0 | K34: =IF(G34="","",IF(H34="Income",J34-I34,I34-J34)) -> 0 | L34: =IF(G34="","",IF(H34="Income",IF(J34>=I34,"✓","Below"),IF(J34>I34+0.005,"Over","OK"))) -> 0
G35: =IF(Setup!D33="","",Setup!D33) | H35: =IF(G35="","",Setup!B33) -> 0 | I35: =IF(G35="","",N(Setup!G33)) -> 0 | J35: =IF(G35="","",SUMIFS(Mar!$E$10:$E$209,Mar!$D$10:$D$209,G35)) -> 0 | K35: =IF(G35="","",IF(H35="Income",J35-I35,I35-J35)) -> 0 | L35: =IF(G35="","",IF(H35="Income",IF(J35>=I35,"✓","Below"),IF(J35>I35+0.005,"Over","OK"))) -> 0
G36: =IF(Setup!D34="","",Setup!D34) | H36: =IF(G36="","",Setup!B34) -> 0 | I36: =IF(G36="","",N(Setup!G34)) -> 0 | J36: =IF(G36="","",SUMIFS(Mar!$E$10:$E$209,Mar!$D$10:$D$209,G36)) -> 0 | K36: =IF(G36="","",IF(H36="Income",J36-I36,I36-J36)) -> 0 | L36: =IF(G36="","",IF(H36="Income",IF(J36>=I36,"✓","Below"),IF(J36>I36+0.005,"Over","OK"))) -> 0
G37: =IF(Setup!D35="","",Setup!D35) | H37: =IF(G37="","",Setup!B35) -> 0 | I37: =IF(G37="","",N(Setup!G35)) -> 0 | J37: =IF(G37="","",SUMIFS(Mar!$E$10:$E$209,Mar!$D$10:$D$209,G37)) -> 0 | K37: =IF(G37="","",IF(H37="Income",J37-I37,I37-J37)) -> 0 | L37: =IF(G37="","",IF(H37="Income",IF(J37>=I37,"✓","Below"),IF(J37>I37+0.005,"Over","OK"))) -> 0
G38: =IF(Setup!D36="","",Setup!D36) | H38: =IF(G38="","",Setup!B36) -> 0 | I38: =IF(G38="","",N(Setup!G36)) -> 0 | J38: =IF(G38="","",SUMIFS(Mar!$E$10:$E$209,Mar!$D$10:$D$209,G38)) -> 0 | K38: =IF(G38="","",IF(H38="Income",J38-I38,I38-J38)) -> 0 | L38: =IF(G38="","",IF(H38="Income",IF(J38>=I38,"✓","Below"),IF(J38>I38+0.005,"Over","OK"))) -> 0
G39: =IF(Setup!D37="","",Setup!D37) | H39: =IF(G39="","",Setup!B37) -> 0 | I39: =IF(G39="","",N(Setup!G37)) -> 0 | J39: =IF(G39="","",SUMIFS(Mar!$E$10:$E$209,Mar!$D$10:$D$209,G39)) -> 0 | K39: =IF(G39="","",IF(H39="Income",J39-I39,I39-J39)) -> 0 | L39: =IF(G39="","",IF(H39="Income",IF(J39>=I39,"✓","Below"),IF(J39>I39+0.005,"Over","OK"))) -> 0
G40: =IF(Setup!D38="","",Setup!D38) | H40: =IF(G40="","",Setup!B38) -> 0 | I40: =IF(G40="","",N(Setup!G38)) -> 0 | J40: =IF(G40="","",SUMIFS(Mar!$E$10:$E$209,Mar!$D$10:$D$209,G40)) -> 0 | K40: =IF(G40="","",IF(H40="Income",J40-I40,I40-J40)) -> 0 | L40: =IF(G40="","",IF(H40="Income",IF(J40>=I40,"✓","Below"),IF(J40>I40+0.005,"Over","OK"))) -> 0
G41: =IF(Setup!D39="","",Setup!D39) | H41: =IF(G41="","",Setup!B39) -> 0 | I41: =IF(G41="","",N(Setup!G39)) -> 0 | J41: =IF(G41="","",SUMIFS(Mar!$E$10:$E$209,Mar!$D$10:$D$209,G41)) -> 0 | K41: =IF(G41="","",IF(H41="Income",J41-I41,I41-J41)) -> 0 | L41: =IF(G41="","",IF(H41="Income",IF(J41>=I41,"✓","Below"),IF(J41>I41+0.005,"Over","OK"))) -> 0
G42: =IF(Setup!D40="","",Setup!D40) | H42: =IF(G42="","",Setup!B40) -> 0 | I42: =IF(G42="","",N(Setup!G40)) -> 0 | J42: =IF(G42="","",SUMIFS(Mar!$E$10:$E$209,Mar!$D$10:$D$209,G42)) -> 0 | K42: =IF(G42="","",IF(H42="Income",J42-I42,I42-J42)) -> 0 | L42: =IF(G42="","",IF(H42="Income",IF(J42>=I42,"✓","Below"),IF(J42>I42+0.005,"Over","OK"))) -> 0
G43: =IF(Setup!D41="","",Setup!D41) | H43: =IF(G43="","",Setup!B41) -> 0 | I43: =IF(G43="","",N(Setup!G41)) -> 0 | J43: =IF(G43="","",SUMIFS(Mar!$E$10:$E$209,Mar!$D$10:$D$209,G43)) -> 0 | K43: =IF(G43="","",IF(H43="Income",J43-I43,I43-J43)) -> 0 | L43: =IF(G43="","",IF(H43="Income",IF(J43>=I43,"✓","Below"),IF(J43>I43+0.005,"Over","OK"))) -> 0
G44: =IF(Setup!D42="","",Setup!D42) | H44: =IF(G44="","",Setup!B42) -> 0 | I44: =IF(G44="","",N(Setup!G42)) -> 0 | J44: =IF(G44="","",SUMIFS(Mar!$E$10:$E$209,Mar!$D$10:$D$209,G44)) -> 0 | K44: =IF(G44="","",IF(H44="Income",J44-I44,I44-J44)) -> 0 | L44: =IF(G44="","",IF(H44="Income",IF(J44>=I44,"✓","Below"),IF(J44>I44+0.005,"Over","OK"))) -> 0
G45: =IF(Setup!D43="","",Setup!D43) | H45: =IF(G45="","",Setup!B43) -> 0 | I45: =IF(G45="","",N(Setup!G43)) -> 0 | J45: =IF(G45="","",SUMIFS(Mar!$E$10:$E$209,Mar!$D$10:$D$209,G45)) -> 0 | K45: =IF(G45="","",IF(H45="Income",J45-I45,I45-J45)) -> 0 | L45: =IF(G45="","",IF(H45="Income",IF(J45>=I45,"✓","Below"),IF(J45>I45+0.005,"Over","OK"))) -> 0
G46: =IF(Setup!D44="","",Setup!D44) | H46: =IF(G46="","",Setup!B44) -> 0 | I46: =IF(G46="","",N(Setup!G44)) -> 0 | J46: =IF(G46="","",SUMIFS(Mar!$E$10:$E$209,Mar!$D$10:$D$209,G46)) -> 0 | K46: =IF(G46="","",IF(H46="Income",J46-I46,I46-J46)) -> 0 | L46: =IF(G46="","",IF(H46="Income",IF(J46>=I46,"✓","Below"),IF(J46>I46+0.005,"Over","OK"))) -> 0
... G49: =IF(Setup!D47="","",Setup!D47) | H49: =IF(G49="","",Setup!B47) -> 0 | I49: =IF(G49="","",N(Setup!G47)) -> 0 | J49: =IF(G49="","",SUMIFS(Mar!$E$10:$E$209,Mar!$D$10:$D$209,G49)) -> 0 | K49: =IF(G49="","",IF(H49="Income",J49-I49,I49-J49)) -> 0 | L49: =IF(G49="","",IF(H49="Income",IF(J49>=I49,"✓","Below"),IF(J49>I49+0.005,"Over","OK"))) -> 0

Sheet Apr
B2: ="April "&Setup!$C$5 -> April 2027
B3: Log transactions on the left; the summary on the right compares them with your Setup budget.
B5: INCOME | D5: EXPENSES | G5: NET SAVED | I5: EXPENSE BUDGET LEFT
B6: =SUMIFS(Apr!$J$10:$J$49,Apr!$H$10:$H$49,"Income") -> None | D6: =SUMIFS(Apr!$J$10:$J$49,Apr!$H$10:$H$49,"Expense") -> None | G6: =B6-D6 -> None | I6: =SUMIFS(Apr!$I$10:$I$49,Apr!$H$10:$H$49,"Expense")-D6 -> None
B9: Date | C9: Description | D9: Category | E9: Amount | G9: Category | H9: Type | I9: Budget | J9: Actual | K9: Difference | L9: Status
G10: =IF(Setup!D8="","",Setup!D8) -> Salary | H10: =IF(G10="","",Setup!B8) -> 0 | I10: =IF(G10="","",N(Setup!H8)) -> 0 | J10: =IF(G10="","",SUMIFS(Apr!$E$10:$E$209,Apr!$D$10:$D$209,G10)) -> 0 | K10: =IF(G10="","",IF(H10="Income",J10-I10,I10-J10)) -> 0 | L10: =IF(G10="","",IF(H10="Income",IF(J10>=I10,"✓","Below"),IF(J10>I10+0.005,"Over","OK"))) -> 0
G11: =IF(Setup!D9="","",Setup!D9) -> Side income | H11: =IF(G11="","",Setup!B9) -> 0 | I11: =IF(G11="","",N(Setup!H9)) -> 0 | J11: =IF(G11="","",SUMIFS(Apr!$E$10:$E$209,Apr!$D$10:$D$209,G11)) -> 0 | K11: =IF(G11="","",IF(H11="Income",J11-I11,I11-J11)) -> 0 | L11: =IF(G11="","",IF(H11="Income",IF(J11>=I11,"✓","Below"),IF(J11>I11+0.005,"Over","OK"))) -> 0
G12: =IF(Setup!D10="","",Setup!D10) -> Interest & other | H12: =IF(G12="","",Setup!B10) -> 0 | I12: =IF(G12="","",N(Setup!H10)) -> 0 | J12: =IF(G12="","",SUMIFS(Apr!$E$10:$E$209,Apr!$D$10:$D$209,G12)) -> 0 | K12: =IF(G12="","",IF(H12="Income",J12-I12,I12-J12)) -> 0 | L12: =IF(G12="","",IF(H12="Income",IF(J12>=I12,"✓","Below"),IF(J12>I12+0.005,"Over","OK"))) -> 0
G13: =IF(Setup!D11="","",Setup!D11) -> Rent / mortgage | H13: =IF(G13="","",Setup!B11) -> 0 | I13: =IF(G13="","",N(Setup!H11)) -> 0 | J13: =IF(G13="","",SUMIFS(Apr!$E$10:$E$209,Apr!$D$10:$D$209,G13)) -> 0 | K13: =IF(G13="","",IF(H13="Income",J13-I13,I13-J13)) -> 0 | L13: =IF(G13="","",IF(H13="Income",IF(J13>=I13,"✓","Below"),IF(J13>I13+0.005,"Over","OK"))) -> 0
G14: =IF(Setup!D12="","",Setup!D12) -> Electricity & gas | H14: =IF(G14="","",Setup!B12) -> 0 | I14: =IF(G14="","",N(Setup!H12)) -> 0 | J14: =IF(G14="","",SUMIFS(Apr!$E$10:$E$209,Apr!$D$10:$D$209,G14)) -> 0 | K14: =IF(G14="","",IF(H14="Income",J14-I14,I14-J14)) -> 0 | L14: =IF(G14="","",IF(H14="Income",IF(J14>=I14,"✓","Below"),IF(J14>I14+0.005,"Over","OK"))) -> 0
G15: =IF(Setup!D13="","",Setup!D13) -> Internet & phone | H15: =IF(G15="","",Setup!B13) -> 0 | I15: =IF(G15="","",N(Setup!H13)) -> 0 | J15: =IF(G15="","",SUMIFS(Apr!$E$10:$E$209,Apr!$D$10:$D$209,G15)) -> 0 | K15: =IF(G15="","",IF(H15="Income",J15-I15,I15-J15)) -> 0 | L15: =IF(G15="","",IF(H15="Income",IF(J15>=I15,"✓","Below"),IF(J15>I15+0.005,"Over","OK"))) -> 0
G16: =IF(Setup!D14="","",Setup!D14) -> Groceries | H16: =IF(G16="","",Setup!B14) -> 0 | I16: =IF(G16="","",N(Setup!H14)) -> 0 | J16: =IF(G16="","",SUMIFS(Apr!$E$10:$E$209,Apr!$D$10:$D$209,G16)) -> 0 | K16: =IF(G16="","",IF(H16="Income",J16-I16,I16-J16)) -> 0 | L16: =IF(G16="","",IF(H16="Income",IF(J16>=I16,"✓","Below"),IF(J16>I16+0.005,"Over","OK"))) -> 0
G17: =IF(Setup!D15="","",Setup!D15) -> Dining out | H17: =IF(G17="","",Setup!B15) -> 0 | I17: =IF(G17="","",N(Setup!H15)) -> 0 | J17: =IF(G17="","",SUMIFS(Apr!$E$10:$E$209,Apr!$D$10:$D$209,G17)) -> 0 | K17: =IF(G17="","",IF(H17="Income",J17-I17,I17-J17)) -> 0 | L17: =IF(G17="","",IF(H17="Income",IF(J17>=I17,"✓","Below"),IF(J17>I17+0.005,"Over","OK"))) -> 0
G18: =IF(Setup!D16="","",Setup!D16) -> Fuel & transit | H18: =IF(G18="","",Setup!B16) -> 0 | I18: =IF(G18="","",N(Setup!H16)) -> 0 | J18: =IF(G18="","",SUMIFS(Apr!$E$10:$E$209,Apr!$D$10:$D$209,G18)) -> 0 | K18: =IF(G18="","",IF(H18="Income",J18-I18,I18-J18)) -> 0 | L18: =IF(G18="","",IF(H18="Income",IF(J18>=I18,"✓","Below"),IF(J18>I18+0.005,"Over","OK"))) -> 0
G19: =IF(Setup!D17="","",Setup!D17) -> Car payment | H19: =IF(G19="","",Setup!B17) -> 0 | I19: =IF(G19="","",N(Setup!H17)) -> 0 | J19: =IF(G19="","",SUMIFS(Apr!$E$10:$E$209,Apr!$D$10:$D$209,G19)) -> 0 | K19: =IF(G19="","",IF(H19="Income",J19-I19,I19-J19)) -> 0 | L19: =IF(G19="","",IF(H19="Income",IF(J19>=I19,"✓","Below"),IF(J19>I19+0.005,"Over","OK"))) -> 0
G20: =IF(Setup!D18="","",Setup!D18) -> Insurance | H20: =IF(G20="","",Setup!B18) -> 0 | I20: =IF(G20="","",N(Setup!H18)) -> 0 | J20: =IF(G20="","",SUMIFS(Apr!$E$10:$E$209,Apr!$D$10:$D$209,G20)) -> 0 | K20: =IF(G20="","",IF(H20="Income",J20-I20,I20-J20)) -> 0 | L20: =IF(G20="","",IF(H20="Income",IF(J20>=I20,"✓","Below"),IF(J20>I20+0.005,"Over","OK"))) -> 0
G21: =IF(Setup!D19="","",Setup!D19) -> Health & fitness | H21: =IF(G21="","",Setup!B19) -> 0 | I21: =IF(G21="","",N(Setup!H19)) -> 0 | J21: =IF(G21="","",SUMIFS(Apr!$E$10:$E$209,Apr!$D$10:$D$209,G21)) -> 0 | K21: =IF(G21="","",IF(H21="Income",J21-I21,I21-J21)) -> 0 | L21: =IF(G21="","",IF(H21="Income",IF(J21>=I21,"✓","Below"),IF(J21>I21+0.005,"Over","OK"))) -> 0
... G49: =IF(Setup!D47="","",Setup!D47) | H49: =IF(G49="","",Setup!B47) -> 0 | I49: =IF(G49="","",N(Setup!H47)) -> 0 | J49: =IF(G49="","",SUMIFS(Apr!$E$10:$E$209,Apr!$D$10:$D$209,G49)) -> 0 | K49: =IF(G49="","",IF(H49="Income",J49-I49,I49-J49)) -> 0 | L49: =IF(G49="","",IF(H49="Income",IF(J49>=I49,"✓","Below"),IF(J49>I49+0.005,"Over","OK"))) -> 0

Sheet May
B2: ="May "&Setup!$C$5 -> May 2027
B3: Log transactions on the left; the summary on the right compares them with your Setup budget.
B5: INCOME | D5: EXPENSES | G5: NET SAVED | I5: EXPENSE BUDGET LEFT
B6: =SUMIFS(May!$J$10:$J$49,May!$H$10:$H$49,"Income") -> None | D6: =SUMIFS(May!$J$10:$J$49,May!$H$10:$H$49,"Expense") -> None | G6: =B6-D6 -> None | I6: =SUMIFS(May!$I$10:$I$49,May!$H$10:$H$49,"Expense")-D6 -> None
B9: Date | C9: Description | D9: Category | E9: Amount | G9: Category | H9: Type | I9: Budget | J9: Actual | K9: Difference | L9: Status
G10: =IF(Setup!D8="","",Setup!D8) -> Salary | H10: =IF(G10="","",Setup!B8) -> 0 | I10: =IF(G10="","",N(Setup!I8)) -> 0 | J10: =IF(G10="","",SUMIFS(May!$E$10:$E$209,May!$D$10:$D$209,G10)) -> 0 | K10: =IF(G10="","",IF(H10="Income",J10-I10,I10-J10)) -> 0 | L10: =IF(G10="","",IF(H10="Income",IF(J10>=I10,"✓","Below"),IF(J10>I10+0.005,"Over","OK"))) -> 0
G11: =IF(Setup!D9="","",Setup!D9) -> Side income | H11: =IF(G11="","",Setup!B9) -> 0 | I11: =IF(G11="","",N(Setup!I9)) -> 0 | J11: =IF(G11="","",SUMIFS(May!$E$10:$E$209,May!$D$10:$D$209,G11)) -> 0 | K11: =IF(G11="","",IF(H11="Income",J11-I11,I11-J11)) -> 0 | L11: =IF(G11="","",IF(H11="Income",IF(J11>=I11,"✓","Below"),IF(J11>I11+0.005,"Over","OK"))) -> 0
G12: =IF(Setup!D10="","",Setup!D10) -> Interest & other | H12: =IF(G12="","",Setup!B10) -> 0 | I12: =IF(G12="","",N(Setup!I10)) -> 0 | J12: =IF(G12="","",SUMIFS(May!$E$10:$E$209,May!$D$10:$D$209,G12)) -> 0 | K12: =IF(G12="","",IF(H12="Income",J12-I12,I12-J12)) -> 0 | L12: =IF(G12="","",IF(H12="Income",IF(J12>=I12,"✓","Below"),IF(J12>I12+0.005,"Over","OK"))) -> 0
G13: =IF(Setup!D11="","",Setup!D11) -> Rent / mortgage | H13: =IF(G13="","",Setup!B11) -> 0 | I13: =IF(G13="","",N(Setup!I11)) -> 0 | J13: =IF(G13="","",SUMIFS(May!$E$10:$E$209,May!$D$10:$D$209,G13)) -> 0 | K13: =IF(G13="","",IF(H13="Income",J13-I13,I13-J13)) -> 0 | L13: =IF(G13="","",IF(H13="Income",IF(J13>=I13,"✓","Below"),IF(J13>I13+0.005,"Over","OK"))) -> 0
G14: =IF(Setup!D12="","",Setup!D12) -> Electricity & gas | H14: =IF(G14="","",Setup!B12) -> 0 | I14: =IF(G14="","",N(Setup!I12)) -> 0 | J14: =IF(G14="","",SUMIFS(May!$E$10:$E$209,May!$D$10:$D$209,G14)) -> 0 | K14: =IF(G14="","",IF(H14="Income",J14-I14,I14-J14)) -> 0 | L14: =IF(G14="","",IF(H14="Income",IF(J14>=I14,"✓","Below"),IF(J14>I14+0.005,"Over","OK"))) -> 0
G15: =IF(Setup!D13="","",Setup!D13) -> Internet & phone | H15: =IF(G15="","",Setup!B13) -> 0 | I15: =IF(G15="","",N(Setup!I13)) -> 0 | J15: =IF(G15="","",SUMIFS(May!$E$10:$E$209,May!$D$10:$D$209,G15)) -> 0 | K15: =IF(G15="","",IF(H15="Income",J15-I15,I15-J15)) -> 0 | L15: =IF(G15="","",IF(H15="Income",IF(J15>=I15,"✓","Below"),IF(J15>I15+0.005,"Over","OK"))) -> 0
G16: =IF(Setup!D14="","",Setup!D14) -> Groceries | H16: =IF(G16="","",Setup!B14) -> 0 | I16: =IF(G16="","",N(Setup!I14)) -> 0 | J16: =IF(G16="","",SUMIFS(May!$E$10:$E$209,May!$D$10:$D$209,G16)) -> 0 | K16: =IF(G16="","",IF(H16="Income",J16-I16,I16-J16)) -> 0 | L16: =IF(G16="","",IF(H16="Income",IF(J16>=I16,"✓","Below"),IF(J16>I16+0.005,"Over","OK"))) -> 0
G17: =IF(Setup!D15="","",Setup!D15) -> Dining out | H17: =IF(G17="","",Setup!B15) -> 0 | I17: =IF(G17="","",N(Setup!I15)) -> 0 | J17: =IF(G17="","",SUMIFS(May!$E$10:$E$209,May!$D$10:$D$209,G17)) -> 0 | K17: =IF(G17="","",IF(H17="Income",J17-I17,I17-J17)) -> 0 | L17: =IF(G17="","",IF(H17="Income",IF(J17>=I17,"✓","Below"),IF(J17>I17+0.005,"Over","OK"))) -> 0
G18: =IF(Setup!D16="","",Setup!D16) -> Fuel & transit | H18: =IF(G18="","",Setup!B16) -> 0 | I18: =IF(G18="","",N(Setup!I16)) -> 0 | J18: =IF(G18="","",SUMIFS(May!$E$10:$E$209,May!$D$10:$D$209,G18)) -> 0 | K18: =IF(G18="","",IF(H18="Income",J18-I18,I18-J18)) -> 0 | L18: =IF(G18="","",IF(H18="Income",IF(J18>=I18,"✓","Below"),IF(J18>I18+0.005,"Over","OK"))) -> 0
G19: =IF(Setup!D17="","",Setup!D17) -> Car payment | H19: =IF(G19="","",Setup!B17) -> 0 | I19: =IF(G19="","",N(Setup!I17)) -> 0 | J19: =IF(G19="","",SUMIFS(May!$E$10:$E$209,May!$D$10:$D$209,G19)) -> 0 | K19: =IF(G19="","",IF(H19="Income",J19-I19,I19-J19)) -> 0 | L19: =IF(G19="","",IF(H19="Income",IF(J19>=I19,"✓","Below"),IF(J19>I19+0.005,"Over","OK"))) -> 0
G20: =IF(Setup!D18="","",Setup!D18) -> Insurance | H20: =IF(G20="","",Setup!B18) -> 0 | I20: =IF(G20="","",N(Setup!I18)) -> 0 | J20: =IF(G20="","",SUMIFS(May!$E$10:$E$209,May!$D$10:$D$209,G20)) -> 0 | K20: =IF(G20="","",IF(H20="Income",J20-I20,I20-J20)) -> 0 | L20: =IF(G20="","",IF(H20="Income",IF(J20>=I20,"✓","Below"),IF(J20>I20+0.005,"Over","OK"))) -> 0
G21: =IF(Setup!D19="","",Setup!D19) -> Health & fitness | H21: =IF(G21="","",Setup!B19) -> 0 | I21: =IF(G21="","",N(Setup!I19)) -> 0 | J21: =IF(G21="","",SUMIFS(May!$E$10:$E$209,May!$D$10:$D$209,G21)) -> 0 | K21: =IF(G21="","",IF(H21="Income",J21-I21,I21-J21)) -> 0 | L21: =IF(G21="","",IF(H21="Income",IF(J21>=I21,"✓","Below"),IF(J21>I21+0.005,"Over","OK"))) -> 0
... G49: =IF(Setup!D47="","",Setup!D47) | H49: =IF(G49="","",Setup!B47) -> 0 | I49: =IF(G49="","",N(Setup!I47)) -> 0 | J49: =IF(G49="","",SUMIFS(May!$E$10:$E$209,May!$D$10:$D$209,G49)) -> 0 | K49: =IF(G49="","",IF(H49="Income",J49-I49,I49-J49)) -> 0 | L49: =IF(G49="","",IF(H49="Income",IF(J49>=I49,"✓","Below"),IF(J49>I49+0.005,"Over","OK"))) -> 0

Sheet Jun
B2: ="June "&Setup!$C$5 -> June 2027
B3: Log transactions on the left; the summary on the right compares them with your Setup budget.
B5: INCOME | D5: EXPENSES | G5: NET SAVED | I5: EXPENSE BUDGET LEFT
B6: =SUMIFS(Jun!$J$10:$J$49,Jun!$H$10:$H$49,"Income") -> None | D6: =SUMIFS(Jun!$J$10:$J$49,Jun!$H$10:$H$49,"Expense") -> None | G6: =B6-D6 -> None | I6: =SUMIFS(Jun!$I$10:$I$49,Jun!$H$10:$H$49,"Expense")-D6 -> None
B9: Date | C9: Description | D9: Category | E9: Amount | G9: Category | H9: Type | I9: Budget | J9: Actual | K9: Difference | L9: Status
G10: =IF(Setup!D8="","",Setup!D8) -> Salary | H10: =IF(G10="","",Setup!B8) -> 0 | I10: =IF(G10="","",N(Setup!J8)) -> 0 | J10: =IF(G10="","",SUMIFS(Jun!$E$10:$E$209,Jun!$D$10:$D$209,G10)) -> 0 | K10: =IF(G10="","",IF(H10="Income",J10-I10,I10-J10)) -> 0 | L10: =IF(G10="","",IF(H10="Income",IF(J10>=I10,"✓","Below"),IF(J10>I10+0.005,"Over","OK"))) -> 0
