Workbook

Sheet Debt Payoff
B2: Debt Payoff Calculator
B3: Snowball vs avalanche: list your debts, add an extra monthly amount, and compare the two plans side by side.
B5: TOTAL DEBT | C5: MONTHLY BUDGET | E5: DEBT-FREE (SNOWBALL) | G5: DEBT-FREE (AVALANCHE) | K5: INTEREST SAVED BY AVALANCHE
B6: =C20 -> None | C6: =$D$24 -> None | E6: =E28 -> None | G6: =E29 -> None | K6: =F30 -> None
B8: YOUR DEBTS
B9: Debt | C9: Balance | D9: APR | E9: Min. payment | F9: Snowball # | G9: Avalanche # | H9: Paid off (snow.) | I9: Paid off (aval.)
B10: Visa card | C10: 4800 | D10: 0.2499 | E10: 120 | F10: =IF(M10="","",COUNTIF('Debt Payoff'!$M$10:$M$19,"<"&M10)+1) -> 0 | G10: =IF(N10="","",COUNTIF('Debt Payoff'!$N$10:$N$19,"<"&N10)+1) -> 0 | H10: =IF(F10="","",IF(INDEX(Snowball!$Q$11:$Z$11,F10)>360,"30+ yrs",EDATE($D$23,INDEX(Snowball!$Q$11:$Z$11,F10)-1))) -> 0 | I10: =IF(G10="","",IF(INDEX(Avalanche!$Q$11:$Z$11,G10)>360,"30+ yrs",EDATE($D$23,INDEX(Avalanche!$Q$11:$Z$11,G10)-1))) -> 0 | J10: =IF(OR(B10="",N(C10)=0),"",IF(N(E10)<=ROUND(C10*D10/12,2),"⚠ min. ≤ interest","")) -> 0 | M10: =IF(OR(B10="",N(C10)<=0),"",C10+ROW()/1000000) -> 0 | N10: =IF(OR(B10="",N(C10)<=0),"",-D10+ROW()/1000000) -> 0
B11: Store card | C11: 900 | D11: 0.279 | E11: 35 | F11: =IF(M11="","",COUNTIF('Debt Payoff'!$M$10:$M$19,"<"&M11)+1) -> 0 | G11: =IF(N11="","",COUNTIF('Debt Payoff'!$N$10:$N$19,"<"&N11)+1) -> 0 | H11: =IF(F11="","",IF(INDEX(Snowball!$Q$11:$Z$11,F11)>360,"30+ yrs",EDATE($D$23,INDEX(Snowball!$Q$11:$Z$11,F11)-1))) -> 0 | I11: =IF(G11="","",IF(INDEX(Avalanche!$Q$11:$Z$11,G11)>360,"30+ yrs",EDATE($D$23,INDEX(Avalanche!$Q$11:$Z$11,G11)-1))) -> 0 | J11: =IF(OR(B11="",N(C11)=0),"",IF(N(E11)<=ROUND(C11*D11/12,2),"⚠ min. ≤ interest","")) -> 0 | M11: =IF(OR(B11="",N(C11)<=0),"",C11+ROW()/1000000) -> 0 | N11: =IF(OR(B11="",N(C11)<=0),"",-D11+ROW()/1000000) -> 0
B12: Car loan | C12: 11200 | D12: 0.069 | E12: 285 | F12: =IF(M12="","",COUNTIF('Debt Payoff'!$M$10:$M$19,"<"&M12)+1) -> 0 | G12: =IF(N12="","",COUNTIF('Debt Payoff'!$N$10:$N$19,"<"&N12)+1) -> 0 | H12: =IF(F12="","",IF(INDEX(Snowball!$Q$11:$Z$11,F12)>360,"30+ yrs",EDATE($D$23,INDEX(Snowball!$Q$11:$Z$11,F12)-1))) -> 0 | I12: =IF(G12="","",IF(INDEX(Avalanche!$Q$11:$Z$11,G12)>360,"30+ yrs",EDATE($D$23,INDEX(Avalanche!$Q$11:$Z$11,G12)-1))) -> 0 | J12: =IF(OR(B12="",N(C12)=0),"",IF(N(E12)<=ROUND(C12*D12/12,2),"⚠ min. ≤ interest","")) -> 0 | M12: =IF(OR(B12="",N(C12)<=0),"",C12+ROW()/1000000) -> 0 | N12: =IF(OR(B12="",N(C12)<=0),"",-D12+ROW()/1000000) -> 0
B13: Personal loan | C13: 3500 | D13: 0.115 | E13: 110 | F13: =IF(M13="","",COUNTIF('Debt Payoff'!$M$10:$M$19,"<"&M13)+1) -> 0 | G13: =IF(N13="","",COUNTIF('Debt Payoff'!$N$10:$N$19,"<"&N13)+1) -> 0 | H13: =IF(F13="","",IF(INDEX(Snowball!$Q$11:$Z$11,F13)>360,"30+ yrs",EDATE($D$23,INDEX(Snowball!$Q$11:$Z$11,F13)-1))) -> 0 | I13: =IF(G13="","",IF(INDEX(Avalanche!$Q$11:$Z$11,G13)>360,"30+ yrs",EDATE($D$23,INDEX(Avalanche!$Q$11:$Z$11,G13)-1))) -> 0 | J13: =IF(OR(B13="",N(C13)=0),"",IF(N(E13)<=ROUND(C13*D13/12,2),"⚠ min. ≤ interest","")) -> 0 | M13: =IF(OR(B13="",N(C13)<=0),"",C13+ROW()/1000000) -> 0 | N13: =IF(OR(B13="",N(C13)<=0),"",-D13+ROW()/1000000) -> 0
B14: Medical bill | C14: 650 | D14: 0 | E14: 50 | F14: =IF(M14="","",COUNTIF('Debt Payoff'!$M$10:$M$19,"<"&M14)+1) -> 0 | G14: =IF(N14="","",COUNTIF('Debt Payoff'!$N$10:$N$19,"<"&N14)+1) -> 0 | H14: =IF(F14="","",IF(INDEX(Snowball!$Q$11:$Z$11,F14)>360,"30+ yrs",EDATE($D$23,INDEX(Snowball!$Q$11:$Z$11,F14)-1))) -> 0 | I14: =IF(G14="","",IF(INDEX(Avalanche!$Q$11:$Z$11,G14)>360,"30+ yrs",EDATE($D$23,INDEX(Avalanche!$Q$11:$Z$11,G14)-1))) -> 0 | J14: =IF(OR(B14="",N(C14)=0),"",IF(N(E14)<=ROUND(C14*D14/12,2),"⚠ min. ≤ interest","")) -> 0 | M14: =IF(OR(B14="",N(C14)<=0),"",C14+ROW()/1000000) -> 0 | N14: =IF(OR(B14="",N(C14)<=0),"",-D14+ROW()/1000000) -> 0
B15: Student loan | C15: 18500 | D15: 0.055 | E15: 200 | F15: =IF(M15="","",COUNTIF('Debt Payoff'!$M$10:$M$19,"<"&M15)+1) -> 0 | G15: =IF(N15="","",COUNTIF('Debt Payoff'!$N$10:$N$19,"<"&N15)+1) -> 0 | H15: =IF(F15="","",IF(INDEX(Snowball!$Q$11:$Z$11,F15)>360,"30+ yrs",EDATE($D$23,INDEX(Snowball!$Q$11:$Z$11,F15)-1))) -> 0 | I15: =IF(G15="","",IF(INDEX(Avalanche!$Q$11:$Z$11,G15)>360,"30+ yrs",EDATE($D$23,INDEX(Avalanche!$Q$11:$Z$11,G15)-1))) -> 0 | J15: =IF(OR(B15="",N(C15)=0),"",IF(N(E15)<=ROUND(C15*D15/12,2),"⚠ min. ≤ interest","")) -> 0 | M15: =IF(OR(B15="",N(C15)<=0),"",C15+ROW()/1000000) -> 0 | N15: =IF(OR(B15="",N(C15)<=0),"",-D15+ROW()/1000000) -> 0
F16: =IF(M16="","",COUNTIF('Debt Payoff'!$M$10:$M$19,"<"&M16)+1) -> 0 | G16: =IF(N16="","",COUNTIF('Debt Payoff'!$N$10:$N$19,"<"&N16)+1) -> 0 | H16: =IF(F16="","",IF(INDEX(Snowball!$Q$11:$Z$11,F16)>360,"30+ yrs",EDATE($D$23,INDEX(Snowball!$Q$11:$Z$11,F16)-1))) -> 0 | I16: =IF(G16="","",IF(INDEX(Avalanche!$Q$11:$Z$11,G16)>360,"30+ yrs",EDATE($D$23,INDEX(Avalanche!$Q$11:$Z$11,G16)-1))) -> 0 | J16: =IF(OR(B16="",N(C16)=0),"",IF(N(E16)<=ROUND(C16*D16/12,2),"⚠ min. ≤ interest","")) -> 0 | M16: =IF(OR(B16="",N(C16)<=0),"",C16+ROW()/1000000) -> 0 | N16: =IF(OR(B16="",N(C16)<=0),"",-D16+ROW()/1000000) -> 0
F17: =IF(M17="","",COUNTIF('Debt Payoff'!$M$10:$M$19,"<"&M17)+1) -> 0 | G17: =IF(N17="","",COUNTIF('Debt Payoff'!$N$10:$N$19,"<"&N17)+1) -> 0 | H17: =IF(F17="","",IF(INDEX(Snowball!$Q$11:$Z$11,F17)>360,"30+ yrs",EDATE($D$23,INDEX(Snowball!$Q$11:$Z$11,F17)-1))) -> 0 | I17: =IF(G17="","",IF(INDEX(Avalanche!$Q$11:$Z$11,G17)>360,"30+ yrs",EDATE($D$23,INDEX(Avalanche!$Q$11:$Z$11,G17)-1))) -> 0 | J17: =IF(OR(B17="",N(C17)=0),"",IF(N(E17)<=ROUND(C17*D17/12,2),"⚠ min. ≤ interest","")) -> 0 | M17: =IF(OR(B17="",N(C17)<=0),"",C17+ROW()/1000000) -> 0 | N17: =IF(OR(B17="",N(C17)<=0),"",-D17+ROW()/1000000) -> 0
F18: =IF(M18="","",COUNTIF('Debt Payoff'!$M$10:$M$19,"<"&M18)+1) -> 0 | G18: =IF(N18="","",COUNTIF('Debt Payoff'!$N$10:$N$19,"<"&N18)+1) -> 0 | H18: =IF(F18="","",IF(INDEX(Snowball!$Q$11:$Z$11,F18)>360,"30+ yrs",EDATE($D$23,INDEX(Snowball!$Q$11:$Z$11,F18)-1))) -> 0 | I18: =IF(G18="","",IF(INDEX(Avalanche!$Q$11:$Z$11,G18)>360,"30+ yrs",EDATE($D$23,INDEX(Avalanche!$Q$11:$Z$11,G18)-1))) -> 0 | J18: =IF(OR(B18="",N(C18)=0),"",IF(N(E18)<=ROUND(C18*D18/12,2),"⚠ min. ≤ interest","")) -> 0 | M18: =IF(OR(B18="",N(C18)<=0),"",C18+ROW()/1000000) -> 0 | N18: =IF(OR(B18="",N(C18)<=0),"",-D18+ROW()/1000000) -> 0
F19: =IF(M19="","",COUNTIF('Debt Payoff'!$M$10:$M$19,"<"&M19)+1) -> 0 | G19: =IF(N19="","",COUNTIF('Debt Payoff'!$N$10:$N$19,"<"&N19)+1) -> 0 | H19: =IF(F19="","",IF(INDEX(Snowball!$Q$11:$Z$11,F19)>360,"30+ yrs",EDATE($D$23,INDEX(Snowball!$Q$11:$Z$11,F19)-1))) -> 0 | I19: =IF(G19="","",IF(INDEX(Avalanche!$Q$11:$Z$11,G19)>360,"30+ yrs",EDATE($D$23,INDEX(Avalanche!$Q$11:$Z$11,G19)-1))) -> 0 | J19: =IF(OR(B19="",N(C19)=0),"",IF(N(E19)<=ROUND(C19*D19/12,2),"⚠ min. ≤ interest","")) -> 0 | M19: =IF(OR(B19="",N(C19)<=0),"",C19+ROW()/1000000) -> 0 | N19: =IF(OR(B19="",N(C19)<=0),"",-D19+ROW()/1000000) -> 0
B20: Total | C20: =SUM(C10:C19) -> 0 | D20: =IFERROR(SUMPRODUCT(C10:C19,D10:D19)/C20,0) -> 0 | E20: =SUM(E10:E19) -> 0
D21: weighted avg. APR
B22: Extra payment / month | D22: 300 | E22: on top of all minimums
B23: First payment month | D23: 46388
B24: Total monthly budget | D24: =E20+N(D22) -> 0 | E24: stays the same until you are debt-free
B26: COMPARE THE PLANS
B27: Method | C27: Months | E27: Debt-free | F27: Total interest | G27: Total paid
B28: Snowball | C28: =COUNT(Snowball!$B$14:$B$373) -> 0 | E28: =IF(C28=0,"",IF(C28>=360,"30+ yrs",EDATE($D$23,C28-1))) -> 0 | F28: =SUM(Snowball!$D$14:$D$373)-$C$20 -> 0 | G28: =SUM(Snowball!$D$14:$D$373) -> 0
B29: Avalanche | C29: =COUNT(Avalanche!$B$14:$B$373) -> 0 | E29: =IF(C29=0,"",IF(C29>=360,"30+ yrs",EDATE($D$23,C29-1))) -> 0 | F29: =SUM(Avalanche!$D$14:$D$373)-$C$20 -> 0 | G29: =SUM(Avalanche!$D$14:$D$373) -> 0
B30: Avalanche saves | C30: =C28-C29 -> 0 | F30: =F28-F29 -> 0
B31: Snowball gives quick wins (small debts vanish first); avalanche costs the least interest. Both beat minimums-only by a mile.

Sheet Snowball
B2: Snowball — month by month
B3: Smallest balance first. Every freed-up minimum rolls into the next debt. Nothing to type here.
P5: Order | Q5: 1 | R5: 2 | S5: 3 | T5: 4 | U5: 5 | V5: 6 | W5: 7 | X5: 8 | Y5: 9 | Z5: 10
P6: Debt # | Q6: =IFERROR(MATCH(Q5,'Debt Payoff'!$F$10:$F$19,0),"") -> 0 | R6: =IFERROR(MATCH(R5,'Debt Payoff'!$F$10:$F$19,0),"") -> 0 | S6: =IFERROR(MATCH(S5,'Debt Payoff'!$F$10:$F$19,0),"") -> 0 | T6: =IFERROR(MATCH(T5,'Debt Payoff'!$F$10:$F$19,0),"") -> 0 | U6: =IFERROR(MATCH(U5,'Debt Payoff'!$F$10:$F$19,0),"") -> 0 | V6: =IFERROR(MATCH(V5,'Debt Payoff'!$F$10:$F$19,0),"") -> 0 | W6: =IFERROR(MATCH(W5,'Debt Payoff'!$F$10:$F$19,0),"") -> 0 | X6: =IFERROR(MATCH(X5,'Debt Payoff'!$F$10:$F$19,0),"") -> 0 | ... Z6: =IFERROR(MATCH(Z5,'Debt Payoff'!$F$10:$F$19,0),"") -> 0
P7: Debt | Q7: =IF(Q6="","",INDEX('Debt Payoff'!$B$10:$B$19,Q6)) -> 0 | R7: =IF(R6="","",INDEX('Debt Payoff'!$B$10:$B$19,R6)) -> 0 | S7: =IF(S6="","",INDEX('Debt Payoff'!$B$10:$B$19,S6)) -> 0 | T7: =IF(T6="","",INDEX('Debt Payoff'!$B$10:$B$19,T6)) -> 0 | U7: =IF(U6="","",INDEX('Debt Payoff'!$B$10:$B$19,U6)) -> 0 | V7: =IF(V6="","",INDEX('Debt Payoff'!$B$10:$B$19,V6)) -> 0 | W7: =IF(W6="","",INDEX('Debt Payoff'!$B$10:$B$19,W6)) -> 0 | X7: =IF(X6="","",INDEX('Debt Payoff'!$B$10:$B$19,X6)) -> 0 | ... Z7: =IF(Z6="","",INDEX('Debt Payoff'!$B$10:$B$19,Z6)) -> 0
P8: APR | Q8: =IF(Q6="",0,N(INDEX('Debt Payoff'!$D$10:$D$19,Q6))) -> 0 | R8: =IF(R6="",0,N(INDEX('Debt Payoff'!$D$10:$D$19,R6))) -> 0 | S8: =IF(S6="",0,N(INDEX('Debt Payoff'!$D$10:$D$19,S6))) -> 0 | T8: =IF(T6="",0,N(INDEX('Debt Payoff'!$D$10:$D$19,T6))) -> 0 | U8: =IF(U6="",0,N(INDEX('Debt Payoff'!$D$10:$D$19,U6))) -> 0 | V8: =IF(V6="",0,N(INDEX('Debt Payoff'!$D$10:$D$19,V6))) -> 0 | W8: =IF(W6="",0,N(INDEX('Debt Payoff'!$D$10:$D$19,W6))) -> 0 | X8: =IF(X6="",0,N(INDEX('Debt Payoff'!$D$10:$D$19,X6))) -> 0 | ... Z8: =IF(Z6="",0,N(INDEX('Debt Payoff'!$D$10:$D$19,Z6))) -> 0
P9: Minimum | Q9: =IF(Q6="",0,N(INDEX('Debt Payoff'!$E$10:$E$19,Q6))) -> 0 | R9: =IF(R6="",0,N(INDEX('Debt Payoff'!$E$10:$E$19,R6))) -> 0 | S9: =IF(S6="",0,N(INDEX('Debt Payoff'!$E$10:$E$19,S6))) -> 0 | T9: =IF(T6="",0,N(INDEX('Debt Payoff'!$E$10:$E$19,T6))) -> 0 | U9: =IF(U6="",0,N(INDEX('Debt Payoff'!$E$10:$E$19,U6))) -> 0 | V9: =IF(V6="",0,N(INDEX('Debt Payoff'!$E$10:$E$19,V6))) -> 0 | W9: =IF(W6="",0,N(INDEX('Debt Payoff'!$E$10:$E$19,W6))) -> 0 | X9: =IF(X6="",0,N(INDEX('Debt Payoff'!$E$10:$E$19,X6))) -> 0 | ... Z9: =IF(Z6="",0,N(INDEX('Debt Payoff'!$E$10:$E$19,Z6))) -> 0
P10: Start balance | Q10: =IF(Q6="",0,N(INDEX('Debt Payoff'!$C$10:$C$19,Q6))) -> 0 | R10: =IF(R6="",0,N(INDEX('Debt Payoff'!$C$10:$C$19,R6))) -> 0 | S10: =IF(S6="",0,N(INDEX('Debt Payoff'!$C$10:$C$19,S6))) -> 0 | T10: =IF(T6="",0,N(INDEX('Debt Payoff'!$C$10:$C$19,T6))) -> 0 | U10: =IF(U6="",0,N(INDEX('Debt Payoff'!$C$10:$C$19,U6))) -> 0 | V10: =IF(V6="",0,N(INDEX('Debt Payoff'!$C$10:$C$19,V6))) -> 0 | W10: =IF(W6="",0,N(INDEX('Debt Payoff'!$C$10:$C$19,W6))) -> 0 | X10: =IF(X6="",0,N(INDEX('Debt Payoff'!$C$10:$C$19,X6))) -> 0 | ... Z10: =IF(Z6="",0,N(INDEX('Debt Payoff'!$C$10:$C$19,Z6))) -> 0
P11: Paid off in month | Q11: =IF(Q7="","",COUNTIF($AA$14:$AA$373,">0.005")+1) -> 0 | R11: =IF(R7="","",COUNTIF($AB$14:$AB$373,">0.005")+1) -> 0 | S11: =IF(S7="","",COUNTIF($AC$14:$AC$373,">0.005")+1) -> 0 | T11: =IF(T7="","",COUNTIF($AD$14:$AD$373,">0.005")+1) -> 0 | U11: =IF(U7="","",COUNTIF($AE$14:$AE$373,">0.005")+1) -> 0 | V11: =IF(V7="","",COUNTIF($AF$14:$AF$373,">0.005")+1) -> 0 | W11: =IF(W7="","",COUNTIF($AG$14:$AG$373,">0.005")+1) -> 0 | X11: =IF(X7="","",COUNTIF($AH$14:$AH$373,">0.005")+1) -> 0 | Y11: =IF(Y7="","",COUNTIF($AI$14:$AI$373,">0.005")+1) -> 0 | Z11: =IF(Z7="","",COUNTIF($AJ$14:$AJ$373,">0.005")+1) -> 0
B13: Month | C13: Date | D13: Paid | E13: Interest | F13: Total balance | G13: ="Owed "&Q5 -> 0 | H13: ="Owed "&R5 -> 0 | I13: ="Owed "&S5 -> 0 | J13: ="Owed "&T5 -> 0 | K13: ="Owed "&U5 -> 0 | L13: ="Owed "&V5 -> 0 | M13: ="Owed "&W5 -> 0 | N13: ="Owed "&X5 -> 0 | ... P13: ="Owed "&Z5 -> 0 | Q13: =IF(Q7="","Pay "&Q5,Q7) -> 0 | R13: =IF(R7="","Pay "&R5,R7) -> 0 | S13: =IF(S7="","Pay "&S5,S7) -> 0 | T13: =IF(T7="","Pay "&T5,T7) -> 0 | U13: =IF(U7="","Pay "&U5,U7) -> 0 | V13: =IF(V7="","Pay "&V5,V7) -> 0 | W13: =IF(W7="","Pay "&W5,W7) -> 0 | X13: =IF(X7="","Pay "&X5,X7) -> 0 | ... Z13: =IF(Z7="","Pay "&Z5,Z7) -> 0 | AA13: =IF(Q7="","Bal "&Q5,Q7&" bal.") -> 0 | AB13: =IF(R7="","Bal "&R5,R7&" bal.") -> 0 | AC13: =IF(S7="","Bal "&S5,S7&" bal.") -> 0 | AD13: =IF(T7="","Bal "&T5,T7&" bal.") -> 0 | AE13: =IF(U7="","Bal "&U5,U7&" bal.") -> 0 | AF13: =IF(V7="","Bal "&V5,V7&" bal.") -> 0 | AG13: =IF(W7="","Bal "&W5,W7&" bal.") -> 0 | AH13: =IF(X7="","Bal "&X5,X7&" bal.") -> 0 | ... AJ13: =IF(Z7="","Bal "&Z5,Z7&" bal.") -> 0
B14: =IF(SUM($Q$10:$Z$10)>0.005,1,"") -> 0 | C14: =IF($B14="","",EDATE('Debt Payoff'!$D$23,$B14-1)) -> 0 | D14: =IF($B14="","",SUM(Q14:Z14)) -> 0 | E14: =IF($B14="","",SUM(G14:P14)-SUM($Q$10:$Z$10)) -> 0 | F14: =IF($B14="","",SUM(AA14:AJ14)) -> 0 | G14: =IF($B14="","",ROUND($Q$10*(1+$Q$8/12),2)) -> 0 | H14: =IF($B14="","",ROUND($R$10*(1+$R$8/12),2)) -> 0 | I14: =IF($B14="","",ROUND($S$10*(1+$S$8/12),2)) -> 0 | J14: =IF($B14="","",ROUND($T$10*(1+$T$8/12),2)) -> 0 | K14: =IF($B14="","",ROUND($U$10*(1+$U$8/12),2)) -> 0 | L14: =IF($B14="","",ROUND($V$10*(1+$V$8/12),2)) -> 0 | M14: =IF($B14="","",ROUND($W$10*(1+$W$8/12),2)) -> 0 | N14: =IF($B14="","",ROUND($X$10*(1+$X$8/12),2)) -> 0 | O14: =IF($B14="","",ROUND($Y$10*(1+$Y$8/12),2)) -> 0 | P14: =IF($B14="","",ROUND($Z$10*(1+$Z$8/12),2)) -> 0 | Q14: =IF($B14="","",MIN($Q$9,G14)+MIN(MAX(0,'Debt Payoff'!$D$24-0-SUMPRODUCT((G14:P14<$Q$9:$Z$9)*G14:P14+(G14:P14>=$Q$9:$Z$9)*$Q$9:$Z$9)),G14-MIN($Q$9,G14))) -> 0 | R14: =IF($B14="","",MIN($R$9,H14)+MIN(MAX(0,'Debt Payoff'!$D$24-SUM(Q14:Q14)-SUMPRODUCT((H14:P14<$R$9:$Z$9)*H14:P14+(H14:P14>=$R$9:$Z$9)*$R$9:$Z$9)),H14-MIN($R$9,H14))) -> 0 | S14: =IF($B14="","",MIN($S$9,I14)+MIN(MAX(0,'Debt Payoff'!$D$24-SUM(Q14:R14)-SUMPRODUCT((I14:P14<$S$9:$Z$9)*I14:P14+(I14:P14>=$S$9:$Z$9)*$S$9:$Z$9)),I14-MIN($S$9,I14))) -> 0 | T14: =IF($B14="","",MIN($T$9,J14)+MIN(MAX(0,'Debt Payoff'!$D$24-SUM(Q14:S14)-SUMPRODUCT((J14:P14<$T$9:$Z$9)*J14:P14+(J14:P14>=$T$9:$Z$9)*$T$9:$Z$9)),J14-MIN($T$9,J14))) -> 0 | U14: =IF($B14="","",MIN($U$9,K14)+MIN(MAX(0,'Debt Payoff'!$D$24-SUM(Q14:T14)-SUMPRODUCT((K14:P14<$U$9:$Z$9)*K14:P14+(K14:P14>=$U$9:$Z$9)*$U$9:$Z$9)),K14-MIN($U$9,K14))) -> 0 | V14: =IF($B14="","",MIN($V$9,L14)+MIN(MAX(0,'Debt Payoff'!$D$24-SUM(Q14:U14)-SUMPRODUCT((L14:P14<$V$9:$Z$9)*L14:P14+(L14:P14>=$V$9:$Z$9)*$V$9:$Z$9)),L14-MIN($V$9,L14))) -> 0 | W14: =IF($B14="","",MIN($W$9,M14)+MIN(MAX(0,'Debt Payoff'!$D$24-SUM(Q14:V14)-SUMPRODUCT((M14:P14<$W$9:$Z$9)*M14:P14+(M14:P14>=$W$9:$Z$9)*$W$9:$Z$9)),M14-MIN($W$9,M14))) -> 0 | X14: =IF($B14="","",MIN($X$9,N14)+MIN(MAX(0,'Debt Payoff'!$D$24-SUM(Q14:W14)-SUMPRODUCT((N14:P14<$X$9:$Z$9)*N14:P14+(N14:P14>=$X$9:$Z$9)*$X$9:$Z$9)),N14-MIN($X$9,N14))) -> 0 | Y14: =IF($B14="","",MIN($Y$9,O14)+MIN(MAX(0,'Debt Payoff'!$D$24-SUM(Q14:X14)-SUMPRODUCT((O14:P14<$Y$9:$Z$9)*O14:P14+(O14:P14>=$Y$9:$Z$9)*$Y$9:$Z$9)),O14-MIN($Y$9,O14))) -> 0 | Z14: =IF($B14="","",MIN($Z$9,P14)+MIN(MAX(0,'Debt Payoff'!$D$24-SUM(Q14:Y14)-SUMPRODUCT((P14:P14<$Z$9:$Z$9)*P14:P14+(P14:P14>=$Z$9:$Z$9)*$Z$9:$Z$9)),P14-MIN($Z$9,P14))) -> 0 | AA14: =IF($B14="","",ROUND(G14-Q14,2)) -> 0 | AB14: =IF($B14="","",ROUND(H14-R14,2)) -> 0 | AC14: =IF($B14="","",ROUND(I14-S14,2)) -> 0 | AD14: =IF($B14="","",ROUND(J14-T14,2)) -> 0 | AE14: =IF($B14="","",ROUND(K14-U14,2)) -> 0 | AF14: =IF($B14="","",ROUND(L14-V14,2)) -> 0 | AG14: =IF($B14="","",ROUND(M14-W14,2)) -> 0 | AH14: =IF($B14="","",ROUND(N14-X14,2)) -> 0 | ... AJ14: =IF($B14="","",ROUND(P14-Z14,2)) -> 0
B15: =IF(B14="","",IF(F14>0.005,B14+1,"")) -> 0 | C15: =IF($B15="","",EDATE('Debt Payoff'!$D$23,$B15-1)) -> 0 | D15: =IF($B15="","",SUM(Q15:Z15)) -> 0 | E15: =IF($B15="","",SUM(G15:P15)-F14) -> 0 | F15: =IF($B15="","",SUM(AA15:AJ15)) -> 0 | G15: =IF($B15="","",ROUND(N(AA14)*(1+$Q$8/12),2)) -> 0 | H15: =IF($B15="","",ROUND(N(AB14)*(1+$R$8/12),2)) -> 0 | I15: =IF($B15="","",ROUND(N(AC14)*(1+$S$8/12),2)) -> 0 | J15: =IF($B15="","",ROUND(N(AD14)*(1+$T$8/12),2)) -> 0 | K15: =IF($B15="","",ROUND(N(AE14)*(1+$U$8/12),2)) -> 0 | L15: =IF($B15="","",ROUND(N(AF14)*(1+$V$8/12),2)) -> 0 | M15: =IF($B15="","",ROUND(N(AG14)*(1+$W$8/12),2)) -> 0 | N15: =IF($B15="","",ROUND(N(AH14)*(1+$X$8/12),2)) -> 0 | O15: =IF($B15="","",ROUND(N(AI14)*(1+$Y$8/12),2)) -> 0 | P15: =IF($B15="","",ROUND(N(AJ14)*(1+$Z$8/12),2)) -> 0 | Q15: =IF($B15="","",MIN($Q$9,G15)+MIN(MAX(0,'Debt Payoff'!$D$24-0-SUMPRODUCT((G15:P15<$Q$9:$Z$9)*G15:P15+(G15:P15>=$Q$9:$Z$9)*$Q$9:$Z$9)),G15-MIN($Q$9,G15))) -> 0 | R15: =IF($B15="","",MIN($R$9,H15)+MIN(MAX(0,'Debt Payoff'!$D$24-SUM(Q15:Q15)-SUMPRODUCT((H15:P15<$R$9:$Z$9)*H15:P15+(H15:P15>=$R$9:$Z$9)*$R$9:$Z$9)),H15-MIN($R$9,H15))) -> 0 | S15: =IF($B15="","",MIN($S$9,I15)+MIN(MAX(0,'Debt Payoff'!$D$24-SUM(Q15:R15)-SUMPRODUCT((I15:P15<$S$9:$Z$9)*I15:P15+(I15:P15>=$S$9:$Z$9)*$S$9:$Z$9)),I15-MIN($S$9,I15))) -> 0 | T15: =IF($B15="","",MIN($T$9,J15)+MIN(MAX(0,'Debt Payoff'!$D$24-SUM(Q15:S15)-SUMPRODUCT((J15:P15<$T$9:$Z$9)*J15:P15+(J15:P15>=$T$9:$Z$9)*$T$9:$Z$9)),J15-MIN($T$9,J15))) -> 0 | U15: =IF($B15="","",MIN($U$9,K15)+MIN(MAX(0,'Debt Payoff'!$D$24-SUM(Q15:T15)-SUMPRODUCT((K15:P15<$U$9:$Z$9)*K15:P15+(K15:P15>=$U$9:$Z$9)*$U$9:$Z$9)),K15-MIN($U$9,K15))) -> 0 | V15: =IF($B15="","",MIN($V$9,L15)+MIN(MAX(0,'Debt Payoff'!$D$24-SUM(Q15:U15)-SUMPRODUCT((L15:P15<$V$9:$Z$9)*L15:P15+(L15:P15>=$V$9:$Z$9)*$V$9:$Z$9)),L15-MIN($V$9,L15))) -> 0 | W15: =IF($B15="","",MIN($W$9,M15)+MIN(MAX(0,'Debt Payoff'!$D$24-SUM(Q15:V15)-SUMPRODUCT((M15:P15<$W$9:$Z$9)*M15:P15+(M15:P15>=$W$9:$Z$9)*$W$9:$Z$9)),M15-MIN($W$9,M15))) -> 0 | X15: =IF($B15="","",MIN($X$9,N15)+MIN(MAX(0,'Debt Payoff'!$D$24-SUM(Q15:W15)-SUMPRODUCT((N15:P15<$X$9:$Z$9)*N15:P15+(N15:P15>=$X$9:$Z$9)*$X$9:$Z$9)),N15-MIN($X$9,N15))) -> 0 | Y15: =IF($B15="","",MIN($Y$9,O15)+MIN(MAX(0,'Debt Payoff'!$D$24-SUM(Q15:X15)-SUMPRODUCT((O15:P15<$Y$9:$Z$9)*O15:P15+(O15:P15>=$Y$9:$Z$9)*$Y$9:$Z$9)),O15-MIN($Y$9,O15))) -> 0 | Z15: =IF($B15="","",MIN($Z$9,P15)+MIN(MAX(0,'Debt Payoff'!$D$24-SUM(Q15:Y15)-SUMPRODUCT((P15:P15<$Z$9:$Z$9)*P15:P15+(P15:P15>=$Z$9:$Z$9)*$Z$9:$Z$9)),P15-MIN($Z$9,P15))) -> 0 | AA15: =IF($B15="","",ROUND(G15-Q15,2)) -> 0 | AB15: =IF($B15="","",ROUND(H15-R15,2)) -> 0 | AC15: =IF($B15="","",ROUND(I15-S15,2)) -> 0 | AD15: =IF($B15="","",ROUND(J15-T15,2)) -> 0 | AE15: =IF($B15="","",ROUND(K15-U15,2)) -> 0 | AF15: =IF($B15="","",ROUND(L15-V15,2)) -> 0 | AG15: =IF($B15="","",ROUND(M15-W15,2)) -> 0 | AH15: =IF($B15="","",ROUND(N15-X15,2)) -> 0 | ... AJ15: =IF($B15="","",ROUND(P15-Z15,2)) -> 0
B16: =IF(B15="","",IF(F15>0.005,B15+1,"")) -> 0 | C16: =IF($B16="","",EDATE('Debt Payoff'!$D$23,$B16-1)) -> 0 | D16: =IF($B16="","",SUM(Q16:Z16)) -> 0 | E16: =IF($B16="","",SUM(G16:P16)-F15) -> 0 | F16: =IF($B16="","",SUM(AA16:AJ16)) -> 0 | G16: =IF($B16="","",ROUND(N(AA15)*(1+$Q$8/12),2)) -> 0 | H16: =IF($B16="","",ROUND(N(AB15)*(1+$R$8/12),2)) -> 0 | I16: =IF($B16="","",ROUND(N(AC15)*(1+$S$8/12),2)) -> 0 | J16: =IF($B16="","",ROUND(N(AD15)*(1+$T$8/12),2)) -> 0 | K16: =IF($B16="","",ROUND(N(AE15)*(1+$U$8/12),2)) -> 0 | L16: =IF($B16="","",ROUND(N(AF15)*(1+$V$8/12),2)) -> 0 | M16: =IF($B16="","",ROUND(N(AG15)*(1+$W$8/12),2)) -> 0 | N16: =IF($B16="","",ROUND(N(AH15)*(1+$X$8/12),2)) -> 0 | O16: =IF($B16="","",ROUND(N(AI15)*(1+$Y$8/12),2)) -> 0 | P16: =IF($B16="","",ROUND(N(AJ15)*(1+$Z$8/12),2)) -> 0 | Q16: =IF($B16="","",MIN($Q$9,G16)+MIN(MAX(0,'Debt Payoff'!$D$24-0-SUMPRODUCT((G16:P16<$Q$9:$Z$9)*G16:P16+(G16:P16>=$Q$9:$Z$9)*$Q$9:$Z$9)),G16-MIN($Q$9,G16))) -> 0 | R16: =IF($B16="","",MIN($R$9,H16)+MIN(MAX(0,'Debt Payoff'!$D$24-SUM(Q16:Q16)-SUMPRODUCT((H16:P16<$R$9:$Z$9)*H16:P16+(H16:P16>=$R$9:$Z$9)*$R$9:$Z$9)),H16-MIN($R$9,H16))) -> 0 | S16: =IF($B16="","",MIN($S$9,I16)+MIN(MAX(0,'Debt Payoff'!$D$24-SUM(Q16:R16)-SUMPRODUCT((I16:P16<$S$9:$Z$9)*I16:P16+(I16:P16>=$S$9:$Z$9)*$S$9:$Z$9)),I16-MIN($S$9,I16))) -> 0 | T16: =IF($B16="","",MIN($T$9,J16)+MIN(MAX(0,'Debt Payoff'!$D$24-SUM(Q16:S16)-SUMPRODUCT((J16:P16<$T$9:$Z$9)*J16:P16+(J16:P16>=$T$9:$Z$9)*$T$9:$Z$9)),J16-MIN($T$9,J16))) -> 0 | U16: =IF($B16="","",MIN($U$9,K16)+MIN(MAX(0,'Debt Payoff'!$D$24-SUM(Q16:T16)-SUMPRODUCT((K16:P16<$U$9:$Z$9)*K16:P16+(K16:P16>=$U$9:$Z$9)*$U$9:$Z$9)),K16-MIN($U$9,K16))) -> 0 | V16: =IF($B16="","",MIN($V$9,L16)+MIN(MAX(0,'Debt Payoff'!$D$24-SUM(Q16:U16)-SUMPRODUCT((L16:P16<$V$9:$Z$9)*L16:P16+(L16:P16>=$V$9:$Z$9)*$V$9:$Z$9)),L16-MIN($V$9,L16))) -> 0 | W16: =IF($B16="","",MIN($W$9,M16)+MIN(MAX(0,'Debt Payoff'!$D$24-SUM(Q16:V16)-SUMPRODUCT((M16:P16<$W$9:$Z$9)*M16:P16+(M16:P16>=$W$9:$Z$9)*$W$9:$Z$9)),M16-MIN($W$9,M16))) -> 0 | X16: =IF($B16="","",MIN($X$9,N16)+MIN(MAX(0,'Debt Payoff'!$D$24-SUM(Q16:W16)-SUMPRODUCT((N16:P16<$X$9:$Z$9)*N16:P16+(N16:P16>=$X$9:$Z$9)*$X$9:$Z$9)),N16-MIN($X$9,N16))) -> 0 | Y16: =IF($B16="","",MIN($Y$9,O16)+MIN(MAX(0,'Debt Payoff'!$D$24-SUM(Q16:X16)-SUMPRODUCT((O16:P16<$Y$9:$Z$9)*O16:P16+(O16:P16>=$Y$9:$Z$9)*$Y$9:$Z$9)),O16-MIN($Y$9,O16))) -> 0 | Z16: =IF($B16="","",MIN($Z$9,P16)+MIN(MAX(0,'Debt Payoff'!$D$24-SUM(Q16:Y16)-SUMPRODUCT((P16:P16<$Z$9:$Z$9)*P16:P16+(P16:P16>=$Z$9:$Z$9)*$Z$9:$Z$9)),P16-MIN($Z$9,P16))) -> 0 | AA16: =IF($B16="","",ROUND(G16-Q16,2)) -> 0 | AB16: =IF($B16="","",ROUND(H16-R16,2)) -> 0 | AC16: =IF($B16="","",ROUND(I16-S16,2)) -> 0 | AD16: =IF($B16="","",ROUND(J16-T16,2)) -> 0 | AE16: =IF($B16="","",ROUND(K16-U16,2)) -> 0 | AF16: =IF($B16="","",ROUND(L16-V16,2)) -> 0 | AG16: =IF($B16="","",ROUND(M16-W16,2)) -> 0 | AH16: =IF($B16="","",ROUND(N16-X16,2)) -> 0 | ... AJ16: =IF($B16="","",ROUND(P16-Z16,2)) -> 0
B17: =IF(B16="","",IF(F16>0.005,B16+1,"")) -> 0 | C17: =IF($B17="","",EDATE('Debt Payoff'!$D$23,$B17-1)) -> 0 | D17: =IF($B17="","",SUM(Q17:Z17)) -> 0 | E17: =IF($B17="","",SUM(G17:P17)-F16) -> 0 | F17: =IF($B17="","",SUM(AA17:AJ17)) -> 0 | G17: =IF($B17="","",ROUND(N(AA16)*(1+$Q$8/12),2)) -> 0 | H17: =IF($B17="","",ROUND(N(AB16)*(1+$R$8/12),2)) -> 0 | I17: =IF($B17="","",ROUND(N(AC16)*(1+$S$8/12),2)) -> 0 | J17: =IF($B17="","",ROUND(N(AD16)*(1+$T$8/12),2)) -> 0 | K17: =IF($B17="","",ROUND(N(AE16)*(1+$U$8/12),2)) -> 0 | L17: =IF($B17="","",ROUND(N(AF16)*(1+$V$8/12),2)) -> 0 | M17: =IF($B17="","",ROUND(N(AG16)*(1+$W$8/12),2)) -> 0 | N17: =IF($B17="","",ROUND(N(AH16)*(1+$X$8/12),2)) -> 0 | O17: =IF($B17="","",ROUND(N(AI16)*(1+$Y$8/12),2)) -> 0 | P17: =IF($B17="","",ROUND(N(AJ16)*(1+$Z$8/12),2)) -> 0 | Q17: =IF($B17="","",MIN($Q$9,G17)+MIN(MAX(0,'Debt Payoff'!$D$24-0-SUMPRODUCT((G17:P17<$Q$9:$Z$9)*G17:P17+(G17:P17>=$Q$9:$Z$9)*$Q$9:$Z$9)),G17-MIN($Q$9,G17))) -> 0 | R17: =IF($B17="","",MIN($R$9,H17)+MIN(MAX(0,'Debt Payoff'!$D$24-SUM(Q17:Q17)-SUMPRODUCT((H17:P17<$R$9:$Z$9)*H17:P17+(H17:P17>=$R$9:$Z$9)*$R$9:$Z$9)),H17-MIN($R$9,H17))) -> 0 | S17: =IF($B17="","",MIN($S$9,I17)+MIN(MAX(0,'Debt Payoff'!$D$24-SUM(Q17:R17)-SUMPRODUCT((I17:P17<$S$9:$Z$9)*I17:P17+(I17:P17>=$S$9:$Z$9)*$S$9:$Z$9)),I17-MIN($S$9,I17))) -> 0 | T17: =IF($B17="","",MIN($T$9,J17)+MIN(MAX(0,'Debt Payoff'!$D$24-SUM(Q17:S17)-SUMPRODUCT((J17:P17<$T$9:$Z$9)*J17:P17+(J17:P17>=$T$9:$Z$9)*$T$9:$Z$9)),J17-MIN($T$9,J17))) -> 0 | U17: =IF($B17="","",MIN($U$9,K17)+MIN(MAX(0,'Debt Payoff'!$D$24-SUM(Q17:T17)-SUMPRODUCT((K17:P17<$U$9:$Z$9)*K17:P17+(K17:P17>=$U$9:$Z$9)*$U$9:$Z$9)),K17-MIN($U$9,K17))) -> 0 | V17: =IF($B17="","",MIN($V$9,L17)+MIN(MAX(0,'Debt Payoff'!$D$24-SUM(Q17:U17)-SUMPRODUCT((L17:P17<$V$9:$Z$9)*L17:P17+(L17:P17>=$V$9:$Z$9)*$V$9:$Z$9)),L17-MIN($V$9,L17))) -> 0 | W17: =IF($B17="","",MIN($W$9,M17)+MIN(MAX(0,'Debt Payoff'!$D$24-SUM(Q17:V17)-SUMPRODUCT((M17:P17<$W$9:$Z$9)*M17:P17+(M17:P17>=$W$9:$Z$9)*$W$9:$Z$9)),M17-MIN($W$9,M17))) -> 0 | X17: =IF($B17="","",MIN($X$9,N17)+MIN(MAX(0,'Debt Payoff'!$D$24-SUM(Q17:W17)-SUMPRODUCT((N17:P17<$X$9:$Z$9)*N17:P17+(N17:P17>=$X$9:$Z$9)*$X$9:$Z$9)),N17-MIN($X$9,N17))) -> 0 | Y17: =IF($B17="","",MIN($Y$9,O17)+MIN(MAX(0,'Debt Payoff'!$D$24-SUM(Q17:X17)-SUMPRODUCT((O17:P17<$Y$9:$Z$9)*O17:P17+(O17:P17>=$Y$9:$Z$9)*$Y$9:$Z$9)),O17-MIN($Y$9,O17))) -> 0 | Z17: =IF($B17="","",MIN($Z$9,P17)+MIN(MAX(0,'Debt Payoff'!$D$24-SUM(Q17:Y17)-SUMPRODUCT((P17:P17<$Z$9:$Z$9)*P17:P17+(P17:P17>=$Z$9:$Z$9)*$Z$9:$Z$9)),P17-MIN($Z$9,P17))) -> 0 | AA17: =IF($B17="","",ROUND(G17-Q17,2)) -> 0 | AB17: =IF($B17="","",ROUND(H17-R17,2)) -> 0 | AC17: =IF($B17="","",ROUND(I17-S17,2)) -> 0 | AD17: =IF($B17="","",ROUND(J17-T17,2)) -> 0 | AE17: =IF($B17="","",ROUND(K17-U17,2)) -> 0 | AF17: =IF($B17="","",ROUND(L17-V17,2)) -> 0 | AG17: =IF($B17="","",ROUND(M17-W17,2)) -> 0 | AH17: =IF($B17="","",ROUND(N17-X17,2)) -> 0 | ... AJ17: =IF($B17="","",ROUND(P17-Z17,2)) -> 0
B18: =IF(B17="","",IF(F17>0.005,B17+1,"")) -> 0 | C18: =IF($B18="","",EDATE('Debt Payoff'!$D$23,$B18-1)) -> 0 | D18: =IF($B18="","",SUM(Q18:Z18)) -> 0 | E18: =IF($B18="","",SUM(G18:P18)-F17) -> 0 | F18: =IF($B18="","",SUM(AA18:AJ18)) -> 0 | G18: =IF($B18="","",ROUND(N(AA17)*(1+$Q$8/12),2)) -> 0 | H18: =IF($B18="","",ROUND(N(AB17)*(1+$R$8/12),2)) -> 0 | I18: =IF($B18="","",ROUND(N(AC17)*(1+$S$8/12),2)) -> 0 | J18: =IF($B18="","",ROUND(N(AD17)*(1+$T$8/12),2)) -> 0 | K18: =IF($B18="","",ROUND(N(AE17)*(1+$U$8/12),2)) -> 0 | L18: =IF($B18="","",ROUND(N(AF17)*(1+$V$8/12),2)) -> 0 | M18: =IF($B18="","",ROUND(N(AG17)*(1+$W$8/12),2)) -> 0 | N18: =IF($B18="","",ROUND(N(AH17)*(1+$X$8/12),2)) -> 0 | O18: =IF($B18="","",ROUND(N(AI17)*(1+$Y$8/12),2)) -> 0 | P18: =IF($B18="","",ROUND(N(AJ17)*(1+$Z$8/12),2)) -> 0 | Q18: =IF($B18="","",MIN($Q$9,G18)+MIN(MAX(0,'Debt Payoff'!$D$24-0-SUMPRODUCT((G18:P18<$Q$9:$Z$9)*G18:P18+(G18:P18>=$Q$9:$Z$9)*$Q$9:$Z$9)),G18-MIN($Q$9,G18))) -> 0 | R18: =IF($B18="","",MIN($R$9,H18)+MIN(MAX(0,'Debt Payoff'!$D$24-SUM(Q18:Q18)-SUMPRODUCT((H18:P18<$R$9:$Z$9)*H18:P18+(H18:P18>=$R$9:$Z$9)*$R$9:$Z$9)),H18-MIN($R$9,H18))) -> 0 | S18: =IF($B18="","",MIN($S$9,I18)+MIN(MAX(0,'Debt Payoff'!$D$24-SUM(Q18:R18)-SUMPRODUCT((I18:P18<$S$9:$Z$9)*I18:P18+(I18:P18>=$S$9:$Z$9)*$S$9:$Z$9)),I18-MIN($S$9,I18))) -> 0 | T18: =IF($B18="","",MIN($T$9,J18)+MIN(MAX(0,'Debt Payoff'!$D$24-SUM(Q18:S18)-SUMPRODUCT((J18:P18<$T$9:$Z$9)*J18:P18+(J18:P18>=$T$9:$Z$9)*$T$9:$Z$9)),J18-MIN($T$9,J18))) -> 0 | U18: =IF($B18="","",MIN($U$9,K18)+MIN(MAX(0,'Debt Payoff'!$D$24-SUM(Q18:T18)-SUMPRODUCT((K18:P18<$U$9:$Z$9)*K18:P18+(K18:P18>=$U$9:$Z$9)*$U$9:$Z$9)),K18-MIN($U$9,K18))) -> 0 | V18: =IF($B18="","",MIN($V$9,L18)+MIN(MAX(0,'Debt Payoff'!$D$24-SUM(Q18:U18)-SUMPRODUCT((L18:P18<$V$9:$Z$9)*L18:P18+(L18:P18>=$V$9:$Z$9)*$V$9:$Z$9)),L18-MIN($V$9,L18))) -> 0 | W18: =IF($B18="","",MIN($W$9,M18)+MIN(MAX(0,'Debt Payoff'!$D$24-SUM(Q18:V18)-SUMPRODUCT((M18:P18<$W$9:$Z$9)*M18:P18+(M18:P18>=$W$9:$Z$9)*$W$9:$Z$9)),M18-MIN($W$9,M18))) -> 0 | X18: =IF($B18="","",MIN($X$9,N18)+MIN(MAX(0,'Debt Payoff'!$D$24-SUM(Q18:W18)-SUMPRODUCT((N18:P18<$X$9:$Z$9)*N18:P18+(N18:P18>=$X$9:$Z$9)*$X$9:$Z$9)),N18-MIN($X$9,N18))) -> 0 | Y18: =IF($B18="","",MIN($Y$9,O18)+MIN(MAX(0,'Debt Payoff'!$D$24-SUM(Q18:X18)-SUMPRODUCT((O18:P18<$Y$9:$Z$9)*O18:P18+(O18:P18>=$Y$9:$Z$9)*$Y$9:$Z$9)),O18-MIN($Y$9,O18))) -> 0 | Z18: =IF($B18="","",MIN($Z$9,P18)+MIN(MAX(0,'Debt Payoff'!$D$24-SUM(Q18:Y18)-SUMPRODUCT((P18:P18<$Z$9:$Z$9)*P18:P18+(P18:P18>=$Z$9:$Z$9)*$Z$9:$Z$9)),P18-MIN($Z$9,P18))) -> 0 | AA18: =IF($B18="","",ROUND(G18-Q18,2)) -> 0 | AB18: =IF($B18="","",ROUND(H18-R18,2)) -> 0 | AC18: =IF($B18="","",ROUND(I18-S18,2)) -> 0 | AD18: =IF($B18="","",ROUND(J18-T18,2)) -> 0 | AE18: =IF($B18="","",ROUND(K18-U18,2)) -> 0 | AF18: =IF($B18="","",ROUND(L18-V18,2)) -> 0 | AG18: =IF($B18="","",ROUND(M18-W18,2)) -> 0 | AH18: =IF($B18="","",ROUND(N18-X18,2)) -> 0 | ... AJ18: =IF($B18="","",ROUND(P18-Z18,2)) -> 0
B19: =IF(B18="","",IF(F18>0.005,B18+1,"")) -> 0 | C19: =IF($B19="","",EDATE('Debt Payoff'!$D$23,$B19-1)) -> 0 | D19: =IF($B19="","",SUM(Q19:Z19)) -> 0 | E19: =IF($B19="","",SUM(G19:P19)-F18) -> 0 | F19: =IF($B19="","",SUM(AA19:AJ19)) -> 0 | G19: =IF($B19="","",ROUND(N(AA18)*(1+$Q$8/12),2)) -> 0 | H19: =IF($B19="","",ROUND(N(AB18)*(1+$R$8/12),2)) -> 0 | I19: =IF($B19="","",ROUND(N(AC18)*(1+$S$8/12),2)) -> 0 | J19: =IF($B19="","",ROUND(N(AD18)*(1+$T$8/12),2)) -> 0 | K19: =IF($B19="","",ROUND(N(AE18)*(1+$U$8/12),2)) -> 0 | L19: =IF($B19="","",ROUND(N(AF18)*(1+$V$8/12),2)) -> 0 | M19: =IF($B19="","",ROUND(N(AG18)*(1+$W$8/12),2)) -> 0 | N19: =IF($B19="","",ROUND(N(AH18)*(1+$X$8/12),2)) -> 0 | O19: =IF($B19="","",ROUND(N(AI18)*(1+$Y$8/12),2)) -> 0 | P19: =IF($B19="","",ROUND(N(AJ18)*(1+$Z$8/12),2)) -> 0 | Q19: =IF($B19="","",MIN($Q$9,G19)+MIN(MAX(0,'Debt Payoff'!$D$24-0-SUMPRODUCT((G19:P19<$Q$9:$Z$9)*G19:P19+(G19:P19>=$Q$9:$Z$9)*$Q$9:$Z$9)),G19-MIN($Q$9,G19))) -> 0 | R19: =IF($B19="","",MIN($R$9,H19)+MIN(MAX(0,'Debt Payoff'!$D$24-SUM(Q19:Q19)-SUMPRODUCT((H19:P19<$R$9:$Z$9)*H19:P19+(H19:P19>=$R$9:$Z$9)*$R$9:$Z$9)),H19-MIN($R$9,H19))) -> 0 | S19: =IF($B19="","",MIN($S$9,I19)+MIN(MAX(0,'Debt Payoff'!$D$24-SUM(Q19:R19)-SUMPRODUCT((I19:P19<$S$9:$Z$9)*I19:P19+(I19:P19>=$S$9:$Z$9)*$S$9:$Z$9)),I19-MIN($S$9,I19))) -> 0 | T19: =IF($B19="","",MIN($T$9,J19)+MIN(MAX(0,'Debt Payoff'!$D$24-SUM(Q19:S19)-SUMPRODUCT((J19:P19<$T$9:$Z$9)*J19:P19+(J19:P19>=$T$9:$Z$9)*$T$9:$Z$9)),J19-MIN($T$9,J19))) -> 0 | U19: =IF($B19="","",MIN($U$9,K19)+MIN(MAX(0,'Debt Payoff'!$D$24-SUM(Q19:T19)-SUMPRODUCT((K19:P19<$U$9:$Z$9)*K19:P19+(K19:P19>=$U$9:$Z$9)*$U$9:$Z$9)),K19-MIN($U$9,K19))) -> 0 | V19: =IF($B19="","",MIN($V$9,L19)+MIN(MAX(0,'Debt Payoff'!$D$24-SUM(Q19:U19)-SUMPRODUCT((L19:P19<$V$9:$Z$9)*L19:P19+(L19:P19>=$V$9:$Z$9)*$V$9:$Z$9)),L19-MIN($V$9,L19))) -> 0 | W19: =IF($B19="","",MIN($W$9,M19)+MIN(MAX(0,'Debt Payoff'!$D$24-SUM(Q19:V19)-SUMPRODUCT((M19:P19<$W$9:$Z$9)*M19:P19+(M19:P19>=$W$9:$Z$9)*$W$9:$Z$9)),M19-MIN($W$9,M19))) -> 0 | X19: =IF($B19="","",MIN($X$9,N19)+MIN(MAX(0,'Debt Payoff'!$D$24-SUM(Q19:W19)-SUMPRODUCT((N19:P19<$X$9:$Z$9)*N19:P19+(N19:P19>=$X$9:$Z$9)*$X$9:$Z$9)),N19-MIN($X$9,N19))) -> 0 | Y19: =IF($B19="","",MIN($Y$9,O19)+MIN(MAX(0,'Debt Payoff'!$D$24-SUM(Q19:X19)-SUMPRODUCT((O19:P19<$Y$9:$Z$9)*O19:P19+(O19:P19>=$Y$9:$Z$9)*$Y$9:$Z$9)),O19-MIN($Y$9,O19))) -> 0 | Z19: =IF($B19="","",MIN($Z$9,P19)+MIN(MAX(0,'Debt Payoff'!$D$24-SUM(Q19:Y19)-SUMPRODUCT((P19:P19<$Z$9:$Z$9)*P19:P19+(P19:P19>=$Z$9:$Z$9)*$Z$9:$Z$9)),P19-MIN($Z$9,P19))) -> 0 | AA19: =IF($B19="","",ROUND(G19-Q19,2)) -> 0 | AB19: =IF($B19="","",ROUND(H19-R19,2)) -> 0 | AC19: =IF($B19="","",ROUND(I19-S19,2)) -> 0 | AD19: =IF($B19="","",ROUND(J19-T19,2)) -> 0 | AE19: =IF($B19="","",ROUND(K19-U19,2)) -> 0 | AF19: =IF($B19="","",ROUND(L19-V19,2)) -> 0 | AG19: =IF($B19="","",ROUND(M19-W19,2)) -> 0 | AH19: =IF($B19="","",ROUND(N19-X19,2)) -> 0 | ... AJ19: =IF($B19="","",ROUND(P19-Z19,2)) -> 0
B20: =IF(B19="","",IF(F19>0.005,B19+1,"")) -> 0 | C20: =IF($B20="","",EDATE('Debt Payoff'!$D$23,$B20-1)) -> 0 | D20: =IF($B20="","",SUM(Q20:Z20)) -> 0 | E20: =IF($B20="","",SUM(G20:P20)-F19) -> 0 | F20: =IF($B20="","",SUM(AA20:AJ20)) -> 0 | G20: =IF($B20="","",ROUND(N(AA19)*(1+$Q$8/12),2)) -> 0 | H20: =IF($B20="","",ROUND(N(AB19)*(1+$R$8/12),2)) -> 0 | I20: =IF($B20="","",ROUND(N(AC19)*(1+$S$8/12),2)) -> 0 | J20: =IF($B20="","",ROUND(N(AD19)*(1+$T$8/12),2)) -> 0 | K20: =IF($B20="","",ROUND(N(AE19)*(1+$U$8/12),2)) -> 0 | L20: =IF($B20="","",ROUND(N(AF19)*(1+$V$8/12),2)) -> 0 | M20: =IF($B20="","",ROUND(N(AG19)*(1+$W$8/12),2)) -> 0 | N20: =IF($B20="","",ROUND(N(AH19)*(1+$X$8/12),2)) -> 0 | O20: =IF($B20="","",ROUND(N(AI19)*(1+$Y$8/12),2)) -> 0 | P20: =IF($B20="","",ROUND(N(AJ19)*(1+$Z$8/12),2)) -> 0 | Q20: =IF($B20="","",MIN($Q$9,G20)+MIN(MAX(0,'Debt Payoff'!$D$24-0-SUMPRODUCT((G20:P20<$Q$9:$Z$9)*G20:P20+(G20:P20>=$Q$9:$Z$9)*$Q$9:$Z$9)),G20-MIN($Q$9,G20))) -> 0 | R20: =IF($B20="","",MIN($R$9,H20)+MIN(MAX(0,'Debt Payoff'!$D$24-SUM(Q20:Q20)-SUMPRODUCT((H20:P20<$R$9:$Z$9)*H20:P20+(H20:P20>=$R$9:$Z$9)*$R$9:$Z$9)),H20-MIN($R$9,H20))) -> 0 | S20: =IF($B20="","",MIN($S$9,I20)+MIN(MAX(0,'Debt Payoff'!$D$24-SUM(Q20:R20)-SUMPRODUCT((I20:P20<$S$9:$Z$9)*I20:P20+(I20:P20>=$S$9:$Z$9)*$S$9:$Z$9)),I20-MIN($S$9,I20))) -> 0 | T20: =IF($B20="","",MIN($T$9,J20)+MIN(MAX(0,'Debt Payoff'!$D$24-SUM(Q20:S20)-SUMPRODUCT((J20:P20<$T$9:$Z$9)*J20:P20+(J20:P20>=$T$9:$Z$9)*$T$9:$Z$9)),J20-MIN($T$9,J20))) -> 0 | U20: =IF($B20="","",MIN($U$9,K20)+MIN(MAX(0,'Debt Payoff'!$D$24-SUM(Q20:T20)-SUMPRODUCT((K20:P20<$U$9:$Z$9)*K20:P20+(K20:P20>=$U$9:$Z$9)*$U$9:$Z$9)),K20-MIN($U$9,K20))) -> 0 | V20: =IF($B20="","",MIN($V$9,L20)+MIN(MAX(0,'Debt Payoff'!$D$24-SUM(Q20:U20)-SUMPRODUCT((L20:P20<$V$9:$Z$9)*L20:P20+(L20:P20>=$V$9:$Z$9)*$V$9:$Z$9)),L20-MIN($V$9,L20))) -> 0 | W20: =IF($B20="","",MIN($W$9,M20)+MIN(MAX(0,'Debt Payoff'!$D$24-SUM(Q20:V20)-SUMPRODUCT((M20:P20<$W$9:$Z$9)*M20:P20+(M20:P20>=$W$9:$Z$9)*$W$9:$Z$9)),M20-MIN($W$9,M20))) -> 0 | X20: =IF($B20="","",MIN($X$9,N20)+MIN(MAX(0,'Debt Payoff'!$D$24-SUM(Q20:W20)-SUMPRODUCT((N20:P20<$X$9:$Z$9)*N20:P20+(N20:P20>=$X$9:$Z$9)*$X$9:$Z$9)),N20-MIN($X$9,N20))) -> 0 | Y20: =IF($B20="","",MIN($Y$9,O20)+MIN(MAX(0,'Debt Payoff'!$D$24-SUM(Q20:X20)-SUMPRODUCT((O20:P20<$Y$9:$Z$9)*O20:P20+(O20:P20>=$Y$9:$Z$9)*$Y$9:$Z$9)),O20-MIN($Y$9,O20))) -> 0 | Z20: =IF($B20="","",MIN($Z$9,P20)+MIN(MAX(0,'Debt Payoff'!$D$24-SUM(Q20:Y20)-SUMPRODUCT((P20:P20<$Z$9:$Z$9)*P20:P20+(P20:P20>=$Z$9:$Z$9)*$Z$9:$Z$9)),P20-MIN($Z$9,P20))) -> 0 | AA20: =IF($B20="","",ROUND(G20-Q20,2)) -> 0 | AB20: =IF($B20="","",ROUND(H20-R20,2)) -> 0 | AC20: =IF($B20="","",ROUND(I20-S20,2)) -> 0 | AD20: =IF($B20="","",ROUND(J20-T20,2)) -> 0 | AE20: =IF($B20="","",ROUND(K20-U20,2)) -> 0 | AF20: =IF($B20="","",ROUND(L20-V20,2)) -> 0 | AG20: =IF($B20="","",ROUND(M20-W20,2)) -> 0 | AH20: =IF($B20="","",ROUND(N20-X20,2)) -> 0 | ... AJ20: =IF($B20="","",ROUND(P20-Z20,2)) -> 0
B21: =IF(B20="","",IF(F20>0.005,B20+1,"")) -> 0 | C21: =IF($B21="","",EDATE('Debt Payoff'!$D$23,$B21-1)) -> 0 | D21: =IF($B21="","",SUM(Q21:Z21)) -> 0 | E21: =IF($B21="","",SUM(G21:P21)-F20) -> 0 | F21: =IF($B21="","",SUM(AA21:AJ21)) -> 0 | G21: =IF($B21="","",ROUND(N(AA20)*(1+$Q$8/12),2)) -> 0 | H21: =IF($B21="","",ROUND(N(AB20)*(1+$R$8/12),2)) -> 0 | I21: =IF($B21="","",ROUND(N(AC20)*(1+$S$8/12),2)) -> 0 | J21: =IF($B21="","",ROUND(N(AD20)*(1+$T$8/12),2)) -> 0 | K21: =IF($B21="","",ROUND(N(AE20)*(1+$U$8/12),2)) -> 0 | L21: =IF($B21="","",ROUND(N(AF20)*(1+$V$8/12),2)) -> 0 | M21: =IF($B21="","",ROUND(N(AG20)*(1+$W$8/12),2)) -> 0 | N21: =IF($B21="","",ROUND(N(AH20)*(1+$X$8/12),2)) -> 0 | O21: =IF($B21="","",ROUND(N(AI20)*(1+$Y$8/12),2)) -> 0 | P21: =IF($B21="","",ROUND(N(AJ20)*(1+$Z$8/12),2)) -> 0 | Q21: =IF($B21="","",MIN($Q$9,G21)+MIN(MAX(0,'Debt Payoff'!$D$24-0-SUMPRODUCT((G21:P21<$Q$9:$Z$9)*G21:P21+(G21:P21>=$Q$9:$Z$9)*$Q$9:$Z$9)),G21-MIN($Q$9,G21))) -> 0 | R21: =IF($B21="","",MIN($R$9,H21)+MIN(MAX(0,'Debt Payoff'!$D$24-SUM(Q21:Q21)-SUMPRODUCT((H21:P21<$R$9:$Z$9)*H21:P21+(H21:P21>=$R$9:$Z$9)*$R$9:$Z$9)),H21-MIN($R$9,H21))) -> 0 | S21: =IF($B21="","",MIN($S$9,I21)+MIN(MAX(0,'Debt Payoff'!$D$24-SUM(Q21:R21)-SUMPRODUCT((I21:P21<$S$9:$Z$9)*I21:P21+(I21:P21>=$S$9:$Z$9)*$S$9:$Z$9)),I21-MIN($S$9,I21))) -> 0 | T21: =IF($B21="","",MIN($T$9,J21)+MIN(MAX(0,'Debt Payoff'!$D$24-SUM(Q21:S21)-SUMPRODUCT((J21:P21<$T$9:$Z$9)*J21:P21+(J21:P21>=$T$9:$Z$9)*$T$9:$Z$9)),J21-MIN($T$9,J21))) -> 0 | U21: =IF($B21="","",MIN($U$9,K21)+MIN(MAX(0,'Debt Payoff'!$D$24-SUM(Q21:T21)-SUMPRODUCT((K21:P21<$U$9:$Z$9)*K21:P21+(K21:P21>=$U$9:$Z$9)*$U$9:$Z$9)),K21-MIN($U$9,K21))) -> 0 | V21: =IF($B21="","",MIN($V$9,L21)+MIN(MAX(0,'Debt Payoff'!$D$24-SUM(Q21:U21)-SUMPRODUCT((L21:P21<$V$9:$Z$9)*L21:P21+(L21:P21>=$V$9:$Z$9)*$V$9:$Z$9)),L21-MIN($V$9,L21))) -> 0 | W21: =IF($B21="","",MIN($W$9,M21)+MIN(MAX(0,'Debt Payoff'!$D$24-SUM(Q21:V21)-SUMPRODUCT((M21:P21<$W$9:$Z$9)*M21:P21+(M21:P21>=$W$9:$Z$9)*$W$9:$Z$9)),M21-MIN($W$9,M21))) -> 0 | X21: =IF($B21="","",MIN($X$9,N21)+MIN(MAX(0,'Debt Payoff'!$D$24-SUM(Q21:W21)-SUMPRODUCT((N21:P21<$X$9:$Z$9)*N21:P21+(N21:P21>=$X$9:$Z$9)*$X$9:$Z$9)),N21-MIN($X$9,N21))) -> 0 | Y21: =IF($B21="","",MIN($Y$9,O21)+MIN(MAX(0,'Debt Payoff'!$D$24-SUM(Q21:X21)-SUMPRODUCT((O21:P21<$Y$9:$Z$9)*O21:P21+(O21:P21>=$Y$9:$Z$9)*$Y$9:$Z$9)),O21-MIN($Y$9,O21))) -> 0 | Z21: =IF($B21="","",MIN($Z$9,P21)+MIN(MAX(0,'Debt Payoff'!$D$24-SUM(Q21:Y21)-SUMPRODUCT((P21:P21<$Z$9:$Z$9)*P21:P21+(P21:P21>=$Z$9:$Z$9)*$Z$9:$Z$9)),P21-MIN($Z$9,P21))) -> 0 | AA21: =IF($B21="","",ROUND(G21-Q21,2)) -> 0 | AB21: =IF($B21="","",ROUND(H21-R21,2)) -> 0 | AC21: =IF($B21="","",ROUND(I21-S21,2)) -> 0 | AD21: =IF($B21="","",ROUND(J21-T21,2)) -> 0 | AE21: =IF($B21="","",ROUND(K21-U21,2)) -> 0 | AF21: =IF($B21="","",ROUND(L21-V21,2)) -> 0 | AG21: =IF($B21="","",ROUND(M21-W21,2)) -> 0 | AH21: =IF($B21="","",ROUND(N21-X21,2)) -> 0 | ... AJ21: =IF($B21="","",ROUND(P21-Z21,2)) -> 0
B22: =IF(B21="","",IF(F21>0.005,B21+1,"")) -> 0 | C22: =IF($B22="","",EDATE('Debt Payoff'!$D$23,$B22-1)) -> 0 | D22: =IF($B22="","",SUM(Q22:Z22)) -> 0 | E22: =IF($B22="","",SUM(G22:P22)-F21) -> 0 | F22: =IF($B22="","",SUM(AA22:AJ22)) -> 0 | G22: =IF($B22="","",ROUND(N(AA21)*(1+$Q$8/12),2)) -> 0 | H22: =IF($B22="","",ROUND(N(AB21)*(1+$R$8/12),2)) -> 0 | I22: =IF($B22="","",ROUND(N(AC21)*(1+$S$8/12),2)) -> 0 | J22: =IF($B22="","",ROUND(N(AD21)*(1+$T$8/12),2)) -> 0 | K22: =IF($B22="","",ROUND(N(AE21)*(1+$U$8/12),2)) -> 0 | L22: =IF($B22="","",ROUND(N(AF21)*(1+$V$8/12),2)) -> 0 | M22: =IF($B22="","",ROUND(N(AG21)*(1+$W$8/12),2)) -> 0 | N22: =IF($B22="","",ROUND(N(AH21)*(1+$X$8/12),2)) -> 0 | O22: =IF($B22="","",ROUND(N(AI21)*(1+$Y$8/12),2)) -> 0 | P22: =IF($B22="","",ROUND(N(AJ21)*(1+$Z$8/12),2)) -> 0 | Q22: =IF($B22="","",MIN($Q$9,G22)+MIN(MAX(0,'Debt Payoff'!$D$24-0-SUMPRODUCT((G22:P22<$Q$9:$Z$9)*G22:P22+(G22:P22>=$Q$9:$Z$9)*$Q$9:$Z$9)),G22-MIN($Q$9,G22))) -> 0 | R22: =IF($B22="","",MIN($R$9,H22)+MIN(MAX(0,'Debt Payoff'!$D$24-SUM(Q22:Q22)-SUMPRODUCT((H22:P22<$R$9:$Z$9)*H22:P22+(H22:P22>=$R$9:$Z$9)*$R$9:$Z$9)),H22-MIN($R$9,H22))) -> 0 | S22: =IF($B22="","",MIN($S$9,I22)+MIN(MAX(0,'Debt Payoff'!$D$24-SUM(Q22:R22)-SUMPRODUCT((I22:P22<$S$9:$Z$9)*I22:P22+(I22:P22>=$S$9:$Z$9)*$S$9:$Z$9)),I22-MIN($S$9,I22))) -> 0 | T22: =IF($B22="","",MIN($T$9,J22)+MIN(MAX(0,'Debt Payoff'!$D$24-SUM(Q22:S22)-SUMPRODUCT((J22:P22<$T$9:$Z$9)*J22:P22+(J22:P22>=$T$9:$Z$9)*$T$9:$Z$9)),J22-MIN($T$9,J22))) -> 0 | U22: =IF($B22="","",MIN($U$9,K22)+MIN(MAX(0,'Debt Payoff'!$D$24-SUM(Q22:T22)-SUMPRODUCT((K22:P22<$U$9:$Z$9)*K22:P22+(K22:P22>=$U$9:$Z$9)*$U$9:$Z$9)),K22-MIN($U$9,K22))) -> 0 | V22: =IF($B22="","",MIN($V$9,L22)+MIN(MAX(0,'Debt Payoff'!$D$24-SUM(Q22:U22)-SUMPRODUCT((L22:P22<$V$9:$Z$9)*L22:P22+(L22:P22>=$V$9:$Z$9)*$V$9:$Z$9)),L22-MIN($V$9,L22))) -> 0 | W22: =IF($B22="","",MIN($W$9,M22)+MIN(MAX(0,'Debt Payoff'!$D$24-SUM(Q22:V22)-SUMPRODUCT((M22:P22<$W$9:$Z$9)*M22:P22+(M22:P22>=$W$9:$Z$9)*$W$9:$Z$9)),M22-MIN($W$9,M22))) -> 0 | X22: =IF($B22="","",MIN($X$9,N22)+MIN(MAX(0,'Debt Payoff'!$D$24-SUM(Q22:W22)-SUMPRODUCT((N22:P22<$X$9:$Z$9)*N22:P22+(N22:P22>=$X$9:$Z$9)*$X$9:$Z$9)),N22-MIN($X$9,N22))) -> 0 | Y22: =IF($B22="","",MIN($Y$9,O22)+MIN(MAX(0,'Debt Payoff'!$D$24-SUM(Q22:X22)-SUMPRODUCT((O22:P22<$Y$9:$Z$9)*O22:P22+(O22:P22>=$Y$9:$Z$9)*$Y$9:$Z$9)),O22-MIN($Y$9,O22))) -> 0 | Z22: =IF($B22="","",MIN($Z$9,P22)+MIN(MAX(0,'Debt Payoff'!$D$24-SUM(Q22:Y22)-SUMPRODUCT((P22:P22<$Z$9:$Z$9)*P22:P22+(P22:P22>=$Z$9:$Z$9)*$Z$9:$Z$9)),P22-MIN($Z$9,P22))) -> 0 | AA22: =IF($B22="","",ROUND(G22-Q22,2)) -> 0 | AB22: =IF($B22="","",ROUND(H22-R22,2)) -> 0 | AC22: =IF($B22="","",ROUND(I22-S22,2)) -> 0 | AD22: =IF($B22="","",ROUND(J22-T22,2)) -> 0 | AE22: =IF($B22="","",ROUND(K22-U22,2)) -> 0 | AF22: =IF($B22="","",ROUND(L22-V22,2)) -> 0 | AG22: =IF($B22="","",ROUND(M22-W22,2)) -> 0 | AH22: =IF($B22="","",ROUND(N22-X22,2)) -> 0 | ... AJ22: =IF($B22="","",ROUND(P22-Z22,2)) -> 0
B23: =IF(B22="","",IF(F22>0.005,B22+1,"")) -> 0 | C23: =IF($B23="","",EDATE('Debt Payoff'!$D$23,$B23-1)) -> 0 | D23: =IF($B23="","",SUM(Q23:Z23)) -> 0 | E23: =IF($B23="","",SUM(G23:P23)-F22) -> 0 | F23: =IF($B23="","",SUM(AA23:AJ23)) -> 0 | G23: =IF($B23="","",ROUND(N(AA22)*(1+$Q$8/12),2)) -> 0 | H23: =IF($B23="","",ROUND(N(AB22)*(1+$R$8/12),2)) -> 0 | I23: =IF($B23="","",ROUND(N(AC22)*(1+$S$8/12),2)) -> 0 | J23: =IF($B23="","",ROUND(N(AD22)*(1+$T$8/12),2)) -> 0 | K23: =IF($B23="","",ROUND(N(AE22)*(1+$U$8/12),2)) -> 0 | L23: =IF($B23="","",ROUND(N(AF22)*(1+$V$8/12),2)) -> 0 | M23: =IF($B23="","",ROUND(N(AG22)*(1+$W$8/12),2)) -> 0 | N23: =IF($B23="","",ROUND(N(AH22)*(1+$X$8/12),2)) -> 0 | O23: =IF($B23="","",ROUND(N(AI22)*(1+$Y$8/12),2)) -> 0 | P23: =IF($B23="","",ROUND(N(AJ22)*(1+$Z$8/12),2)) -> 0 | Q23: =IF($B23="","",MIN($Q$9,G23)+MIN(MAX(0,'Debt Payoff'!$D$24-0-SUMPRODUCT((G23:P23<$Q$9:$Z$9)*G23:P23+(G23:P23>=$Q$9:$Z$9)*$Q$9:$Z$9)),G23-MIN($Q$9,G23))) -> 0 | R23: =IF($B23="","",MIN($R$9,H23)+MIN(MAX(0,'Debt Payoff'!$D$24-SUM(Q23:Q23)-SUMPRODUCT((H23:P23<$R$9:$Z$9)*H23:P23+(H23:P23>=$R$9:$Z$9)*$R$9:$Z$9)),H23-MIN($R$9,H23))) -> 0 | S23: =IF($B23="","",MIN($S$9,I23)+MIN(MAX(0,'Debt Payoff'!$D$24-SUM(Q23:R23)-SUMPRODUCT((I23:P23<$S$9:$Z$9)*I23:P23+(I23:P23>=$S$9:$Z$9)*$S$9:$Z$9)),I23-MIN($S$9,I23))) -> 0 | T23: =IF($B23="","",MIN($T$9,J23)+MIN(MAX(0,'Debt Payoff'!$D$24-SUM(Q23:S23)-SUMPRODUCT((J23:P23<$T$9:$Z$9)*J23:P23+(J23:P23>=$T$9:$Z$9)*$T$9:$Z$9)),J23-MIN($T$9,J23))) -> 0 | U23: =IF($B23="","",MIN($U$9,K23)+MIN(MAX(0,'Debt Payoff'!$D$24-SUM(Q23:T23)-SUMPRODUCT((K23:P23<$U$9:$Z$9)*K23:P23+(K23:P23>=$U$9:$Z$9)*$U$9:$Z$9)),K23-MIN($U$9,K23))) -> 0 | V23: =IF($B23="","",MIN($V$9,L23)+MIN(MAX(0,'Debt Payoff'!$D$24-SUM(Q23:U23)-SUMPRODUCT((L23:P23<$V$9:$Z$9)*L23:P23+(L23:P23>=$V$9:$Z$9)*$V$9:$Z$9)),L23-MIN($V$9,L23))) -> 0 | W23: =IF($B23="","",MIN($W$9,M23)+MIN(MAX(0,'Debt Payoff'!$D$24-SUM(Q23:V23)-SUMPRODUCT((M23:P23<$W$9:$Z$9)*M23:P23+(M23:P23>=$W$9:$Z$9)*$W$9:$Z$9)),M23-MIN($W$9,M23))) -> 0 | X23: =IF($B23="","",MIN($X$9,N23)+MIN(MAX(0,'Debt Payoff'!$D$24-SUM(Q23:W23)-SUMPRODUCT((N23:P23<$X$9:$Z$9)*N23:P23+(N23:P23>=$X$9:$Z$9)*$X$9:$Z$9)),N23-MIN($X$9,N23))) -> 0 | Y23: =IF($B23="","",MIN($Y$9,O23)+MIN(MAX(0,'Debt Payoff'!$D$24-SUM(Q23:X23)-SUMPRODUCT((O23:P23<$Y$9:$Z$9)*O23:P23+(O23:P23>=$Y$9:$Z$9)*$Y$9:$Z$9)),O23-MIN($Y$9,O23))) -> 0 | Z23: =IF($B23="","",MIN($Z$9,P23)+MIN(MAX(0,'Debt Payoff'!$D$24-SUM(Q23:Y23)-SUMPRODUCT((P23:P23<$Z$9:$Z$9)*P23:P23+(P23:P23>=$Z$9:$Z$9)*$Z$9:$Z$9)),P23-MIN($Z$9,P23))) -> 0 | AA23: =IF($B23="","",ROUND(G23-Q23,2)) -> 0 | AB23: =IF($B23="","",ROUND(H23-R23,2)) -> 0 | AC23: =IF($B23="","",ROUND(I23-S23,2)) -> 0 | AD23: =IF($B23="","",ROUND(J23-T23,2)) -> 0 | AE23: =IF($B23="","",ROUND(K23-U23,2)) -> 0 | AF23: =IF($B23="","",ROUND(L23-V23,2)) -> 0 | AG23: =IF($B23="","",ROUND(M23-W23,2)) -> 0 | AH23: =IF($B23="","",ROUND(N23-X23,2)) -> 0 | ... AJ23: =IF($B23="","",ROUND(P23-Z23,2)) -> 0
B24: =IF(B23="","",IF(F23>0.005,B23+1,"")) -> 0 | C24: =IF($B24="","",EDATE('Debt Payoff'!$D$23,$B24-1)) -> 0 | D24: =IF($B24="","",SUM(Q24:Z24)) -> 0 | E24: =IF($B24="","",SUM(G24:P24)-F23) -> 0 | F24: =IF($B24="","",SUM(AA24:AJ24)) -> 0 | G24: =IF($B24="","",ROUND(N(AA23)*(1+$Q$8/12),2)) -> 0 | H24: =IF($B24="","",ROUND(N(AB23)*(1+$R$8/12),2)) -> 0 | I24: =IF($B24="","",ROUND(N(AC23)*(1+$S$8/12),2)) -> 0 | J24: =IF($B24="","",ROUND(N(AD23)*(1+$T$8/12),2)) -> 0 | K24: =IF($B24="","",ROUND(N(AE23)*(1+$U$8/12),2)) -> 0 | L24: =IF($B24="","",ROUND(N(AF23)*(1+$V$8/12),2)) -> 0 | M24: =IF($B24="","",ROUND(N(AG23)*(1+$W$8/12),2)) -> 0 | N24: =IF($B24="","",ROUND(N(AH23)*(1+$X$8/12),2)) -> 0 | O24: =IF($B24="","",ROUND(N(AI23)*(1+$Y$8/12),2)) -> 0 | P24: =IF($B24="","",ROUND(N(AJ23)*(1+$Z$8/12),2)) -> 0 | Q24: =IF($B24="","",MIN($Q$9,G24)+MIN(MAX(0,'Debt Payoff'!$D$24-0-SUMPRODUCT((G24:P24<$Q$9:$Z$9)*G24:P24+(G24:P24>=$Q$9:$Z$9)*$Q$9:$Z$9)),G24-MIN($Q$9,G24))) -> 0 | R24: =IF($B24="","",MIN($R$9,H24)+MIN(MAX(0,'Debt Payoff'!$D$24-SUM(Q24:Q24)-SUMPRODUCT((H24:P24<$R$9:$Z$9)*H24:P24+(H24:P24>=$R$9:$Z$9)*$R$9:$Z$9)),H24-MIN($R$9,H24))) -> 0 | S24: =IF($B24="","",MIN($S$9,I24)+MIN(MAX(0,'Debt Payoff'!$D$24-SUM(Q24:R24)-SUMPRODUCT((I24:P24<$S$9:$Z$9)*I24:P24+(I24:P24>=$S$9:$Z$9)*$S$9:$Z$9)),I24-MIN($S$9,I24))) -> 0 | T24: =IF($B24="","",MIN($T$9,J24)+MIN(MAX(0,'Debt Payoff'!$D$24-SUM(Q24:S24)-SUMPRODUCT((J24:P24<$T$9:$Z$9)*J24:P24+(J24:P24>=$T$9:$Z$9)*$T$9:$Z$9)),J24-MIN($T$9,J24))) -> 0 | U24: =IF($B24="","",MIN($U$9,K24)+MIN(MAX(0,'Debt Payoff'!$D$24-SUM(Q24:T24)-SUMPRODUCT((K24:P24<$U$9:$Z$9)*K24:P24+(K24:P24>=$U$9:$Z$9)*$U$9:$Z$9)),K24-MIN($U$9,K24))) -> 0 | V24: =IF($B24="","",MIN($V$9,L24)+MIN(MAX(0,'Debt Payoff'!$D$24-SUM(Q24:U24)-SUMPRODUCT((L24:P24<$V$9:$Z$9)*L24:P24+(L24:P24>=$V$9:$Z$9)*$V$9:$Z$9)),L24-MIN($V$9,L24))) -> 0 | W24: =IF($B24="","",MIN($W$9,M24)+MIN(MAX(0,'Debt Payoff'!$D$24-SUM(Q24:V24)-SUMPRODUCT((M24:P24<$W$9:$Z$9)*M24:P24+(M24:P24>=$W$9:$Z$9)*$W$9:$Z$9)),M24-MIN($W$9,M24))) -> 0 | X24: =IF($B24="","",MIN($X$9,N24)+MIN(MAX(0,'Debt Payoff'!$D$24-SUM(Q24:W24)-SUMPRODUCT((N24:P24<$X$9:$Z$9)*N24:P24+(N24:P24>=$X$9:$Z$9)*$X$9:$Z$9)),N24-MIN($X$9,N24))) -> 0 | Y24: =IF($B24="","",MIN($Y$9,O24)+MIN(MAX(0,'Debt Payoff'!$D$24-SUM(Q24:X24)-SUMPRODUCT((O24:P24<$Y$9:$Z$9)*O24:P24+(O24:P24>=$Y$9:$Z$9)*$Y$9:$Z$9)),O24-MIN($Y$9,O24))) -> 0 | Z24: =IF($B24="","",MIN($Z$9,P24)+MIN(MAX(0,'Debt Payoff'!$D$24-SUM(Q24:Y24)-SUMPRODUCT((P24:P24<$Z$9:$Z$9)*P24:P24+(P24:P24>=$Z$9:$Z$9)*$Z$9:$Z$9)),P24-MIN($Z$9,P24))) -> 0 | AA24: =IF($B24="","",ROUND(G24-Q24,2)) -> 0 | AB24: =IF($B24="","",ROUND(H24-R24,2)) -> 0 | AC24: =IF($B24="","",ROUND(I24-S24,2)) -> 0 | AD24: =IF($B24="","",ROUND(J24-T24,2)) -> 0 | AE24: =IF($B24="","",ROUND(K24-U24,2)) -> 0 | AF24: =IF($B24="","",ROUND(L24-V24,2)) -> 0 | AG24: =IF($B24="","",ROUND(M24-W24,2)) -> 0 | AH24: =IF($B24="","",ROUND(N24-X24,2)) -> 0 | ... AJ24: =IF($B24="","",ROUND(P24-Z24,2)) -> 0
B25: =IF(B24="","",IF(F24>0.005,B24+1,"")) -> 0 | C25: =IF($B25="","",EDATE('Debt Payoff'!$D$23,$B25-1)) -> 0 | D25: =IF($B25="","",SUM(Q25:Z25)) -> 0 | E25: =IF($B25="","",SUM(G25:P25)-F24) -> 0 | F25: =IF($B25="","",SUM(AA25:AJ25)) -> 0 | G25: =IF($B25="","",ROUND(N(AA24)*(1+$Q$8/12),2)) -> 0 | H25: =IF($B25="","",ROUND(N(AB24)*(1+$R$8/12),2)) -> 0 | I25: =IF($B25="","",ROUND(N(AC24)*(1+$S$8/12),2)) -> 0 | J25: =IF($B25="","",ROUND(N(AD24)*(1+$T$8/12),2)) -> 0 | K25: =IF($B25="","",ROUND(N(AE24)*(1+$U$8/12),2)) -> 0 | L25: =IF($B25="","",ROUND(N(AF24)*(1+$V$8/12),2)) -> 0 | M25: =IF($B25="","",ROUND(N(AG24)*(1+$W$8/12),2)) -> 0 | N25: =IF($B25="","",ROUND(N(AH24)*(1+$X$8/12),2)) -> 0 | O25: =IF($B25="","",ROUND(N(AI24)*(1+$Y$8/12),2)) -> 0 | P25: =IF($B25="","",ROUND(N(AJ24)*(1+$Z$8/12),2)) -> 0 | Q25: =IF($B25="","",MIN($Q$9,G25)+MIN(MAX(0,'Debt Payoff'!$D$24-0-SUMPRODUCT((G25:P25<$Q$9:$Z$9)*G25:P25+(G25:P25>=$Q$9:$Z$9)*$Q$9:$Z$9)),G25-MIN($Q$9,G25))) -> 0 | R25: =IF($B25="","",MIN($R$9,H25)+MIN(MAX(0,'Debt Payoff'!$D$24-SUM(Q25:Q25)-SUMPRODUCT((H25:P25<$R$9:$Z$9)*H25:P25+(H25:P25>=$R$9:$Z$9)*$R$9:$Z$9)),H25-MIN($R$9,H25))) -> 0 | S25: =IF($B25="","",MIN($S$9,I25)+MIN(MAX(0,'Debt Payoff'!$D$24-SUM(Q25:R25)-SUMPRODUCT((I25:P25<$S$9:$Z$9)*I25:P25+(I25:P25>=$S$9:$Z$9)*$S$9:$Z$9)),I25-MIN($S$9,I25))) -> 0 | T25: =IF($B25="","",MIN($T$9,J25)+MIN(MAX(0,'Debt Payoff'!$D$24-SUM(Q25:S25)-SUMPRODUCT((J25:P25<$T$9:$Z$9)*J25:P25+(J25:P25>=$T$9:$Z$9)*$T$9:$Z$9)),J25-MIN($T$9,J25))) -> 0 | U25: =IF($B25="","",MIN($U$9,K25)+MIN(MAX(0,'Debt Payoff'!$D$24-SUM(Q25:T25)-SUMPRODUCT((K25:P25<$U$9:$Z$9)*K25:P25+(K25:P25>=$U$9:$Z$9)*$U$9:$Z$9)),K25-MIN($U$9,K25))) -> 0 | V25: =IF($B25="","",MIN($V$9,L25)+MIN(MAX(0,'Debt Payoff'!$D$24-SUM(Q25:U25)-SUMPRODUCT((L25:P25<$V$9:$Z$9)*L25:P25+(L25:P25>=$V$9:$Z$9)*$V$9:$Z$9)),L25-MIN($V$9,L25))) -> 0 | W25: =IF($B25="","",MIN($W$9,M25)+MIN(MAX(0,'Debt Payoff'!$D$24-SUM(Q25:V25)-SUMPRODUCT((M25:P25<$W$9:$Z$9)*M25:P25+(M25:P25>=$W$9:$Z$9)*$W$9:$Z$9)),M25-MIN($W$9,M25))) -> 0 | X25: =IF($B25="","",MIN($X$9,N25)+MIN(MAX(0,'Debt Payoff'!$D$24-SUM(Q25:W25)-SUMPRODUCT((N25:P25<$X$9:$Z$9)*N25:P25+(N25:P25>=$X$9:$Z$9)*$X$9:$Z$9)),N25-MIN($X$9,N25))) -> 0 | Y25: =IF($B25="","",MIN($Y$9,O25)+MIN(MAX(0,'Debt Payoff'!$D$24-SUM(Q25:X25)-SUMPRODUCT((O25:P25<$Y$9:$Z$9)*O25:P25+(O25:P25>=$Y$9:$Z$9)*$Y$9:$Z$9)),O25-MIN($Y$9,O25))) -> 0 | Z25: =IF($B25="","",MIN($Z$9,P25)+MIN(MAX(0,'Debt Payoff'!$D$24-SUM(Q25:Y25)-SUMPRODUCT((P25:P25<$Z$9:$Z$9)*P25:P25+(P25:P25>=$Z$9:$Z$9)*$Z$9:$Z$9)),P25-MIN($Z$9,P25))) -> 0 | AA25: =IF($B25="","",ROUND(G25-Q25,2)) -> 0 | AB25: =IF($B25="","",ROUND(H25-R25,2)) -> 0 | AC25: =IF($B25="","",ROUND(I25-S25,2)) -> 0 | AD25: =IF($B25="","",ROUND(J25-T25,2)) -> 0 | AE25: =IF($B25="","",ROUND(K25-U25,2)) -> 0 | AF25: =IF($B25="","",ROUND(L25-V25,2)) -> 0 | AG25: =IF($B25="","",ROUND(M25-W25,2)) -> 0 | AH25: =IF($B25="","",ROUND(N25-X25,2)) -> 0 | ... AJ25: =IF($B25="","",ROUND(P25-Z25,2)) -> 0
B26: =IF(B25="","",IF(F25>0.005,B25+1,"")) -> 0 | C26: =IF($B26="","",EDATE('Debt Payoff'!$D$23,$B26-1)) -> 0 | D26: =IF($B26="","",SUM(Q26:Z26)) -> 0 | E26: =IF($B26="","",SUM(G26:P26)-F25) -> 0 | F26: =IF($B26="","",SUM(AA26:AJ26)) -> 0 | G26: =IF($B26="","",ROUND(N(AA25)*(1+$Q$8/12),2)) -> 0 | H26: =IF($B26="","",ROUND(N(AB25)*(1+$R$8/12),2)) -> 0 | I26: =IF($B26="","",ROUND(N(AC25)*(1+$S$8/12),2)) -> 0 | J26: =IF($B26="","",ROUND(N(AD25)*(1+$T$8/12),2)) -> 0 | K26: =IF($B26="","",ROUND(N(AE25)*(1+$U$8/12),2)) -> 0 | L26: =IF($B26="","",ROUND(N(AF25)*(1+$V$8/12),2)) -> 0 | M26: =IF($B26="","",ROUND(N(AG25)*(1+$W$8/12),2)) -> 0 | N26: =IF($B26="","",ROUND(N(AH25)*(1+$X$8/12),2)) -> 0 | O26: =IF($B26="","",ROUND(N(AI25)*(1+$Y$8/12),2)) -> 0 | P26: =IF($B26="","",ROUND(N(AJ25)*(1+$Z$8/12),2)) -> 0 | Q26: =IF($B26="","",MIN($Q$9,G26)+MIN(MAX(0,'Debt Payoff'!$D$24-0-SUMPRODUCT((G26:P26<$Q$9:$Z$9)*G26:P26+(G26:P26>=$Q$9:$Z$9)*$Q$9:$Z$9)),G26-MIN($Q$9,G26))) -> 0 | R26: =IF($B26="","",MIN($R$9,H26)+MIN(MAX(0,'Debt Payoff'!$D$24-SUM(Q26:Q26)-SUMPRODUCT((H26:P26<$R$9:$Z$9)*H26:P26+(H26:P26>=$R$9:$Z$9)*$R$9:$Z$9)),H26-MIN($R$9,H26))) -> 0 | S26: =IF($B26="","",MIN($S$9,I26)+MIN(MAX(0,'Debt Payoff'!$D$24-SUM(Q26:R26)-SUMPRODUCT((I26:P26<$S$9:$Z$9)*I26:P26+(I26:P26>=$S$9:$Z$9)*$S$9:$Z$9)),I26-MIN($S$9,I26))) -> 0 | T26: =IF($B26="","",MIN($T$9,J26)+MIN(MAX(0,'Debt Payoff'!$D$24-SUM(Q26:S26)-SUMPRODUCT((J26:P26<$T$9:$Z$9)*J26:P26+(J26:P26>=$T$9:$Z$9)*$T$9:$Z$9)),J26-MIN($T$9,J26))) -> 0 | U26: =IF($B26="","",MIN($U$9,K26)+MIN(MAX(0,'Debt Payoff'!$D$24-SUM(Q26:T26)-SUMPRODUCT((K26:P26<$U$9:$Z$9)*K26:P26+(K26:P26>=$U$9:$Z$9)*$U$9:$Z$9)),K26-MIN($U$9,K26))) -> 0 | V26: =IF($B26="","",MIN($V$9,L26)+MIN(MAX(0,'Debt Payoff'!$D$24-SUM(Q26:U26)-SUMPRODUCT((L26:P26<$V$9:$Z$9)*L26:P26+(L26:P26>=$V$9:$Z$9)*$V$9:$Z$9)),L26-MIN($V$9,L26))) -> 0 | W26: =IF($B26="","",MIN($W$9,M26)+MIN(MAX(0,'Debt Payoff'!$D$24-SUM(Q26:V26)-SUMPRODUCT((M26:P26<$W$9:$Z$9)*M26:P26+(M26:P26>=$W$9:$Z$9)*$W$9:$Z$9)),M26-MIN($W$9,M26))) -> 0 | X26: =IF($B26="","",MIN($X$9,N26)+MIN(MAX(0,'Debt Payoff'!$D$24-SUM(Q26:W26)-SUMPRODUCT((N26:P26<$X$9:$Z$9)*N26:P26+(N26:P26>=$X$9:$Z$9)*$X$9:$Z$9)),N26-MIN($X$9,N26))) -> 0 | Y26: =IF($B26="","",MIN($Y$9,O26)+MIN(MAX(0,'Debt Payoff'!$D$24-SUM(Q26:X26)-SUMPRODUCT((O26:P26<$Y$9:$Z$9)*O26:P26+(O26:P26>=$Y$9:$Z$9)*$Y$9:$Z$9)),O26-MIN($Y$9,O26))) -> 0 | Z26: =IF($B26="","",MIN($Z$9,P26)+MIN(MAX(0,'Debt Payoff'!$D$24-SUM(Q26:Y26)-SUMPRODUCT((P26:P26<$Z$9:$Z$9)*P26:P26+(P26:P26>=$Z$9:$Z$9)*$Z$9:$Z$9)),P26-MIN($Z$9,P26))) -> 0 | AA26: =IF($B26="","",ROUND(G26-Q26,2)) -> 0 | AB26: =IF($B26="","",ROUND(H26-R26,2)) -> 0 | AC26: =IF($B26="","",ROUND(I26-S26,2)) -> 0 | AD26: =IF($B26="","",ROUND(J26-T26,2)) -> 0 | AE26: =IF($B26="","",ROUND(K26-U26,2)) -> 0 | AF26: =IF($B26="","",ROUND(L26-V26,2)) -> 0 | AG26: =IF($B26="","",ROUND(M26-W26,2)) -> 0 | AH26: =IF($B26="","",ROUND(N26-X26,2)) -> 0 | ... AJ26: =IF($B26="","",ROUND(P26-Z26,2)) -> 0
... B373: =IF(B372="","",IF(F372>0.005,B372+1,"")) -> 0 | C373: =IF($B373="","",EDATE('Debt Payoff'!$D$23,$B373-1)) -> 0 | D373: =IF($B373="","",SUM(Q373:Z373)) -> 0 | E373: =IF($B373="","",SUM(G373:P373)-F372) -> 0 | F373: =IF($B373="","",SUM(AA373:AJ373)) -> 0 | G373: =IF($B373="","",ROUND(N(AA372)*(1+$Q$8/12),2)) -> 0 | H373: =IF($B373="","",ROUND(N(AB372)*(1+$R$8/12),2)) -> 0 | I373: =IF($B373="","",ROUND(N(AC372)*(1+$S$8/12),2)) -> 0 | J373: =IF($B373="","",ROUND(N(AD372)*(1+$T$8/12),2)) -> 0 | K373: =IF($B373="","",ROUND(N(AE372)*(1+$U$8/12),2)) -> 0 | L373: =IF($B373="","",ROUND(N(AF372)*(1+$V$8/12),2)) -> 0 | M373: =IF($B373="","",ROUND(N(AG372)*(1+$W$8/12),2)) -> 0 | N373: =IF($B373="","",ROUND(N(AH372)*(1+$X$8/12),2)) -> 0 | O373: =IF($B373="","",ROUND(N(AI372)*(1+$Y$8/12),2)) -> 0 | P373: =IF($B373="","",ROUND(N(AJ372)*(1+$Z$8/12),2)) -> 0 | Q373: =IF($B373="","",MIN($Q$9,G373)+MIN(MAX(0,'Debt Payoff'!$D$24-0-SUMPRODUCT((G373:P373<$Q$9:$Z$9)*G373:P373+(G373:P373>=$Q$9:$Z$9)*$Q$9:$Z$9)),G373-MIN($Q$9,G373))) -> 0 | R373: =IF($B373="","",MIN($R$9,H373)+MIN(MAX(0,'Debt Payoff'!$D$24-SUM(Q373:Q373)-SUMPRODUCT((H373:P373<$R$9:$Z$9)*H373:P373+(H373:P373>=$R$9:$Z$9)*$R$9:$Z$9)),H373-MIN($R$9,H373))) -> 0 | S373: =IF($B373="","",MIN($S$9,I373)+MIN(MAX(0,'Debt Payoff'!$D$24-SUM(Q373:R373)-SUMPRODUCT((I373:P373<$S$9:$Z$9)*I373:P373+(I373:P373>=$S$9:$Z$9)*$S$9:$Z$9)),I373-MIN($S$9,I373))) -> 0 | T373: =IF($B373="","",MIN($T$9,J373)+MIN(MAX(0,'Debt Payoff'!$D$24-SUM(Q373:S373)-SUMPRODUCT((J373:P373<$T$9:$Z$9)*J373:P373+(J373:P373>=$T$9:$Z$9)*$T$9:$Z$9)),J373-MIN($T$9,J373))) -> 0 | U373: =IF($B373="","",MIN($U$9,K373)+MIN(MAX(0,'Debt Payoff'!$D$24-SUM(Q373:T373)-SUMPRODUCT((K373:P373<$U$9:$Z$9)*K373:P373+(K373:P373>=$U$9:$Z$9)*$U$9:$Z$9)),K373-MIN($U$9,K373))) -> 0 | V373: =IF($B373="","",MIN($V$9,L373)+MIN(MAX(0,'Debt Payoff'!$D$24-SUM(Q373:U373)-SUMPRODUCT((L373:P373<$V$9:$Z$9)*L373:P373+(L373:P373>=$V$9:$Z$9)*$V$9:$Z$9)),L373-MIN($V$9,L373))) -> 0 | W373: =IF($B373="","",MIN($W$9,M373)+MIN(MAX(0,'Debt Payoff'!$D$24-SUM(Q373:V373)-SUMPRODUCT((M373:P373<$W$9:$Z$9)*M373:P373+(M373:P373>=$W$9:$Z$9)*$W$9:$Z$9)),M373-MIN($W$9,M373))) -> 0 | X373: =IF($B373="","",MIN($X$9,N373)+MIN(MAX(0,'Debt Payoff'!$D$24-SUM(Q373:W373)-SUMPRODUCT((N373:P373<$X$9:$Z$9)*N373:P373+(N373:P373>=$X$9:$Z$9)*$X$9:$Z$9)),N373-MIN($X$9,N373))) -> 0 | Y373: =IF($B373="","",MIN($Y$9,O373)+MIN(MAX(0,'Debt Payoff'!$D$24-SUM(Q373:X373)-SUMPRODUCT((O373:P373<$Y$9:$Z$9)*O373:P373+(O373:P373>=$Y$9:$Z$9)*$Y$9:$Z$9)),O373-MIN($Y$9,O373))) -> 0 | Z373: =IF($B373="","",MIN($Z$9,P373)+MIN(MAX(0,'Debt Payoff'!$D$24-SUM(Q373:Y373)-SUMPRODUCT((P373:P373<$Z$9:$Z$9)*P373:P373+(P373:P373>=$Z$9:$Z$9)*$Z$9:$Z$9)),P373-MIN($Z$9,P373))) -> 0 | AA373: =IF($B373="","",ROUND(G373-Q373,2)) -> 0 | AB373: =IF($B373="","",ROUND(H373-R373,2)) -> 0 | AC373: =IF($B373="","",ROUND(I373-S373,2)) -> 0 | AD373: =IF($B373="","",ROUND(J373-T373,2)) -> 0 | AE373: =IF($B373="","",ROUND(K373-U373,2)) -> 0 | AF373: =IF($B373="","",ROUND(L373-V373,2)) -> 0 | AG373: =IF($B373="","",ROUND(M373-W373,2)) -> 0 | AH373: =IF($B373="","",ROUND(N373-X373,2)) -> 0 | ... AJ373: =IF($B373="","",ROUND(P373-Z373,2)) -> 0

Sheet Avalanche
B2: Avalanche — month by month
B3: Highest interest rate first. Every freed-up minimum rolls into the next debt. Nothing to type here.
P5: Order | Q5: 1 | R5: 2 | S5: 3 | T5: 4 | U5: 5 | V5: 6 | W5: 7 | X5: 8 | Y5: 9 | Z5: 10
P6: Debt # | Q6: =IFERROR(MATCH(Q5,'Debt Payoff'!$G$10:$G$19,0),"") -> 0 | R6: =IFERROR(MATCH(R5,'Debt Payoff'!$G$10:$G$19,0),"") -> 0 | S6: =IFERROR(MATCH(S5,'Debt Payoff'!$G$10:$G$19,0),"") -> 0 | T6: =IFERROR(MATCH(T5,'Debt Payoff'!$G$10:$G$19,0),"") -> 0 | U6: =IFERROR(MATCH(U5,'Debt Payoff'!$G$10:$G$19,0),"") -> 0 | V6: =IFERROR(MATCH(V5,'Debt Payoff'!$G$10:$G$19,0),"") -> 0 | W6: =IFERROR(MATCH(W5,'Debt Payoff'!$G$10:$G$19,0),"") -> 0 | X6: =IFERROR(MATCH(X5,'Debt Payoff'!$G$10:$G$19,0),"") -> 0 | ... Z6: =IFERROR(MATCH(Z5,'Debt Payoff'!$G$10:$G$19,0),"") -> 0
P7: Debt | Q7: =IF(Q6="","",INDEX('Debt Payoff'!$B$10:$B$19,Q6)) -> 0 | R7: =IF(R6="","",INDEX('Debt Payoff'!$B$10:$B$19,R6)) -> 0 | S7: =IF(S6="","",INDEX('Debt Payoff'!$B$10:$B$19,S6)) -> 0 | T7: =IF(T6="","",INDEX('Debt Payoff'!$B$10:$B$19,T6)) -> 0 | U7: =IF(U6="","",INDEX('Debt Payoff'!$B$10:$B$19,U6)) -> 0 | V7: =IF(V6="","",INDEX('Debt Payoff'!$B$10:$B$19,V6)) -> 0 | W7: =IF(W6="","",INDEX('Debt Payoff'!$B$10:$B$19,W6)) -> 0 | X7: =IF(X6="","",INDEX('Debt Payoff'!$B$10:$B$19,X6)) -> 0 | ... Z7: =IF(Z6="","",INDEX('Debt Payoff'!$B$10:$B$19,Z6)) -> 0
P8: APR | Q8: =IF(Q6="",0,N(INDEX('Debt Payoff'!$D$10:$D$19,Q6))) -> 0 | R8: =IF(R6="",0,N(INDEX('Debt Payoff'!$D$10:$D$19,R6))) -> 0 | S8: =IF(S6="",0,N(INDEX('Debt Payoff'!$D$10:$D$19,S6))) -> 0 | T8: =IF(T6="",0,N(INDEX('Debt Payoff'!$D$10:$D$19,T6))) -> 0 | U8: =IF(U6="",0,N(INDEX('Debt Payoff'!$D$10:$D$19,U6))) -> 0 | V8: =IF(V6="",0,N(INDEX('Debt Payoff'!$D$10:$D$19,V6))) -> 0 | W8: =IF(W6="",0,N(INDEX('Debt Payoff'!$D$10:$D$19,W6))) -> 0 | X8: =IF(X6="",0,N(INDEX('Debt Payoff'!$D$10:$D$19,X6))) -> 0 | ... Z8: =IF(Z6="",0,N(INDEX('Debt Payoff'!$D$10:$D$19,Z6))) -> 0
P9: Minimum | Q9: =IF(Q6="",0,N(INDEX('Debt Payoff'!$E$10:$E$19,Q6))) -> 0 | R9: =IF(R6="",0,N(INDEX('Debt Payoff'!$E$10:$E$19,R6))) -> 0 | S9: =IF(S6="",0,N(INDEX('Debt Payoff'!$E$10:$E$19,S6))) -> 0 | T9: =IF(T6="",0,N(INDEX('Debt Payoff'!$E$10:$E$19,T6))) -> 0 | U9: =IF(U6="",0,N(INDEX('Debt Payoff'!$E$10:$E$19,U6))) -> 0 | V9: =IF(V6="",0,N(INDEX('Debt Payoff'!$E$10:$E$19,V6))) -> 0 | W9: =IF(W6="",0,N(INDEX('Debt Payoff'!$E$10:$E$19,W6))) -> 0 | X9: =IF(X6="",0,N(INDEX('Debt Payoff'!$E$10:$E$19,X6))) -> 0 | ... Z9: =IF(Z6="",0,N(INDEX('Debt Payoff'!$E$10:$E$19,Z6))) -> 0
P10: Start balance | Q10: =IF(Q6="",0,N(INDEX('Debt Payoff'!$C$10:$C$19,Q6))) -> 0 | R10: =IF(R6="",0,N(INDEX('Debt Payoff'!$C$10:$C$19,R6))) -> 0 | S10: =IF(S6="",0,N(INDEX('Debt Payoff'!$C$10:$C$19,S6))) -> 0 | T10: =IF(T6="",0,N(INDEX('Debt Payoff'!$C$10:$C$19,T6))) -> 0 | U10: =IF(U6="",0,N(INDEX('Debt Payoff'!$C$10:$C$19,U6))) -> 0 | V10: =IF(V6="",0,N(INDEX('Debt Payoff'!$C$10:$C$19,V6))) -> 0 | W10: =IF(W6="",0,N(INDEX('Debt Payoff'!$C$10:$C$19,W6))) -> 0 | X10: =IF(X6="",0,N(INDEX('Debt Payoff'!$C$10:$C$19,X6))) -> 0 | ... Z10: =IF(Z6="",0,N(INDEX('Debt Payoff'!$C$10:$C$19,Z6))) -> 0
P11: Paid off in month | Q11: =IF(Q7="","",COUNTIF($AA$14:$AA$373,">0.005")+1) -> 0 | R11: =IF(R7="","",COUNTIF($AB$14:$AB$373,">0.005")+1) -> 0 | S11: =IF(S7="","",COUNTIF($AC$14:$AC$373,">0.005")+1) -> 0 | T11: =IF(T7="","",COUNTIF($AD$14:$AD$373,">0.005")+1) -> 0 | U11: =IF(U7="","",COUNTIF($AE$14:$AE$373,">0.005")+1) -> 0 | V11: =IF(V7="","",COUNTIF($AF$14:$AF$373,">0.005")+1) -> 0 | W11: =IF(W7="","",COUNTIF($AG$14:$AG$373,">0.005")+1) -> 0 | X11: =IF(X7="","",COUNTIF($AH$14:$AH$373,">0.005")+1) -> 0 | Y11: =IF(Y7="","",COUNTIF($AI$14:$AI$373,">0.005")+1) -> 0 | Z11: =IF(Z7="","",COUNTIF($AJ$14:$AJ$373,">0.005")+1) -> 0
B13: Month | C13: Date | D13: Paid | E13: Interest | F13: Total balance | G13: ="Owed "&Q5 -> 0 | H13: ="Owed "&R5 -> 0 | I13: ="Owed "&S5 -> 0 | J13: ="Owed "&T5 -> 0 | K13: ="Owed "&U5 -> 0 | L13: ="Owed "&V5 -> 0 | M13: ="Owed "&W5 -> 0 | N13: ="Owed "&X5 -> 0 | ... P13: ="Owed "&Z5 -> 0 | Q13: =IF(Q7="","Pay "&Q5,Q7) -> 0 | R13: =IF(R7="","Pay "&R5,R7) -> 0 | S13: =IF(S7="","Pay "&S5,S7) -> 0 | T13: =IF(T7="","Pay "&T5,T7) -> 0 | U13: =IF(U7="","Pay "&U5,U7) -> 0 | V13: =IF(V7="","Pay "&V5,V7) -> 0 | W13: =IF(W7="","Pay "&W5,W7) -> 0 | X13: =IF(X7="","Pay "&X5,X7) -> 0 | ... Z13: =IF(Z7="","Pay "&Z5,Z7) -> 0 | AA13: =IF(Q7="","Bal "&Q5,Q7&" bal.") -> 0 | AB13: =IF(R7="","Bal "&R5,R7&" bal.") -> 0 | AC13: =IF(S7="","Bal "&S5,S7&" bal.") -> 0 | AD13: =IF(T7="","Bal "&T5,T7&" bal.") -> 0 | AE13: =IF(U7="","Bal "&U5,U7&" bal.") -> 0 | AF13: =IF(V7="","Bal "&V5,V7&" bal.") -> 0 | AG13: =IF(W7="","Bal "&W5,W7&" bal.") -> 0 | AH13: =IF(X7="","Bal "&X5,X7&" bal.") -> 0 | ... AJ13: =IF(Z7="","Bal "&Z5,Z7&" bal.") -> 0
