Workbook

Sheet Mortgage Calculator
B2: Mortgage Calculator
B3: Your full monthly payment — principal, interest, taxes, insurance, PMI and HOA — plus a month-by-month schedule.
B5: HOME & LOAN | G5: MONTHLY PAYMENT | K5: LOAN AMOUNT | M5: TOTAL INTEREST
B6: Home price | D6: 425000 | G6: =$D$28 -> None | K6: =$D$21 -> None | M6: =$D$32 -> None
B7: Down payment (%) | D7: 0.1
B8: Interest rate (annual) | D8: 0.0675 | G8: Payment breakdown
B9: Loan term (years) | D9: 30 | E9: 30, 20, 15 …
B10: First payment date | D10: 46419
B12: MONTHLY EXTRAS
B13: Property tax (% of price / yr) | D13: 0.011
B14: Home insurance ($ / yr) | D14: 1800
B15: PMI rate (% of loan / yr) | D15: 0.006 | E15: only charged under 20% down
B16: HOA dues ($ / month) | D16: 0
B17: Extra principal ($ / month) | D17: 0 | E17: optional
B19: RESULTS
B20: Down payment | D20: =$D$6*$D$7 -> None
B21: Loan amount | D21: =$D$6-$D$20 -> None
B22: Number of payments | D22: =$D$9*12 -> None
B23: Principal & interest | D23: =ROUND(PMT($D$8/12,$D$22,-$D$21),2) -> None
B24: Property tax | D24: =ROUND($D$6*$D$13/12,2) -> None
B25: Home insurance | D25: =ROUND($D$14/12,2) -> None
B26: PMI (first month) | D26: =IF($D$7<0.2,ROUND($D$21*$D$15/12,2),0) -> None
B27: HOA | D27: =$D$16 -> None
B28: Total monthly payment | D28: =$D$23+$D$24+$D$25+$D$26+$D$27+$D$17 -> None
B30: Payments until paid off | D30: =COUNT(Schedule!$B$6:$B$1565) -> None
B31: Payoff date | D31: =IF($D$30=0,"",INDEX(Schedule!$C$6:$C$1565,$D$30)) -> None
B32: Total interest | D32: =SUM(Schedule!$I$6:$I$1565) -> None
B33: Total PMI paid | D33: =SUM(Schedule!$M$6:$M$1565) -> None
B34: PMI ends after payment # | D34: =IF($D$33=0,"–",COUNTIF(Schedule!$M$6:$M$1565,">0")) -> None
B35: Total cost (price + interest + PMI) | D35: =$D$6+$D$32+$D$33 -> None
B37: BY LOAN YEAR
B38: Year | C38: Principal | D38: Interest | E38: Balance
B39: 1 | C39: =IF(B39>MAX(Schedule!$D$6:$D$1565),"",SUMIFS(Schedule!$J$6:$J$1565,Schedule!$D$6:$D$1565,B39)) -> 0 | D39: =IF(B39>MAX(Schedule!$D$6:$D$1565),"",SUMIFS(Schedule!$I$6:$I$1565,Schedule!$D$6:$D$1565,B39)) -> 0 | E39: =IF(B39>MAX(Schedule!$D$6:$D$1565),"",$D$21-SUMIFS(Schedule!$J$6:$J$1565,Schedule!$D$6:$D$1565,"<="&B39)) -> 0
B40: 2 | C40: =IF(B40>MAX(Schedule!$D$6:$D$1565),"",SUMIFS(Schedule!$J$6:$J$1565,Schedule!$D$6:$D$1565,B40)) -> 0 | D40: =IF(B40>MAX(Schedule!$D$6:$D$1565),"",SUMIFS(Schedule!$I$6:$I$1565,Schedule!$D$6:$D$1565,B40)) -> 0 | E40: =IF(B40>MAX(Schedule!$D$6:$D$1565),"",$D$21-SUMIFS(Schedule!$J$6:$J$1565,Schedule!$D$6:$D$1565,"<="&B40)) -> 0
B41: 3 | C41: =IF(B41>MAX(Schedule!$D$6:$D$1565),"",SUMIFS(Schedule!$J$6:$J$1565,Schedule!$D$6:$D$1565,B41)) -> 0 | D41: =IF(B41>MAX(Schedule!$D$6:$D$1565),"",SUMIFS(Schedule!$I$6:$I$1565,Schedule!$D$6:$D$1565,B41)) -> 0 | E41: =IF(B41>MAX(Schedule!$D$6:$D$1565),"",$D$21-SUMIFS(Schedule!$J$6:$J$1565,Schedule!$D$6:$D$1565,"<="&B41)) -> 0
B42: 4 | C42: =IF(B42>MAX(Schedule!$D$6:$D$1565),"",SUMIFS(Schedule!$J$6:$J$1565,Schedule!$D$6:$D$1565,B42)) -> 0 | D42: =IF(B42>MAX(Schedule!$D$6:$D$1565),"",SUMIFS(Schedule!$I$6:$I$1565,Schedule!$D$6:$D$1565,B42)) -> 0 | E42: =IF(B42>MAX(Schedule!$D$6:$D$1565),"",$D$21-SUMIFS(Schedule!$J$6:$J$1565,Schedule!$D$6:$D$1565,"<="&B42)) -> 0
B43: 5 | C43: =IF(B43>MAX(Schedule!$D$6:$D$1565),"",SUMIFS(Schedule!$J$6:$J$1565,Schedule!$D$6:$D$1565,B43)) -> 0 | D43: =IF(B43>MAX(Schedule!$D$6:$D$1565),"",SUMIFS(Schedule!$I$6:$I$1565,Schedule!$D$6:$D$1565,B43)) -> 0 | E43: =IF(B43>MAX(Schedule!$D$6:$D$1565),"",$D$21-SUMIFS(Schedule!$J$6:$J$1565,Schedule!$D$6:$D$1565,"<="&B43)) -> 0
B44: 6 | C44: =IF(B44>MAX(Schedule!$D$6:$D$1565),"",SUMIFS(Schedule!$J$6:$J$1565,Schedule!$D$6:$D$1565,B44)) -> 0 | D44: =IF(B44>MAX(Schedule!$D$6:$D$1565),"",SUMIFS(Schedule!$I$6:$I$1565,Schedule!$D$6:$D$1565,B44)) -> 0 | E44: =IF(B44>MAX(Schedule!$D$6:$D$1565),"",$D$21-SUMIFS(Schedule!$J$6:$J$1565,Schedule!$D$6:$D$1565,"<="&B44)) -> 0
B45: 7 | C45: =IF(B45>MAX(Schedule!$D$6:$D$1565),"",SUMIFS(Schedule!$J$6:$J$1565,Schedule!$D$6:$D$1565,B45)) -> 0 | D45: =IF(B45>MAX(Schedule!$D$6:$D$1565),"",SUMIFS(Schedule!$I$6:$I$1565,Schedule!$D$6:$D$1565,B45)) -> 0 | E45: =IF(B45>MAX(Schedule!$D$6:$D$1565),"",$D$21-SUMIFS(Schedule!$J$6:$J$1565,Schedule!$D$6:$D$1565,"<="&B45)) -> 0
B46: 8 | C46: =IF(B46>MAX(Schedule!$D$6:$D$1565),"",SUMIFS(Schedule!$J$6:$J$1565,Schedule!$D$6:$D$1565,B46)) -> 0 | D46: =IF(B46>MAX(Schedule!$D$6:$D$1565),"",SUMIFS(Schedule!$I$6:$I$1565,Schedule!$D$6:$D$1565,B46)) -> 0 | E46: =IF(B46>MAX(Schedule!$D$6:$D$1565),"",$D$21-SUMIFS(Schedule!$J$6:$J$1565,Schedule!$D$6:$D$1565,"<="&B46)) -> 0
...

Sheet Schedule
B2: Monthly schedule
B3: PMI stops once the balance falls to 78% of the home price. Add one-off extra payments in the tinted column.
B5: # | C5: Date | D5: Year | E5: Beginning balance | F5: Payment | G5: One-off extra | H5: Extra principal | I5: Interest | J5: Principal | K5: Ending balance | L5: Total interest | M5: PMI | N5: Equity
B6: =IF('Mortgage Calculator'!$D$21>0,1,"") -> 1 | C6: =IF(B6="","",EDATE('Mortgage Calculator'!$D$10,B6-1)) -> 0 | D6: =IF(B6="","",INT((B6-1)/12)+1) -> 0 | E6: =IF(B6="","",'Mortgage Calculator'!$D$21) -> 0 | F6: =IF(B6="","",IF(B6>='Mortgage Calculator'!$D$22,E6+I6,MIN('Mortgage Calculator'!$D$23,E6+I6))) -> 0 | H6: =IF(B6="","",MAX(0,MIN('Mortgage Calculator'!$D$17+N(G6),E6+I6-F6))) -> 0 | I6: =IF(B6="","",ROUND(E6*'Mortgage Calculator'!$D$8/12,2)) -> 0 | J6: =IF(B6="","",F6+H6-I6) -> 0 | K6: =IF(B6="","",ROUND(E6-J6,2)) -> 0 | L6: =IF(B6="","",I6) -> 0 | M6: =IF(B6="","",IF(AND('Mortgage Calculator'!$D$21/'Mortgage Calculator'!$D$6>0.8,E6/'Mortgage Calculator'!$D$6>0.78),ROUND('Mortgage Calculator'!$D$21*'Mortgage Calculator'!$D$15/12,2),0)) -> 0 | N6: =IF(B6="","",1-K6/'Mortgage Calculator'!$D$6) -> 0
B7: =IF(B6="","",IF(K6>0.005,B6+1,"")) -> 0 | C7: =IF(B7="","",EDATE('Mortgage Calculator'!$D$10,B7-1)) -> 0 | D7: =IF(B7="","",INT((B7-1)/12)+1) -> 0 | E7: =IF(B7="","",K6) -> 0 | F7: =IF(B7="","",IF(B7>='Mortgage Calculator'!$D$22,E7+I7,MIN('Mortgage Calculator'!$D$23,E7+I7))) -> 0 | H7: =IF(B7="","",MAX(0,MIN('Mortgage Calculator'!$D$17+N(G7),E7+I7-F7))) -> 0 | I7: =IF(B7="","",ROUND(E7*'Mortgage Calculator'!$D$8/12,2)) -> 0 | J7: =IF(B7="","",F7+H7-I7) -> 0 | K7: =IF(B7="","",ROUND(E7-J7,2)) -> 0 | L7: =IF(B7="","",L6+I7) -> 0 | M7: =IF(B7="","",IF(AND('Mortgage Calculator'!$D$21/'Mortgage Calculator'!$D$6>0.8,E7/'Mortgage Calculator'!$D$6>0.78),ROUND('Mortgage Calculator'!$D$21*'Mortgage Calculator'!$D$15/12,2),0)) -> 0 | N7: =IF(B7="","",1-K7/'Mortgage Calculator'!$D$6) -> 0
B8: =IF(B7="","",IF(K7>0.005,B7+1,"")) -> 0 | C8: =IF(B8="","",EDATE('Mortgage Calculator'!$D$10,B8-1)) -> 0 | D8: =IF(B8="","",INT((B8-1)/12)+1) -> 0 | E8: =IF(B8="","",K7) -> 0 | F8: =IF(B8="","",IF(B8>='Mortgage Calculator'!$D$22,E8+I8,MIN('Mortgage Calculator'!$D$23,E8+I8))) -> 0 | H8: =IF(B8="","",MAX(0,MIN('Mortgage Calculator'!$D$17+N(G8),E8+I8-F8))) -> 0 | I8: =IF(B8="","",ROUND(E8*'Mortgage Calculator'!$D$8/12,2)) -> 0 | J8: =IF(B8="","",F8+H8-I8) -> 0 | K8: =IF(B8="","",ROUND(E8-J8,2)) -> 0 | L8: =IF(B8="","",L7+I8) -> 0 | M8: =IF(B8="","",IF(AND('Mortgage Calculator'!$D$21/'Mortgage Calculator'!$D$6>0.8,E8/'Mortgage Calculator'!$D$6>0.78),ROUND('Mortgage Calculator'!$D$21*'Mortgage Calculator'!$D$15/12,2),0)) -> 0 | N8: =IF(B8="","",1-K8/'Mortgage Calculator'!$D$6) -> 0
B9: =IF(B8="","",IF(K8>0.005,B8+1,"")) -> 0 | C9: =IF(B9="","",EDATE('Mortgage Calculator'!$D$10,B9-1)) -> 0 | D9: =IF(B9="","",INT((B9-1)/12)+1) -> 0 | E9: =IF(B9="","",K8) -> 0 | F9: =IF(B9="","",IF(B9>='Mortgage Calculator'!$D$22,E9+I9,MIN('Mortgage Calculator'!$D$23,E9+I9))) -> 0 | H9: =IF(B9="","",MAX(0,MIN('Mortgage Calculator'!$D$17+N(G9),E9+I9-F9))) -> 0 | I9: =IF(B9="","",ROUND(E9*'Mortgage Calculator'!$D$8/12,2)) -> 0 | J9: =IF(B9="","",F9+H9-I9) -> 0 | K9: =IF(B9="","",ROUND(E9-J9,2)) -> 0 | L9: =IF(B9="","",L8+I9) -> 0 | M9: =IF(B9="","",IF(AND('Mortgage Calculator'!$D$21/'Mortgage Calculator'!$D$6>0.8,E9/'Mortgage Calculator'!$D$6>0.78),ROUND('Mortgage Calculator'!$D$21*'Mortgage Calculator'!$D$15/12,2),0)) -> 0 | N9: =IF(B9="","",1-K9/'Mortgage Calculator'!$D$6) -> 0
B10: =IF(B9="","",IF(K9>0.005,B9+1,"")) -> 0 | C10: =IF(B10="","",EDATE('Mortgage Calculator'!$D$10,B10-1)) -> 0 | D10: =IF(B10="","",INT((B10-1)/12)+1) -> 0 | E10: =IF(B10="","",K9) -> 0 | F10: =IF(B10="","",IF(B10>='Mortgage Calculator'!$D$22,E10+I10,MIN('Mortgage Calculator'!$D$23,E10+I10))) -> 0 | H10: =IF(B10="","",MAX(0,MIN('Mortgage Calculator'!$D$17+N(G10),E10+I10-F10))) -> 0 | I10: =IF(B10="","",ROUND(E10*'Mortgage Calculator'!$D$8/12,2)) -> 0 | J10: =IF(B10="","",F10+H10-I10) -> 0 | K10: =IF(B10="","",ROUND(E10-J10,2)) -> 0 | L10: =IF(B10="","",L9+I10) -> 0 | M10: =IF(B10="","",IF(AND('Mortgage Calculator'!$D$21/'Mortgage Calculator'!$D$6>0.8,E10/'Mortgage Calculator'!$D$6>0.78),ROUND('Mortgage Calculator'!$D$21*'Mortgage Calculator'!$D$15/12,2),0)) -> 0 | N10: =IF(B10="","",1-K10/'Mortgage Calculator'!$D$6) -> 0
B11: =IF(B10="","",IF(K10>0.005,B10+1,"")) -> 0 | C11: =IF(B11="","",EDATE('Mortgage Calculator'!$D$10,B11-1)) -> 0 | D11: =IF(B11="","",INT((B11-1)/12)+1) -> 0 | E11: =IF(B11="","",K10) -> 0 | F11: =IF(B11="","",IF(B11>='Mortgage Calculator'!$D$22,E11+I11,MIN('Mortgage Calculator'!$D$23,E11+I11))) -> 0 | H11: =IF(B11="","",MAX(0,MIN('Mortgage Calculator'!$D$17+N(G11),E11+I11-F11))) -> 0 | I11: =IF(B11="","",ROUND(E11*'Mortgage Calculator'!$D$8/12,2)) -> 0 | J11: =IF(B11="","",F11+H11-I11) -> 0 | K11: =IF(B11="","",ROUND(E11-J11,2)) -> 0 | L11: =IF(B11="","",L10+I11) -> 0 | M11: =IF(B11="","",IF(AND('Mortgage Calculator'!$D$21/'Mortgage Calculator'!$D$6>0.8,E11/'Mortgage Calculator'!$D$6>0.78),ROUND('Mortgage Calculator'!$D$21*'Mortgage Calculator'!$D$15/12,2),0)) -> 0 | N11: =IF(B11="","",1-K11/'Mortgage Calculator'!$D$6) -> 0
B12: =IF(B11="","",IF(K11>0.005,B11+1,"")) -> 0 | C12: =IF(B12="","",EDATE('Mortgage Calculator'!$D$10,B12-1)) -> 0 | D12: =IF(B12="","",INT((B12-1)/12)+1) -> 0 | E12: =IF(B12="","",K11) -> 0 | F12: =IF(B12="","",IF(B12>='Mortgage Calculator'!$D$22,E12+I12,MIN('Mortgage Calculator'!$D$23,E12+I12))) -> 0 | H12: =IF(B12="","",MAX(0,MIN('Mortgage Calculator'!$D$17+N(G12),E12+I12-F12))) -> 0 | I12: =IF(B12="","",ROUND(E12*'Mortgage Calculator'!$D$8/12,2)) -> 0 | J12: =IF(B12="","",F12+H12-I12) -> 0 | K12: =IF(B12="","",ROUND(E12-J12,2)) -> 0 | L12: =IF(B12="","",L11+I12) -> 0 | M12: =IF(B12="","",IF(AND('Mortgage Calculator'!$D$21/'Mortgage Calculator'!$D$6>0.8,E12/'Mortgage Calculator'!$D$6>0.78),ROUND('Mortgage Calculator'!$D$21*'Mortgage Calculator'!$D$15/12,2),0)) -> 0 | N12: =IF(B12="","",1-K12/'Mortgage Calculator'!$D$6) -> 0
B13: =IF(B12="","",IF(K12>0.005,B12+1,"")) -> 0 | C13: =IF(B13="","",EDATE('Mortgage Calculator'!$D$10,B13-1)) -> 0 | D13: =IF(B13="","",INT((B13-1)/12)+1) -> 0 | E13: =IF(B13="","",K12) -> 0 | F13: =IF(B13="","",IF(B13>='Mortgage Calculator'!$D$22,E13+I13,MIN('Mortgage Calculator'!$D$23,E13+I13))) -> 0 | H13: =IF(B13="","",MAX(0,MIN('Mortgage Calculator'!$D$17+N(G13),E13+I13-F13))) -> 0 | I13: =IF(B13="","",ROUND(E13*'Mortgage Calculator'!$D$8/12,2)) -> 0 | J13: =IF(B13="","",F13+H13-I13) -> 0 | K13: =IF(B13="","",ROUND(E13-J13,2)) -> 0 | L13: =IF(B13="","",L12+I13) -> 0 | M13: =IF(B13="","",IF(AND('Mortgage Calculator'!$D$21/'Mortgage Calculator'!$D$6>0.8,E13/'Mortgage Calculator'!$D$6>0.78),ROUND('Mortgage Calculator'!$D$21*'Mortgage Calculator'!$D$15/12,2),0)) -> 0 | N13: =IF(B13="","",1-K13/'Mortgage Calculator'!$D$6) -> 0
B14: =IF(B13="","",IF(K13>0.005,B13+1,"")) -> 0 | C14: =IF(B14="","",EDATE('Mortgage Calculator'!$D$10,B14-1)) -> 0 | D14: =IF(B14="","",INT((B14-1)/12)+1) -> 0 | E14: =IF(B14="","",K13) -> 0 | F14: =IF(B14="","",IF(B14>='Mortgage Calculator'!$D$22,E14+I14,MIN('Mortgage Calculator'!$D$23,E14+I14))) -> 0 | H14: =IF(B14="","",MAX(0,MIN('Mortgage Calculator'!$D$17+N(G14),E14+I14-F14))) -> 0 | I14: =IF(B14="","",ROUND(E14*'Mortgage Calculator'!$D$8/12,2)) -> 0 | J14: =IF(B14="","",F14+H14-I14) -> 0 | K14: =IF(B14="","",ROUND(E14-J14,2)) -> 0 | L14: =IF(B14="","",L13+I14) -> 0 | M14: =IF(B14="","",IF(AND('Mortgage Calculator'!$D$21/'Mortgage Calculator'!$D$6>0.8,E14/'Mortgage Calculator'!$D$6>0.78),ROUND('Mortgage Calculator'!$D$21*'Mortgage Calculator'!$D$15/12,2),0)) -> 0 | N14: =IF(B14="","",1-K14/'Mortgage Calculator'!$D$6) -> 0
B15: =IF(B14="","",IF(K14>0.005,B14+1,"")) -> 0 | C15: =IF(B15="","",EDATE('Mortgage Calculator'!$D$10,B15-1)) -> 0 | D15: =IF(B15="","",INT((B15-1)/12)+1) -> 0 | E15: =IF(B15="","",K14) -> 0 | F15: =IF(B15="","",IF(B15>='Mortgage Calculator'!$D$22,E15+I15,MIN('Mortgage Calculator'!$D$23,E15+I15))) -> 0 | H15: =IF(B15="","",MAX(0,MIN('Mortgage Calculator'!$D$17+N(G15),E15+I15-F15))) -> 0 | I15: =IF(B15="","",ROUND(E15*'Mortgage Calculator'!$D$8/12,2)) -> 0 | J15: =IF(B15="","",F15+H15-I15) -> 0 | K15: =IF(B15="","",ROUND(E15-J15,2)) -> 0 | L15: =IF(B15="","",L14+I15) -> 0 | M15: =IF(B15="","",IF(AND('Mortgage Calculator'!$D$21/'Mortgage Calculator'!$D$6>0.8,E15/'Mortgage Calculator'!$D$6>0.78),ROUND('Mortgage Calculator'!$D$21*'Mortgage Calculator'!$D$15/12,2),0)) -> 0 | N15: =IF(B15="","",1-K15/'Mortgage Calculator'!$D$6) -> 0
B16: =IF(B15="","",IF(K15>0.005,B15+1,"")) -> 0 | C16: =IF(B16="","",EDATE('Mortgage Calculator'!$D$10,B16-1)) -> 0 | D16: =IF(B16="","",INT((B16-1)/12)+1) -> 0 | E16: =IF(B16="","",K15) -> 0 | F16: =IF(B16="","",IF(B16>='Mortgage Calculator'!$D$22,E16+I16,MIN('Mortgage Calculator'!$D$23,E16+I16))) -> 0 | H16: =IF(B16="","",MAX(0,MIN('Mortgage Calculator'!$D$17+N(G16),E16+I16-F16))) -> 0 | I16: =IF(B16="","",ROUND(E16*'Mortgage Calculator'!$D$8/12,2)) -> 0 | J16: =IF(B16="","",F16+H16-I16) -> 0 | K16: =IF(B16="","",ROUND(E16-J16,2)) -> 0 | L16: =IF(B16="","",L15+I16) -> 0 | M16: =IF(B16="","",IF(AND('Mortgage Calculator'!$D$21/'Mortgage Calculator'!$D$6>0.8,E16/'Mortgage Calculator'!$D$6>0.78),ROUND('Mortgage Calculator'!$D$21*'Mortgage Calculator'!$D$15/12,2),0)) -> 0 | N16: =IF(B16="","",1-K16/'Mortgage Calculator'!$D$6) -> 0
B17: =IF(B16="","",IF(K16>0.005,B16+1,"")) -> 0 | C17: =IF(B17="","",EDATE('Mortgage Calculator'!$D$10,B17-1)) -> 0 | D17: =IF(B17="","",INT((B17-1)/12)+1) -> 0 | E17: =IF(B17="","",K16) -> 0 | F17: =IF(B17="","",IF(B17>='Mortgage Calculator'!$D$22,E17+I17,MIN('Mortgage Calculator'!$D$23,E17+I17))) -> 0 | H17: =IF(B17="","",MAX(0,MIN('Mortgage Calculator'!$D$17+N(G17),E17+I17-F17))) -> 0 | I17: =IF(B17="","",ROUND(E17*'Mortgage Calculator'!$D$8/12,2)) -> 0 | J17: =IF(B17="","",F17+H17-I17) -> 0 | K17: =IF(B17="","",ROUND(E17-J17,2)) -> 0 | L17: =IF(B17="","",L16+I17) -> 0 | M17: =IF(B17="","",IF(AND('Mortgage Calculator'!$D$21/'Mortgage Calculator'!$D$6>0.8,E17/'Mortgage Calculator'!$D$6>0.78),ROUND('Mortgage Calculator'!$D$21*'Mortgage Calculator'!$D$15/12,2),0)) -> 0 | N17: =IF(B17="","",1-K17/'Mortgage Calculator'!$D$6) -> 0
B18: =IF(B17="","",IF(K17>0.005,B17+1,"")) -> 0 | C18: =IF(B18="","",EDATE('Mortgage Calculator'!$D$10,B18-1)) -> 0 | D18: =IF(B18="","",INT((B18-1)/12)+1) -> 0 | E18: =IF(B18="","",K17) -> 0 | F18: =IF(B18="","",IF(B18>='Mortgage Calculator'!$D$22,E18+I18,MIN('Mortgage Calculator'!$D$23,E18+I18))) -> 0 | H18: =IF(B18="","",MAX(0,MIN('Mortgage Calculator'!$D$17+N(G18),E18+I18-F18))) -> 0 | I18: =IF(B18="","",ROUND(E18*'Mortgage Calculator'!$D$8/12,2)) -> 0 | J18: =IF(B18="","",F18+H18-I18) -> 0 | K18: =IF(B18="","",ROUND(E18-J18,2)) -> 0 | L18: =IF(B18="","",L17+I18) -> 0 | M18: =IF(B18="","",IF(AND('Mortgage Calculator'!$D$21/'Mortgage Calculator'!$D$6>0.8,E18/'Mortgage Calculator'!$D$6>0.78),ROUND('Mortgage Calculator'!$D$21*'Mortgage Calculator'!$D$15/12,2),0)) -> 0 | N18: =IF(B18="","",1-K18/'Mortgage Calculator'!$D$6) -> 0
... B1565: =IF(B1564="","",IF(K1564>0.005,B1564+1,"")) -> 0 | C1565: =IF(B1565="","",EDATE('Mortgage Calculator'!$D$10,B1565-1)) -> 0 | D1565: =IF(B1565="","",INT((B1565-1)/12)+1) -> 0 | E1565: =IF(B1565="","",K1564) -> 0 | F1565: =IF(B1565="","",IF(B1565>='Mortgage Calculator'!$D$22,E1565+I1565,MIN('Mortgage Calculator'!$D$23,E1565+I1565))) -> 0 | H1565: =IF(B1565="","",MAX(0,MIN('Mortgage Calculator'!$D$17+N(G1565),E1565+I1565-F1565))) -> 0 | I1565: =IF(B1565="","",ROUND(E1565*'Mortgage Calculator'!$D$8/12,2)) -> 0 | J1565: =IF(B1565="","",F1565+H1565-I1565) -> 0 | K1565: =IF(B1565="","",ROUND(E1565-J1565,2)) -> 0 | L1565: =IF(B1565="","",L1564+I1565) -> 0 | M1565: =IF(B1565="","",IF(AND('Mortgage Calculator'!$D$21/'Mortgage Calculator'!$D$6>0.8,E1565/'Mortgage Calculator'!$D$6>0.78),ROUND('Mortgage Calculator'!$D$21*'Mortgage Calculator'!$D$15/12,2),0)) -> 0 | N1565: =IF(B1565="","",1-K1565/'Mortgage Calculator'!$D$6) -> 0

Sheet How to use
B2: Mortgage Calculator — how to use
B3: Estimate your full monthly house payment and see the whole loan month by month.
B5: HOW TO USE
B6: 1 | C6: Enter the home price, down payment %, interest rate, term and first payment date.
B7: 2 | C7: Fill in property tax (as a % of the price per year), home insurance per year, PMI rate and HOA dues. Use 0 for anything that does not apply.
B8: 3 | C8: Read your total monthly payment and its breakdown. The Schedule tab shows every payment, PMI and your equity.
B9: 4 | C9: Try an extra monthly principal amount to see the new payoff date and total interest.
B11: CELL LEGEND
C12: Tinted cells are inputs — type over the sample values.
C13: Everything else is calculated. Formula cells update automatically; please leave them as they are.
B15: GOOD TO KNOW
B16: • | C16: PMI is charged when the down payment is under 20% and drops off automatically when the balance reaches 78% of the home price (US rules for conventional loans).
B17: • | C17: Property tax and insurance are shown as flat monthly amounts; in real life they change each year.
B18: • | C18: Sheets are protected without a password (Review → Unprotect Sheet) so formulas are safe from accidental typing.
B19: • | C19: For planning only — your lender’s Loan Estimate is the final word.
B21: Works in Excel, Google Sheets (File → Import) and LibreOffice. No macros.
B22: Free for personal and commercial use · niftyshelf.com
