Workbook

Sheet Wedding Budget
B2: Wedding Budget
B3: Plan every category, track deposits and see what is still due before the big day.
B5: Wedding date | D5: 46648 | F5: DAYS TO GO | G5: PROJECTED | H5: PAID SO FAR | I5: STILL DUE | J5: LEFT IN BUDGET
B6: Total budget | D6: 32000 | F6: =MAX(0,$D$5-TODAY()) -> None | G6: =E35 -> None | H6: =G33 -> None | I6: =H33 -> None | J6: =E36 -> None
B7: Guest count | D7: 110
B10: Category | C10: Typical % | D10: Suggested | E10: Estimate | F10: Actual (contract) | G10: Paid | H10: Still due | I10: Over / under | J10: Vendor & notes
B11: Venue & rentals | C11: 0.2 | D11: =IF(B11="","",$D$6*N(C11)) -> 0 | E11: 6800 | F11: 6500 | G11: =IF(B11="","",SUMIFS(Payments!$E$6:$E$205,Payments!$D$6:$D$205,B11)) -> 0 | H11: =IF(B11="","",MAX(0,IF(N(F11)>0,F11,N(E11))-G11)) -> 0 | I11: =IF(OR(B11="",N(F11)=0),"",F11-N(E11)) -> 0
B12: Catering | C12: 0.25 | D12: =IF(B12="","",$D$6*N(C12)) -> 0 | E12: 7500 | F12: 7820 | G12: =IF(B12="","",SUMIFS(Payments!$E$6:$E$205,Payments!$D$6:$D$205,B12)) -> 0 | H12: =IF(B12="","",MAX(0,IF(N(F12)>0,F12,N(E12))-G12)) -> 0 | I12: =IF(OR(B12="",N(F12)=0),"",F12-N(E12)) -> 0
B13: Bar & drinks | C13: 0.06 | D13: =IF(B13="","",$D$6*N(C13)) -> 0 | E13: 1800 | G13: =IF(B13="","",SUMIFS(Payments!$E$6:$E$205,Payments!$D$6:$D$205,B13)) -> 0 | H13: =IF(B13="","",MAX(0,IF(N(F13)>0,F13,N(E13))-G13)) -> 0 | I13: =IF(OR(B13="",N(F13)=0),"",F13-N(E13)) -> 0
B14: Photography | C14: 0.1 | D14: =IF(B14="","",$D$6*N(C14)) -> 0 | E14: 3000 | F14: 3200 | G14: =IF(B14="","",SUMIFS(Payments!$E$6:$E$205,Payments!$D$6:$D$205,B14)) -> 0 | H14: =IF(B14="","",MAX(0,IF(N(F14)>0,F14,N(E14))-G14)) -> 0 | I14: =IF(OR(B14="",N(F14)=0),"",F14-N(E14)) -> 0
B15: Videography | C15: 0.04 | D15: =IF(B15="","",$D$6*N(C15)) -> 0 | E15: 1200 | G15: =IF(B15="","",SUMIFS(Payments!$E$6:$E$205,Payments!$D$6:$D$205,B15)) -> 0 | H15: =IF(B15="","",MAX(0,IF(N(F15)>0,F15,N(E15))-G15)) -> 0 | I15: =IF(OR(B15="",N(F15)=0),"",F15-N(E15)) -> 0
B16: Attire & accessories | C16: 0.07 | D16: =IF(B16="","",$D$6*N(C16)) -> 0 | E16: 2100 | F16: 1650 | G16: =IF(B16="","",SUMIFS(Payments!$E$6:$E$205,Payments!$D$6:$D$205,B16)) -> 0 | H16: =IF(B16="","",MAX(0,IF(N(F16)>0,F16,N(E16))-G16)) -> 0 | I16: =IF(OR(B16="",N(F16)=0),"",F16-N(E16)) -> 0
B17: Flowers & decor | C17: 0.08 | D17: =IF(B17="","",$D$6*N(C17)) -> 0 | E17: 2200 | G17: =IF(B17="","",SUMIFS(Payments!$E$6:$E$205,Payments!$D$6:$D$205,B17)) -> 0 | H17: =IF(B17="","",MAX(0,IF(N(F17)>0,F17,N(E17))-G17)) -> 0 | I17: =IF(OR(B17="",N(F17)=0),"",F17-N(E17)) -> 0
B18: Music / DJ / band | C18: 0.05 | D18: =IF(B18="","",$D$6*N(C18)) -> 0 | E18: 1500 | F18: 1400 | G18: =IF(B18="","",SUMIFS(Payments!$E$6:$E$205,Payments!$D$6:$D$205,B18)) -> 0 | H18: =IF(B18="","",MAX(0,IF(N(F18)>0,F18,N(E18))-G18)) -> 0 | I18: =IF(OR(B18="",N(F18)=0),"",F18-N(E18)) -> 0
B19: Cake & desserts | C19: 0.02 | D19: =IF(B19="","",$D$6*N(C19)) -> 0 | E19: 600 | G19: =IF(B19="","",SUMIFS(Payments!$E$6:$E$205,Payments!$D$6:$D$205,B19)) -> 0 | H19: =IF(B19="","",MAX(0,IF(N(F19)>0,F19,N(E19))-G19)) -> 0 | I19: =IF(OR(B19="",N(F19)=0),"",F19-N(E19)) -> 0
B20: Hair & makeup | C20: 0.02 | D20: =IF(B20="","",$D$6*N(C20)) -> 0 | E20: 600 | G20: =IF(B20="","",SUMIFS(Payments!$E$6:$E$205,Payments!$D$6:$D$205,B20)) -> 0 | H20: =IF(B20="","",MAX(0,IF(N(F20)>0,F20,N(E20))-G20)) -> 0 | I20: =IF(OR(B20="",N(F20)=0),"",F20-N(E20)) -> 0
B21: Invitations & stationery | C21: 0.02 | D21: =IF(B21="","",$D$6*N(C21)) -> 0 | E21: 500 | F21: 460 | G21: =IF(B21="","",SUMIFS(Payments!$E$6:$E$205,Payments!$D$6:$D$205,B21)) -> 0 | H21: =IF(B21="","",MAX(0,IF(N(F21)>0,F21,N(E21))-G21)) -> 0 | I21: =IF(OR(B21="",N(F21)=0),"",F21-N(E21)) -> 0
B22: Rings | C22: 0.03 | D22: =IF(B22="","",$D$6*N(C22)) -> 0 | E22: 900 | F22: 950 | G22: =IF(B22="","",SUMIFS(Payments!$E$6:$E$205,Payments!$D$6:$D$205,B22)) -> 0 | H22: =IF(B22="","",MAX(0,IF(N(F22)>0,F22,N(E22))-G22)) -> 0 | I22: =IF(OR(B22="",N(F22)=0),"",F22-N(E22)) -> 0
B23: Officiant & license | C23: 0.01 | D23: =IF(B23="","",$D$6*N(C23)) -> 0 | E23: 350 | F23: 300 | G23: =IF(B23="","",SUMIFS(Payments!$E$6:$E$205,Payments!$D$6:$D$205,B23)) -> 0 | H23: =IF(B23="","",MAX(0,IF(N(F23)>0,F23,N(E23))-G23)) -> 0 | I23: =IF(OR(B23="",N(F23)=0),"",F23-N(E23)) -> 0
B24: Transportation | C24: 0.01 | D24: =IF(B24="","",$D$6*N(C24)) -> 0 | E24: 300 | G24: =IF(B24="","",SUMIFS(Payments!$E$6:$E$205,Payments!$D$6:$D$205,B24)) -> 0 | H24: =IF(B24="","",MAX(0,IF(N(F24)>0,F24,N(E24))-G24)) -> 0 | I24: =IF(OR(B24="",N(F24)=0),"",F24-N(E24)) -> 0
B25: Favors & gifts | C25: 0.02 | D25: =IF(B25="","",$D$6*N(C25)) -> 0 | E25: 450 | G25: =IF(B25="","",SUMIFS(Payments!$E$6:$E$205,Payments!$D$6:$D$205,B25)) -> 0 | H25: =IF(B25="","",MAX(0,IF(N(F25)>0,F25,N(E25))-G25)) -> 0 | I25: =IF(OR(B25="",N(F25)=0),"",F25-N(E25)) -> 0
B26: Planner / coordinator | C26: 0.02 | D26: =IF(B26="","",$D$6*N(C26)) -> 0 | E26: 600 | G26: =IF(B26="","",SUMIFS(Payments!$E$6:$E$205,Payments!$D$6:$D$205,B26)) -> 0 | H26: =IF(B26="","",MAX(0,IF(N(F26)>0,F26,N(E26))-G26)) -> 0 | I26: =IF(OR(B26="",N(F26)=0),"",F26-N(E26)) -> 0
B27: Other / buffer | C27: 0 | D27: =IF(B27="","",$D$6*N(C27)) -> 0 | E27: 0 | G27: =IF(B27="","",SUMIFS(Payments!$E$6:$E$205,Payments!$D$6:$D$205,B27)) -> 0 | H27: =IF(B27="","",MAX(0,IF(N(F27)>0,F27,N(E27))-G27)) -> 0 | I27: =IF(OR(B27="",N(F27)=0),"",F27-N(E27)) -> 0
D28: =IF(B28="","",$D$6*N(C28)) -> 0 | G28: =IF(B28="","",SUMIFS(Payments!$E$6:$E$205,Payments!$D$6:$D$205,B28)) -> 0 | H28: =IF(B28="","",MAX(0,IF(N(F28)>0,F28,N(E28))-G28)) -> 0 | I28: =IF(OR(B28="",N(F28)=0),"",F28-N(E28)) -> 0
D29: =IF(B29="","",$D$6*N(C29)) -> 0 | G29: =IF(B29="","",SUMIFS(Payments!$E$6:$E$205,Payments!$D$6:$D$205,B29)) -> 0 | H29: =IF(B29="","",MAX(0,IF(N(F29)>0,F29,N(E29))-G29)) -> 0 | I29: =IF(OR(B29="",N(F29)=0),"",F29-N(E29)) -> 0
D30: =IF(B30="","",$D$6*N(C30)) -> 0 | G30: =IF(B30="","",SUMIFS(Payments!$E$6:$E$205,Payments!$D$6:$D$205,B30)) -> 0 | H30: =IF(B30="","",MAX(0,IF(N(F30)>0,F30,N(E30))-G30)) -> 0 | I30: =IF(OR(B30="",N(F30)=0),"",F30-N(E30)) -> 0
D31: =IF(B31="","",$D$6*N(C31)) -> 0 | G31: =IF(B31="","",SUMIFS(Payments!$E$6:$E$205,Payments!$D$6:$D$205,B31)) -> 0 | H31: =IF(B31="","",MAX(0,IF(N(F31)>0,F31,N(E31))-G31)) -> 0 | I31: =IF(OR(B31="",N(F31)=0),"",F31-N(E31)) -> 0
D32: =IF(B32="","",$D$6*N(C32)) -> 0 | G32: =IF(B32="","",SUMIFS(Payments!$E$6:$E$205,Payments!$D$6:$D$205,B32)) -> 0 | H32: =IF(B32="","",MAX(0,IF(N(F32)>0,F32,N(E32))-G32)) -> 0 | I32: =IF(OR(B32="",N(F32)=0),"",F32-N(E32)) -> 0
B33: Total | C33: =SUM(C11:C32) -> 0 | D33: =SUM(D11:D32) -> 0 | E33: =SUM(E11:E32) -> 0 | F33: =SUM(F11:F32) -> 0 | G33: =SUM(G11:G32) -> 0 | H33: =SUM(H11:H32) -> 0 | I33: =SUMIF(I11:I32,"<>") -> 0
B35: Projected total (booked + estimates) | E35: =G33+H33 -> 0 | F35: ← paid + still due
B36: Left in budget | E36: =$D$6-E35 -> 0
B37: Cost per guest | E37: =IFERROR(E35/$D$7,0) -> 0

Sheet Payments
B2: Payments & deposits
B3: Log every deposit and payment. Paid and Still due on the budget tab update from here.
B5: Date | C5: What for | D5: Category | E5: Amount | F5: Paid with | G5: Notes
B6: 46328 | C6: Venue deposit | D6: Venue & rentals | E6: 2000 | F6: Bank transfer
B7: 46346 | C7: Photographer retainer | D7: Photography | E7: 800 | F7: Credit card
B8: 46366 | C8: DJ deposit | D8: Music / DJ / band | E8: 400 | F8: Credit card
B9: 46402 | C9: Dress deposit | D9: Attire & accessories | E9: 700 | F9: Credit card
B10: 46421 | C10: Caterer deposit | D10: Catering | E10: 2000 | F10: Bank transfer
B11: 46447 | C11: Save-the-dates & invites | D11: Invitations & stationery | E11: 460 | F11: Credit card
B12: 46468 | C12: Rings | D12: Rings | E12: 950 | F12: Credit card
B13: 46482 | C13: Officiant | D13: Officiant & license | E13: 150 | F13: Credit card
B14: 46508 | C14: Venue 2nd payment | D14: Venue & rentals | E14: 2000 | F14: Bank transfer

Sheet How to use
B2: Wedding Budget — how to use
B3: A complete wedding budget: typical category splits, estimates vs contracts, deposits, what is still due and cost per guest.
B5: HOW TO USE
B6: 1 | C6: Enter the wedding date, your total budget and the guest count.
B7: 2 | C7: Start with the Suggested column (typical % of the budget) and type your own Estimate for each category.
B8: 3 | C8: When you book a vendor, put the contract total in Actual. Over / under shows the difference vs your estimate.
B9: 4 | C9: Log every deposit and payment on the Payments tab. Paid and Still due update automatically.
B10: 5 | C10: Keep an eye on “Left in budget” — it uses contract amounts where you have them and estimates everywhere else.
B12: CELL LEGEND
C13: Tinted cells are inputs — type over the sample values.
C14: Everything else is calculated. Formula cells update automatically; please leave them as they are.
B16: GOOD TO KNOW
B17: • | C17: The typical % split is a starting point only. Change any % or category to fit your plans — the total should stay around 100%.
B18: • | C18: Days to go counts down from today’s date.
B19: • | C19: Add vendor names, phone numbers and due dates in the Vendor & notes column.
B21: Works in Excel, Google Sheets (File → Import) and LibreOffice. No macros.
B22: Free for personal and commercial use · niftyshelf.com
